{"text_format":"1","workbook":"xlsx","n_sheets":6,"sheets":["Dados_2.11.2019","Resultados_2.11.2019","Configurações","Dados","Resultados","PLXDAQ_new_Settings"],"not_rendered":{"charts":0,"images":0,"macros":1,"external_links":0,"defined_names":3,"comments":0,"pivot_tables":0},"unopened":[],"bounds":{"document_bytes":16777216,"sheet_cells":100000,"rows_first":2000,"rows_last":500,"rows_between":2000,"halvings":0,"cell_chars":16384,"cell_head_chars":4096},"cells_cut":0,"cells_raw":0,"read":"whole","date_system":"1900"}

{"sheet":"Dados_2.11.2019","index":0,"n_rows":938,"n_cols":3,"rows_kept":938,"cut":false,"hidden":false,"merged":[]}
["Data","Hora","Potencia ativa (kW)"]
["2019-11-20","23:23:17",33]
["2019-11-20","23:23:17",36]
["2019-11-20","23:23:17",39]
["2019-11-20","23:23:17",6]
["2019-11-20","23:23:18",30]
["2019-11-20","23:23:18",32]
["2019-11-20","23:23:18",37]
["2019-11-20","23:23:18",13]
["2019-11-20","23:23:18",12]
["2019-11-20","23:23:19",14]
["2019-11-20","23:23:19",14]
["2019-11-20","23:23:19",34]
["2019-11-20","23:23:19",39]
["2019-11-20","23:23:19",16]
["2019-11-20","23:23:20",16]
["2019-11-20","23:23:20",21]
["2019-11-20","23:23:20",29]
["2019-11-20","23:23:20",21]
["2019-11-20","23:23:20",26]
["2019-11-20","23:23:21",7]
["2019-11-20","23:23:21",22]
["2019-11-20","23:23:21",39]
["2019-11-20","23:23:21",25]
["2019-11-20","23:23:21",25]
["2019-11-20","23:23:22",10]
["2019-11-20","23:23:22",30]
["2019-11-20","23:23:22",23]
["2019-11-20","23:23:22",14]
["2019-11-20","23:23:22",21]
["2019-11-20","23:23:23",38]
["2019-11-20","23:23:23",22]
["2019-11-20","23:23:23",37]
["2019-11-20","23:23:23",28]
["2019-11-20","23:23:23",15]
["2019-11-20","23:23:24",29]
["2019-11-20","23:23:24",15]
["2019-11-20","23:23:24",15]
["2019-11-20","23:23:24",7]
["2019-11-20","23:23:24",12]
["2019-11-20","23:23:25",39]
["2019-11-20","23:23:25",25]
["2019-11-20","23:23:25",37]
["2019-11-20","23:23:25",7]
["2019-11-20","23:23:25",32]
["2019-11-20","23:23:26",12]
["2019-11-20","23:23:26",16]
["2019-11-20","23:23:26",10]
["2019-11-20","23:23:26",23]
["2019-11-20","23:23:26",38]
["2019-11-20","23:23:27",6]
["2019-11-20","23:23:27",23]
["2019-11-20","23:23:27",35]
["2019-11-20","23:23:27",33]
["2019-11-20","23:23:27",17]
["2019-11-20","23:23:28",38]
["2019-11-20","23:23:28",39]
["2019-11-20","23:23:28",11]
["2019-11-20","23:23:28",28]
["2019-11-20","23:23:28",37]
["2019-11-20","23:23:29",28]
["2019-11-20","23:23:29",39]
["2019-11-20","23:23:29",17]
["2019-11-20","23:23:29",11]
["2019-11-20","23:23:29",21]
["2019-11-20","23:23:30",15]
["2019-11-20","23:23:30",33]
["2019-11-20","23:23:30",7]
["2019-11-20","23:23:30",21]
["2019-11-20","23:23:30",21]
["2019-11-20","23:23:31",37]
["2019-11-20","23:23:31",5]
["2019-11-20","23:23:31",31]
["2019-11-20","23:23:31",7]
["2019-11-20","23:23:31",8]
["2019-11-20","23:23:32",24]
["2019-11-20","23:23:32",9]
["2019-11-20","23:23:32",21]
["2019-11-20","23:23:32",21]
["2019-11-20","23:23:32",22]
["2019-11-20","23:23:33",24]
["2019-11-20","23:23:33",39]
["2019-11-20","23:23:33",29]
["2019-11-20","23:23:33",23]
["2019-11-20","23:23:33",34]
["2019-11-20","23:23:34",35]
["2019-11-20","23:23:34",33]
["2019-11-20","23:23:34",35]
["2019-11-20","23:23:34",17]
["2019-11-20","23:23:34",11]
["2019-11-20","23:23:35",29]
["2019-11-20","23:23:35",19]
["2019-11-20","23:23:35",24]
["2019-11-20","23:23:35",16]
["2019-11-20","23:23:35",5]
["2019-11-20","23:23:36",30]
["2019-11-20","23:23:36",10]
["2019-11-20","23:23:36",33]
["2019-11-20","23:23:36",11]
["2019-11-20","23:23:36",8]
["2019-11-20","23:23:37",18]
["2019-11-20","23:23:37",25]
["2019-11-20","23:23:37",8]
["2019-11-20","23:23:37",34]
["2019-11-20","23:23:37",34]
["2019-11-20","23:23:38",26]
["2019-11-20","23:23:38",34]
["2019-11-20","23:23:38",19]
["2019-11-20","23:23:38",13]
["2019-11-20","23:23:38",25]
["2019-11-20","23:23:39",10]
["2019-11-20","23:23:39",19]
["2019-11-20","23:23:39",9]
["2019-11-20","23:23:39",30]
["2019-11-20","23:23:39",18]
["2019-11-20","23:23:40",8]
["2019-11-20","23:23:40",7]
["2019-11-20","23:23:40",15]
["2019-11-20","23:23:40",10]
["2019-11-20","23:23:40",12]
["2019-11-20","23:23:41",6]
["2019-11-20","23:23:41",39]
["2019-11-20","23:23:41",31]
["2019-11-20","23:23:41",36]
["2019-11-20","23:23:41",17]
["2019-11-20","23:23:42",15]
["2019-11-20","23:23:42",28]
["2019-11-20","23:23:42",27]
["2019-11-20","23:23:42",9]
["2019-11-20","23:23:42",25]
["2019-11-20","23:23:43",28]
["2019-11-20","23:23:43",24]
["2019-11-20","23:23:43",29]
["2019-11-20","23:23:43",5]
["2019-11-20","23:23:43",20]
["2019-11-20","23:23:44",12]
["2019-11-20","23:23:44",14]
["2019-11-20","23:23:44",5]
["2019-11-20","23:23:44",14]
["2019-11-20","23:23:44",38]
["2019-11-20","23:23:45",39]
["2019-11-20","23:23:45",31]
["2019-11-20","23:23:45",25]
["2019-11-20","23:23:45",15]
["2019-11-20","23:23:45",24]
["2019-11-20","23:23:46",19]
["2019-11-20","23:23:46",36]
["2019-11-20","23:23:46",35]
["2019-11-20","23:23:46",21]
["2019-11-20","23:23:46",25]
["2019-11-20","23:23:47",6]
["2019-11-20","23:23:47",30]
["2019-11-20","23:23:47",9]
["2019-11-20","23:23:47",11]
["2019-11-20","23:23:47",7]
["2019-11-20","23:23:48",38]
["2019-11-20","23:23:48",15]
["2019-11-20","23:23:48",25]
["2019-11-20","23:23:48",37]
["2019-11-20","23:23:48",6]
["2019-11-20","23:23:49",21]
["2019-11-20","23:23:49",11]
["2019-11-20","23:23:49",11]
["2019-11-20","23:23:49",23]
["2019-11-20","23:23:49",13]
["2019-11-20","23:23:50",35]
["2019-11-20","23:23:50",9]
["2019-11-20","23:23:50",16]
["2019-11-20","23:23:50",5]
["2019-11-20","23:23:50",28]
["2019-11-20","23:23:51",10]
["2019-11-20","23:23:51",16]
["2019-11-20","23:23:51",13]
["2019-11-20","23:23:51",16]
["2019-11-20","23:23:51",17]
["2019-11-20","23:23:52",31]
["2019-11-20","23:23:52",20]
["2019-11-20","23:23:52",28]
["2019-11-20","23:23:52",39]
["2019-11-20","23:23:52",35]
["2019-11-20","23:23:53",16]
["2019-11-20","23:23:53",16]
["2019-11-20","23:23:53",23]
["2019-11-20","23:23:53",12]
["2019-11-20","23:23:53",6]
["2019-11-20","23:23:54",26]
["2019-11-20","23:23:54",10]
["2019-11-20","23:23:54",19]
["2019-11-20","23:23:54",27]
["2019-11-20","23:23:54",10]
["2019-11-20","23:23:55",7]
["2019-11-20","23:23:55",12]
["2019-11-20","23:23:55",27]
["2019-11-20","23:23:55",11]
["2019-11-20","23:23:55",20]
["2019-11-20","23:23:56",9]
["2019-11-20","23:23:56",23]
["2019-11-20","23:23:56",30]
["2019-11-20","23:23:56",29]
["2019-11-20","23:23:56",26]
["2019-11-20","23:23:57",36]
["2019-11-20","23:23:57",18]
["2019-11-20","23:23:57",34]
["2019-11-20","23:23:57",20]
["2019-11-20","23:23:57",39]
["2019-11-20","23:23:58",16]
["2019-11-20","23:23:58",18]
["2019-11-20","23:23:58",6]
["2019-11-20","23:23:58",14]
["2019-11-20","23:23:58",38]
["2019-11-20","23:23:59",16]
["2019-11-20","23:23:59",32]
["2019-11-20","23:23:59",23]
["2019-11-20","23:23:59",6]
["2019-11-20","23:23:59",5]
["2019-11-20","23:24:00",6]
["2019-11-20","23:24:00",7]
["2019-11-20","23:24:00",29]
["2019-11-20","23:24:00",34]
["2019-11-20","23:24:00",38]
["2019-11-20","23:24:01",9]
["2019-11-20","23:24:01",18]
["2019-11-20","23:24:01",31]
["2019-11-20","23:24:01",36]
["2019-11-20","23:24:01",19]
["2019-11-20","23:24:02",37]
["2019-11-20","23:24:02",14]
["2019-11-20","23:24:02",20]
["2019-11-20","23:24:02",17]
["2019-11-20","23:24:02",31]
["2019-11-20","23:24:03",14]
["2019-11-20","23:24:03",10]
["2019-11-20","23:24:03",9]
["2019-11-20","23:24:03",33]
["2019-11-20","23:24:03",11]
["2019-11-20","23:24:04",21]
["2019-11-20","23:24:04",15]
["2019-11-20","23:24:04",38]
["2019-11-20","23:24:04",7]
["2019-11-20","23:24:04",39]
["2019-11-20","23:24:05",20]
["2019-11-20","23:24:05",37]
["2019-11-20","23:24:05",16]
["2019-11-20","23:24:05",39]
["2019-11-20","23:24:05",31]
["2019-11-20","23:24:06",18]
["2019-11-20","23:24:06",19]
["2019-11-20","23:24:06",11]
["2019-11-20","23:24:06",24]
["2019-11-20","23:24:06",12]
["2019-11-20","23:24:07",35]
["2019-11-20","23:24:07",21]
["2019-11-20","23:24:07",39]
["2019-11-20","23:24:07",22]
["2019-11-20","23:24:07",15]
["2019-11-20","23:24:08",15]
["2019-11-20","23:24:08",23]
["2019-11-20","23:24:08",14]
["2019-11-20","23:24:08",22]
["2019-11-20","23:24:08",17]
["2019-11-20","23:24:09",13]
["2019-11-20","23:24:09",32]
["2019-11-20","23:24:09",7]
["2019-11-20","23:24:09",15]
["2019-11-20","23:24:09",33]
["2019-11-20","23:24:10",29]
["2019-11-20","23:24:10",15]
["2019-11-20","23:24:10",34]
["2019-11-20","23:24:10",23]
["2019-11-20","23:24:10",20]
["2019-11-20","23:24:11",27]
["2019-11-20","23:24:11",34]
["2019-11-20","23:24:11",22]
["2019-11-20","23:24:11",23]
["2019-11-20","23:24:11",39]
["2019-11-20","23:24:12",10]
["2019-11-20","23:24:12",31]
["2019-11-20","23:24:12",24]
["2019-11-20","23:24:12",35]
["2019-11-20","23:24:12",37]
["2019-11-20","23:24:13",5]
["2019-11-20","23:24:13",26]
["2019-11-20","23:24:13",6]
["2019-11-20","23:24:13",30]
["2019-11-20","23:24:13",25]
["2019-11-20","23:24:14",35]
["2019-11-20","23:24:14",32]
["2019-11-20","23:24:14",24]
["2019-11-20","23:24:14",16]
["2019-11-20","23:24:14",38]
["2019-11-20","23:24:15",23]
["2019-11-20","23:24:15",35]
["2019-11-20","23:24:15",38]
["2019-11-20","23:24:15",24]
["2019-11-20","23:24:15",5]
["2019-11-20","23:24:16",26]
["2019-11-20","23:24:16",37]
["2019-11-20","23:24:16",37]
["2019-11-20","23:24:16",10]
["2019-11-20","23:24:16",9]
["2019-11-20","23:24:17",23]
["2019-11-20","23:24:17",23]
["2019-11-20","23:24:17",33]
["2019-11-20","23:24:17",22]
["2019-11-20","23:24:17",35]
["2019-11-20","23:24:18",26]
["2019-11-20","23:24:18",16]
["2019-11-20","23:24:18",17]
["2019-11-20","23:24:18",38]
["2019-11-20","23:24:18",13]
["2019-11-20","23:24:19",20]
["2019-11-20","23:24:19",21]
["2019-11-20","23:24:19",13]
["2019-11-20","23:24:19",22]
["2019-11-20","23:24:19",7]
["2019-11-20","23:24:20",32]
["2019-11-20","23:24:20",32]
["2019-11-20","23:24:20",28]
["2019-11-20","23:24:20",20]
["2019-11-20","23:24:20",37]
["2019-11-20","23:24:21",35]
["2019-11-20","23:24:21",7]
["2019-11-20","23:24:21",27]
["2019-11-20","23:24:21",8]
["2019-11-20","23:24:22",26]
["2019-11-20","23:24:22",30]
["2019-11-20","23:24:22",7]
["2019-11-20","23:24:22",14]
["2019-11-20","23:24:22",7]
["2019-11-20","23:24:23",32]
["2019-11-20","23:24:23",5]
["2019-11-20","23:24:23",18]
["2019-11-20","23:24:23",26]
["2019-11-20","23:24:23",23]
["2019-11-20","23:24:24",30]
["2019-11-20","23:24:24",32]
["2019-11-20","23:24:24",16]
["2019-11-20","23:24:24",24]
["2019-11-20","23:24:24",16]
["2019-11-20","23:24:25",5]
["2019-11-20","23:24:25",21]
["2019-11-20","23:24:25",31]
["2019-11-20","23:24:25",29]
["2019-11-20","23:24:25",20]
["2019-11-20","23:24:26",37]
["2019-11-20","23:24:26",22]
["2019-11-20","23:24:26",33]
["2019-11-20","23:24:26",16]
["2019-11-20","23:24:26",21]
["2019-11-20","23:24:27",9]
["2019-11-20","23:24:27",37]
["2019-11-20","23:24:27",12]
["2019-11-20","23:24:27",26]
["2019-11-20","23:24:27",14]
["2019-11-20","23:24:28",13]
["2019-11-20","23:24:28",26]
["2019-11-20","23:24:28",32]
["2019-11-20","23:24:28",30]
["2019-11-20","23:24:28",25]
["2019-11-20","23:24:29",9]
["2019-11-20","23:24:29",23]
["2019-11-20","23:24:29",21]
["2019-11-20","23:24:29",32]
["2019-11-20","23:24:29",8]
["2019-11-20","23:24:30",39]
["2019-11-20","23:24:30",29]
["2019-11-20","23:24:30",38]
["2019-11-20","23:24:30",16]
["2019-11-20","23:24:30",39]
["2019-11-20","23:24:31",37]
["2019-11-20","23:24:31",33]
["2019-11-20","23:24:31",14]
["2019-11-20","23:24:31",29]
["2019-11-20","23:24:31",38]
["2019-11-20","23:24:32",7]
["2019-11-20","23:24:32",30]
["2019-11-20","23:24:32",33]
["2019-11-20","23:24:32",31]
["2019-11-20","23:24:32",27]
["2019-11-20","23:24:33",37]
["2019-11-20","23:24:33",22]
["2019-11-20","23:24:33",7]
["2019-11-20","23:24:33",31]
["2019-11-20","23:24:33",8]
["2019-11-20","23:24:34",17]
["2019-11-20","23:24:34",14]
["2019-11-20","23:24:34",10]
["2019-11-20","23:24:34",8]
["2019-11-20","23:24:34",17]
["2019-11-20","23:24:35",10]
["2019-11-20","23:24:35",22]
["2019-11-20","23:24:35",16]
["2019-11-20","23:24:35",18]
["2019-11-20","23:24:35",20]
["2019-11-20","23:24:36",15]
["2019-11-20","23:24:36",16]
["2019-11-20","23:24:36",12]
["2019-11-20","23:24:36",39]
["2019-11-20","23:24:36",39]
["2019-11-20","23:24:37",20]
["2019-11-20","23:24:37",16]
["2019-11-20","23:24:37",17]
["2019-11-20","23:24:37",38]
["2019-11-20","23:24:37",29]
["2019-11-20","23:24:38",6]
["2019-11-20","23:24:38",5]
["2019-11-20","23:24:38",30]
["2019-11-20","23:24:38",33]
["2019-11-20","23:24:38",26]
["2019-11-20","23:24:39",30]
["2019-11-20","23:24:39",27]
["2019-11-20","23:24:39",39]
["2019-11-20","23:24:39",29]
["2019-11-20","23:24:39",28]
["2019-11-20","23:24:40",31]
["2019-11-20","23:24:40",20]
["2019-11-20","23:24:40",32]
["2019-11-20","23:24:40",36]
["2019-11-20","23:24:40",18]
["2019-11-20","23:24:41",26]
["2019-11-20","23:24:41",32]
["2019-11-20","23:24:41",10]
["2019-11-20","23:24:41",21]
["2019-11-20","23:24:41",38]
["2019-11-20","23:24:42",8]
["2019-11-20","23:24:42",27]
["2019-11-20","23:24:42",32]
["2019-11-20","23:24:42",19]
["2019-11-20","23:24:42",13]
["2019-11-20","23:24:43",11]
["2019-11-20","23:24:43",16]
["2019-11-20","23:24:43",27]
["2019-11-20","23:24:43",37]
["2019-11-20","23:24:43",27]
["2019-11-20","23:24:44",18]
["2019-11-20","23:24:44",11]
["2019-11-20","23:24:44",30]
["2019-11-20","23:24:44",36]
["2019-11-20","23:24:44",8]
["2019-11-20","23:24:45",21]
["2019-11-20","23:24:45",37]
["2019-11-20","23:24:45",21]
["2019-11-20","23:24:45",28]
["2019-11-20","23:24:45",37]
["2019-11-20","23:24:46",25]
["2019-11-20","23:24:46",26]
["2019-11-20","23:24:46",6]
["2019-11-20","23:24:46",32]
["2019-11-20","23:24:46",26]
["2019-11-20","23:24:47",32]
["2019-11-20","23:24:47",6]
["2019-11-20","23:24:47",32]
["2019-11-20","23:24:47",24]
["2019-11-20","23:24:47",35]
["2019-11-20","23:24:48",14]
["2019-11-20","23:24:48",36]
["2019-11-20","23:24:48",14]
["2019-11-20","23:24:48",26]
["2019-11-20","23:24:48",39]
["2019-11-20","23:24:49",22]
["2019-11-20","23:24:49",31]
["2019-11-20","23:24:49",17]
["2019-11-20","23:24:49",10]
["2019-11-20","23:24:49",21]
["2019-11-20","23:24:50",37]
["2019-11-20","23:24:50",18]
["2019-11-20","23:24:50",19]
["2019-11-20","23:24:50",34]
["2019-11-20","23:24:50",36]
["2019-11-20","23:24:51",29]
["2019-11-20","23:24:51",34]
["2019-11-20","23:24:51",5]
["2019-11-20","23:24:51",16]
["2019-11-20","23:24:51",11]
["2019-11-20","23:24:52",25]
["2019-11-20","23:24:52",32]
["2019-11-20","23:24:52",38]
["2019-11-20","23:24:52",27]
["2019-11-20","23:24:52",38]
["2019-11-20","23:24:53",17]
["2019-11-20","23:24:53",27]
["2019-11-20","23:24:53",19]
["2019-11-20","23:24:53",29]
["2019-11-20","23:24:53",21]
["2019-11-20","23:24:54",17]
["2019-11-20","23:24:54",15]
["2019-11-20","23:24:54",20]
["2019-11-20","23:24:54",24]
["2019-11-20","23:24:54",20]
["2019-11-20","23:24:55",18]
["2019-11-20","23:24:55",9]
["2019-11-20","23:24:55",26]
["2019-11-20","23:24:55",36]
["2019-11-20","23:24:55",12]
["2019-11-20","23:24:56",39]
["2019-11-20","23:24:56",17]
["2019-11-20","23:24:56",26]
["2019-11-20","23:24:56",33]
["2019-11-20","23:24:56",13]
["2019-11-20","23:24:57",35]
["2019-11-20","23:24:57",15]
["2019-11-20","23:24:57",25]
["2019-11-20","23:24:57",26]
["2019-11-20","23:24:57",20]
["2019-11-20","23:24:58",28]
["2019-11-20","23:24:58",19]
["2019-11-20","23:24:58",18]
["2019-11-20","23:24:58",11]
["2019-11-20","23:24:58",27]
["2019-11-20","23:24:59",11]
["2019-11-20","23:24:59",18]
["2019-11-20","23:24:59",21]
["2019-11-20","23:24:59",35]
["2019-11-20","23:24:59",31]
["2019-11-20","23:25:00",21]
["2019-11-20","23:25:00",24]
["2019-11-20","23:25:00",24]
["2019-11-20","23:25:00",6]
["2019-11-20","23:25:00",13]
["2019-11-20","23:25:01",21]
["2019-11-20","23:25:01",23]
["2019-11-20","23:25:01",32]
["2019-11-20","23:25:01",11]
["2019-11-20","23:25:01",31]
["2019-11-20","23:25:02",23]
["2019-11-20","23:25:02",26]
["2019-11-20","23:25:02",38]
["2019-11-20","23:25:02",27]
["2019-11-20","23:25:02",39]
["2019-11-20","23:25:03",24]
["2019-11-20","23:25:03",29]
["2019-11-20","23:25:03",38]
["2019-11-20","23:25:03",39]
["2019-11-20","23:25:03",8]
["2019-11-20","23:25:04",12]
["2019-11-20","23:25:04",25]
["2019-11-20","23:25:04",9]
["2019-11-20","23:25:04",26]
["2019-11-20","23:25:04",24]
["2019-11-20","23:25:05",8]
["2019-11-20","23:25:05",24]
["2019-11-20","23:25:05",36]
["2019-11-20","23:25:05",14]
["2019-11-20","23:25:05",5]
["2019-11-20","23:25:06",21]
["2019-11-20","23:25:06",39]
["2019-11-20","23:25:06",10]
["2019-11-20","23:25:06",22]
["2019-11-20","23:25:06",5]
["2019-11-20","23:25:07",13]
["2019-11-20","23:25:07",23]
["2019-11-20","23:25:07",34]
["2019-11-20","23:25:07",32]
["2019-11-20","23:25:07",38]
["2019-11-20","23:25:08",14]
["2019-11-20","23:25:08",24]
["2019-11-20","23:25:08",39]
["2019-11-20","23:25:08",30]
["2019-11-20","23:25:08",6]
["2019-11-20","23:25:09",12]
["2019-11-20","23:25:09",15]
["2019-11-20","23:25:09",7]
["2019-11-20","23:25:09",9]
["2019-11-20","23:25:09",32]
["2019-11-20","23:25:10",28]
["2019-11-20","23:25:10",27]
["2019-11-20","23:25:10",39]
["2019-11-20","23:25:10",39]
["2019-11-20","23:25:10",22]
["2019-11-20","23:25:11",14]
["2019-11-20","23:25:11",34]
["2019-11-20","23:25:11",31]
["2019-11-20","23:25:11",22]
["2019-11-20","23:25:11",13]
["2019-11-20","23:25:12",23]
["2019-11-20","23:25:12",6]
["2019-11-20","23:25:12",12]
["2019-11-20","23:25:12",23]
["2019-11-20","23:25:12",27]
["2019-11-20","23:25:13",11]
["2019-11-20","23:25:13",38]
["2019-11-20","23:25:13",24]
["2019-11-20","23:25:13",15]
["2019-11-20","23:25:13",10]
["2019-11-20","23:25:14",6]
["2019-11-20","23:25:14",24]
["2019-11-20","23:25:14",39]
["2019-11-20","23:25:14",22]
["2019-11-20","23:25:14",37]
["2019-11-20","23:25:15",7]
["2019-11-20","23:25:15",30]
["2019-11-20","23:25:15",29]
["2019-11-20","23:25:15",29]
["2019-11-20","23:25:15",27]
["2019-11-20","23:25:16",9]
["2019-11-20","23:25:16",15]
["2019-11-20","23:25:16",20]
["2019-11-20","23:25:16",22]
["2019-11-20","23:25:16",21]
["2019-11-20","23:25:17",9]
["2019-11-20","23:25:17",18]
["2019-11-20","23:25:17",12]
["2019-11-20","23:25:17",36]
["2019-11-20","23:25:17",22]
["2019-11-20","23:25:18",10]
["2019-11-20","23:25:18",19]
["2019-11-20","23:25:18",14]
["2019-11-20","23:25:18",22]
["2019-11-20","23:25:18",16]
["2019-11-20","23:25:19",7]
["2019-11-20","23:25:19",38]
["2019-11-20","23:25:19",5]
["2019-11-20","23:25:19",7]
["2019-11-20","23:25:19",19]
["2019-11-20","23:25:20",33]
["2019-11-20","23:25:20",26]
["2019-11-20","23:25:20",21]
["2019-11-20","23:25:20",25]
["2019-11-20","23:25:20",19]
["2019-11-20","23:25:21",22]
["2019-11-20","23:25:21",23]
["2019-11-20","23:25:21",26]
["2019-11-20","23:25:21",10]
["2019-11-20","23:25:21",10]
["2019-11-20","23:25:22",24]
["2019-11-20","23:25:22",29]
["2019-11-20","23:25:22",30]
["2019-11-20","23:25:22",5]
["2019-11-20","23:25:22",29]
["2019-11-20","23:25:23",5]
["2019-11-20","23:25:23",12]
["2019-11-20","23:25:23",8]
["2019-11-20","23:25:23",30]
["2019-11-20","23:25:23",27]
["2019-11-20","23:25:24",33]
["2019-11-20","23:25:24",38]
["2019-11-20","23:25:24",29]
["2019-11-20","23:25:24",28]
["2019-11-20","23:25:24",21]
["2019-11-20","23:25:25",32]
["2019-11-20","23:25:25",32]
["2019-11-20","23:25:25",8]
["2019-11-20","23:25:25",5]
["2019-11-20","23:25:25",25]
["2019-11-20","23:25:26",31]
["2019-11-20","23:25:26",29]
["2019-11-20","23:25:26",36]
["2019-11-20","23:25:26",16]
["2019-11-20","23:25:26",23]
["2019-11-20","23:25:27",11]
["2019-11-20","23:25:27",7]
["2019-11-20","23:25:27",20]
["2019-11-20","23:25:27",30]
["2019-11-20","23:25:27",32]
["2019-11-20","23:25:28",24]
["2019-11-20","23:25:28",16]
["2019-11-20","23:25:28",36]
["2019-11-20","23:25:28",10]
["2019-11-20","23:25:28",33]
["2019-11-20","23:25:29",20]
["2019-11-20","23:25:29",13]
["2019-11-20","23:25:29",35]
["2019-11-20","23:25:29",25]
["2019-11-20","23:25:29",26]
["2019-11-20","23:25:30",9]
["2019-11-20","23:25:30",39]
["2019-11-20","23:25:30",8]
["2019-11-20","23:25:30",20]
["2019-11-20","23:25:30",20]
["2019-11-20","23:25:31",28]
["2019-11-20","23:25:31",8]
["2019-11-20","23:25:31",11]
["2019-11-20","23:25:31",20]
["2019-11-20","23:25:31",29]
["2019-11-20","23:25:32",22]
["2019-11-20","23:25:32",10]
["2019-11-20","23:25:32",10]
["2019-11-20","23:25:32",33]
["2019-11-20","23:25:32",10]
["2019-11-20","23:25:33",30]
["2019-11-20","23:25:33",25]
["2019-11-20","23:25:33",28]
["2019-11-20","23:25:33",18]
["2019-11-20","23:25:33",17]
["2019-11-20","23:25:34",30]
["2019-11-20","23:25:34",34]
["2019-11-20","23:25:34",30]
["2019-11-20","23:25:34",15]
["2019-11-20","23:25:34",8]
["2019-11-20","23:25:35",35]
["2019-11-20","23:25:35",16]
["2019-11-20","23:25:35",10]
["2019-11-20","23:25:35",11]
["2019-11-20","23:25:35",13]
["2019-11-20","23:25:36",38]
["2019-11-20","23:25:36",19]
["2019-11-20","23:25:36",9]
["2019-11-20","23:25:36",36]
["2019-11-20","23:25:36",7]
["2019-11-20","23:25:37",20]
["2019-11-20","23:25:37",35]
["2019-11-20","23:25:37",14]
["2019-11-20","23:25:37",28]
["2019-11-20","23:25:37",33]
["2019-11-20","23:25:38",31]
["2019-11-20","23:25:38",19]
["2019-11-20","23:25:38",23]
["2019-11-20","23:25:38",18]
["2019-11-20","23:25:38",13]
["2019-11-20","23:25:39",39]
["2019-11-20","23:25:39",22]
["2019-11-20","23:25:39",12]
["2019-11-20","23:25:39",12]
["2019-11-20","23:25:39",20]
["2019-11-20","23:25:40",18]
["2019-11-20","23:25:40",36]
["2019-11-20","23:25:40",16]
["2019-11-20","23:25:40",39]
["2019-11-20","23:25:40",5]
["2019-11-20","23:25:41",26]
["2019-11-20","23:25:41",26]
["2019-11-20","23:25:41",9]
["2019-11-20","23:25:41",30]
["2019-11-20","23:25:41",19]
["2019-11-20","23:25:42",33]
["2019-11-20","23:25:42",11]
["2019-11-20","23:25:42",34]
["2019-11-20","23:25:42",9]
["2019-11-20","23:25:42",8]
["2019-11-20","23:25:43",22]
["2019-11-20","23:25:43",23]
["2019-11-20","23:25:43",35]
["2019-11-20","23:25:43",5]
["2019-11-20","23:25:43",14]
["2019-11-20","23:25:44",13]
["2019-11-20","23:25:44",39]
["2019-11-20","23:25:44",35]
["2019-11-20","23:25:44",27]
["2019-11-20","23:25:44",27]
["2019-11-20","23:25:45",30]
["2019-11-20","23:25:45",12]
["2019-11-20","23:25:45",33]
["2019-11-20","23:25:45",14]
["2019-11-20","23:25:45",25]
["2019-11-20","23:25:46",32]
["2019-11-20","23:25:46",22]
["2019-11-20","23:25:46",38]
["2019-11-20","23:25:46",24]
["2019-11-20","23:25:46",37]
["2019-11-20","23:25:47",15]
["2019-11-20","23:25:47",24]
["2019-11-20","23:25:47",12]
["2019-11-20","23:25:47",29]
["2019-11-20","23:25:47",28]
["2019-11-20","23:25:48",30]
["2019-11-20","23:25:48",33]
["2019-11-20","23:25:48",31]
["2019-11-20","23:25:48",9]
["2019-11-20","23:25:48",39]
["2019-11-20","23:25:49",14]
["2019-11-20","23:25:49",32]
["2019-11-20","23:25:49",24]
["2019-11-20","23:25:49",19]
["2019-11-20","23:25:49",5]
["2019-11-20","23:25:50",35]
["2019-11-20","23:25:50",22]
["2019-11-20","23:25:50",27]
["2019-11-20","23:25:50",19]
["2019-11-20","23:25:50",39]
["2019-11-20","23:25:51",26]
["2019-11-20","23:25:51",27]
["2019-11-20","23:25:51",37]
["2019-11-20","23:25:51",14]
["2019-11-20","23:25:51",31]
["2019-11-20","23:25:52",39]
["2019-11-20","23:25:52",19]
["2019-11-20","23:25:52",12]
["2019-11-20","23:25:52",12]
["2019-11-20","23:25:52",27]
["2019-11-20","23:25:53",10]
["2019-11-20","23:25:53",33]
["2019-11-20","23:25:53",7]
["2019-11-20","23:25:53",14]
["2019-11-20","23:25:53",30]
["2019-11-20","23:25:54",30]
["2019-11-20","23:25:54",9]
["2019-11-20","23:25:54",31]
["2019-11-20","23:25:54",23]
["2019-11-20","23:25:55",5]
["2019-11-20","23:25:55",32]
["2019-11-20","23:25:55",9]
["2019-11-20","23:25:55",9]
["2019-11-20","23:25:55",26]
["2019-11-20","23:25:55",16]
["2019-11-20","23:25:56",39]
["2019-11-20","23:25:56",31]
["2019-11-20","23:25:56",39]
["2019-11-20","23:25:56",39]
["2019-11-20","23:25:57",26]
["2019-11-20","23:25:57",20]
["2019-11-20","23:25:57",25]
["2019-11-20","23:25:57",23]
["2019-11-20","23:25:57",12]
["2019-11-20","23:25:58",26]
["2019-11-20","23:25:58",25]
["2019-11-20","23:25:58",15]
["2019-11-20","23:25:58",22]
["2019-11-20","23:25:58",35]
["2019-11-20","23:25:59",10]
["2019-11-20","23:25:59",34]
["2019-11-20","23:25:59",19]
["2019-11-20","23:25:59",30]
["2019-11-20","23:25:59",34]
["2019-11-20","23:26:00",22]
["2019-11-20","23:26:00",21]
["2019-11-20","23:26:00",15]
["2019-11-20","23:26:00",28]
["2019-11-20","23:26:00",38]
["2019-11-20","23:26:01",23]
["2019-11-20","23:26:01",20]
["2019-11-20","23:26:01",28]
["2019-11-20","23:26:01",15]
["2019-11-20","23:26:01",27]
["2019-11-20","23:26:02",37]
["2019-11-20","23:26:02",34]
["2019-11-20","23:26:02",15]
["2019-11-20","23:26:02",36]
["2019-11-20","23:26:02",39]
["2019-11-20","23:26:03",14]
["2019-11-20","23:26:03",17]
["2019-11-20","23:26:03",17]
["2019-11-20","23:26:03",8]
["2019-11-20","23:26:03",12]
["2019-11-20","23:26:04",8]
["2019-11-20","23:26:04",26]
["2019-11-20","23:26:04",38]
["2019-11-20","23:26:04",15]
["2019-11-20","23:26:04",13]
["2019-11-20","23:26:05",22]
["2019-11-20","23:26:05",10]
["2019-11-20","23:26:05",22]
["2019-11-20","23:26:05",18]
["2019-11-20","23:26:05",30]
["2019-11-20","23:26:06",10]
["2019-11-20","23:26:06",11]
["2019-11-20","23:26:06",39]
["2019-11-20","23:26:06",33]
["2019-11-20","23:26:06",10]
["2019-11-20","23:26:07",12]
["2019-11-20","23:26:07",31]
["2019-11-20","23:26:07",39]
["2019-11-20","23:26:07",22]
["2019-11-20","23:26:07",23]
["2019-11-20","23:26:08",29]
["2019-11-20","23:26:08",22]
["2019-11-20","23:26:08",26]
["2019-11-20","23:26:08",8]
["2019-11-20","23:26:08",18]
["2019-11-20","23:26:09",20]
["2019-11-20","23:26:09",36]
["2019-11-20","23:26:09",32]
["2019-11-20","23:26:09",16]
["2019-11-20","23:26:09",18]
["2019-11-20","23:26:10",29]
["2019-11-20","23:26:10",19]
["2019-11-20","23:26:10",23]
["2019-11-20","23:26:11",10]
["2019-11-20","23:26:11",22]
["2019-11-20","23:26:11",11]
["2019-11-20","23:26:11",29]
["2019-11-20","23:26:11",34]
["2019-11-20","23:26:11",10]
["2019-11-20","23:26:12",29]
["2019-11-20","23:26:12",37]
["2019-11-20","23:26:12",13]
["2019-11-20","23:26:12",33]
["2019-11-20","23:26:12",24]
["2019-11-20","23:26:12",24]
["2019-11-20","23:26:13",6]
["2019-11-20","23:26:13",9]
["2019-11-20","23:26:13",9]
["2019-11-20","23:26:13",39]
["2019-11-20","23:26:13",11]
["2019-11-20","23:26:14",21]
["2019-11-20","23:26:14",39]
["2019-11-20","23:26:14",10]
["2019-11-20","23:26:14",16]
["2019-11-20","23:26:14",9]
["2019-11-20","23:26:15",14]
["2019-11-20","23:26:15",35]
["2019-11-20","23:26:15",23]
["2019-11-20","23:26:15",6]
["2019-11-20","23:26:15",34]
["2019-11-20","23:26:16",33]
["2019-11-20","23:26:16",24]
["2019-11-20","23:26:16",9]
["2019-11-20","23:26:16",15]
["2019-11-20","23:26:16",5]
["2019-11-20","23:26:17",25]
["2019-11-20","23:26:17",10]
["2019-11-20","23:26:17",30]
["2019-11-20","23:26:17",32]
["2019-11-20","23:26:17",8]
["2019-11-20","23:26:18",39]
["2019-11-20","23:26:18",16]
["2019-11-20","23:26:18",9]
["2019-11-20","23:26:18",20]
["2019-11-20","23:26:18",27]
["2019-11-20","23:26:19",21]
["2019-11-20","23:26:19",26]
["2019-11-20","23:26:19",26]
["2019-11-20","23:26:19",30]
["2019-11-20","23:26:19",10]
["2019-11-20","23:26:20",22]
["2019-11-20","23:26:20",17]
["2019-11-20","23:26:20",25]
["2019-11-20","23:26:20",34]
["2019-11-20","23:26:20",7]
["2019-11-20","23:26:21",30]
["2019-11-20","23:26:21",32]
["2019-11-20","23:26:21",31]
["2019-11-20","23:26:21",37]
["2019-11-20","23:26:21",6]
["2019-11-20","23:26:22",16]
["2019-11-20","23:26:22",32]
["2019-11-20","23:26:22",13]
["2019-11-20","23:26:22",26]
["2019-11-20","23:26:22",34]
["2019-11-20","23:26:23",29]
["2019-11-20","23:26:23",12]
["2019-11-20","23:26:23",6]
["2019-11-20","23:26:24",35]
["2019-11-20","23:26:24",17]
["2019-11-20","23:26:24",11]
["2019-11-20","23:26:24",30]
["2019-11-20","23:26:24",6]
["2019-11-20","23:26:24",17]
["2019-11-20","23:26:24",39]

{"sheet":"Resultados_2.11.2019","index":1,"n_rows":1840,"n_cols":6,"rows_kept":1840,"cut":false,"hidden":false,"merged":[]}
["Data","Horário","Potência ativa","Produtividade","Categoria hora","Categoria minuto"]
[{"$f":"Dados_2.11.2019!A2","v":"2019-11-20"},{"$f":"Dados_2.11.2019!B2","v":"23:23:17"},{"$f":"Dados_2.11.2019!C2","v":33},{"$f":"IF((0.0005*(C2^2)+0.0058*(C2)-0.055)<0,0,IF((0.0005*(C2^2)+0.0058*(C2)-0.055)>1,1,(0.0005*(C2^2)+0.0058*(C2)-0.055)))","v":0.68089999999999995},{"$f":"HOUR(B2)","v":23},{"$f":"MINUTE(B2)","v":23}]
[{"$f":"Dados_2.11.2019!A3","v":"2019-11-20"},{"$f":"Dados_2.11.2019!B3","v":"23:23:17"},{"$f":"Dados_2.11.2019!C3","v":36},{"$f":"IF((0.0005*(C3^2)+0.0058*(C3)-0.055)<0,0,IF((0.0005*(C3^2)+0.0058*(C3)-0.055)>1,1,(0.0005*(C3^2)+0.0058*(C3)-0.055)))","v":0.80179999999999996},{"$f":"HOUR(B3)","v":23},{"$f":"MINUTE(B3)","v":23}]
[{"$f":"Dados_2.11.2019!A4","v":"2019-11-20"},{"$f":"Dados_2.11.2019!B4","v":"23:23:17"},{"$f":"Dados_2.11.2019!C4","v":39},0.93169999999999997,23,23]
[{"$f":"Dados_2.11.2019!A5","v":"2019-11-20"},{"$f":"Dados_2.11.2019!B5","v":"23:23:17"},{"$f":"Dados_2.11.2019!C5","v":6},0,23,23]
[{"$f":"Dados_2.11.2019!A6","v":"2019-11-20"},{"$f":"Dados_2.11.2019!B6","v":"23:23:18"},{"$f":"Dados_2.11.2019!C6","v":30},0.56899999999999995,23,23]
[{"$f":"Dados_2.11.2019!A7","v":"2019-11-20"},{"$f":"Dados_2.11.2019!B7","v":"23:23:18"},{"$f":"Dados_2.11.2019!C7","v":32},0.64259999999999995,23,23]
[{"$f":"Dados_2.11.2019!A8","v":"2019-11-20"},{"$f":"Dados_2.11.2019!B8","v":"23:23:18"},{"$f":"Dados_2.11.2019!C8","v":37},0.84409999999999996,23,23]
[{"$f":"Dados_2.11.2019!A9","v":"2019-11-20"},{"$f":"Dados_2.11.2019!B9","v":"23:23:18"},{"$f":"Dados_2.11.2019!C9","v":13},0.10489999999999999,23,23]
[{"$f":"Dados_2.11.2019!A10","v":"2019-11-20"},{"$f":"Dados_2.11.2019!B10","v":"23:23:18"},{"$f":"Dados_2.11.2019!C10","v":12},8.660000000000001E-2,23,23]
[{"$f":"Dados_2.11.2019!A11","v":"2019-11-20"},{"$f":"Dados_2.11.2019!B11","v":"23:23:19"},{"$f":"Dados_2.11.2019!C11","v":14},0.1242,23,23]
[{"$f":"Dados_2.11.2019!A12","v":"2019-11-20"},{"$f":"Dados_2.11.2019!B12","v":"23:23:19"},{"$f":"Dados_2.11.2019!C12","v":14},0.1242,23,23]
[{"$f":"Dados_2.11.2019!A13","v":"2019-11-20"},{"$f":"Dados_2.11.2019!B13","v":"23:23:19"},{"$f":"Dados_2.11.2019!C13","v":34},0.72019999999999984,23,23]
[{"$f":"Dados_2.11.2019!A14","v":"2019-11-20"},{"$f":"Dados_2.11.2019!B14","v":"23:23:19"},{"$f":"Dados_2.11.2019!C14","v":39},0.93169999999999997,23,23]
[{"$f":"Dados_2.11.2019!A15","v":"2019-11-20"},{"$f":"Dados_2.11.2019!B15","v":"23:23:19"},{"$f":"Dados_2.11.2019!C15","v":16},0.1658,23,23]
[{"$f":"Dados_2.11.2019!A16","v":"2019-11-20"},{"$f":"Dados_2.11.2019!B16","v":"23:23:20"},{"$f":"Dados_2.11.2019!C16","v":16},0.1658,23,23]
[{"$f":"Dados_2.11.2019!A17","v":"2019-11-20"},{"$f":"Dados_2.11.2019!B17","v":"23:23:20"},{"$f":"Dados_2.11.2019!C17","v":21},0.2873,23,23]
[{"$f":"Dados_2.11.2019!A18","v":"2019-11-20"},{"$f":"Dados_2.11.2019!B18","v":"23:23:20"},{"$f":"Dados_2.11.2019!C18","v":29},0.53369999999999995,23,23]
[{"$f":"Dados_2.11.2019!A19","v":"2019-11-20"},{"$f":"Dados_2.11.2019!B19","v":"23:23:20"},{"$f":"Dados_2.11.2019!C19","v":21},0.2873,23,23]
[{"$f":"Dados_2.11.2019!A20","v":"2019-11-20"},{"$f":"Dados_2.11.2019!B20","v":"23:23:20"},{"$f":"Dados_2.11.2019!C20","v":26},0.43380000000000002,23,23]
[{"$f":"Dados_2.11.2019!A21","v":"2019-11-20"},{"$f":"Dados_2.11.2019!B21","v":"23:23:21"},{"$f":"Dados_2.11.2019!C21","v":7},1.0099999999999991E-2,23,23]
[{"$f":"Dados_2.11.2019!A22","v":"2019-11-20"},{"$f":"Dados_2.11.2019!B22","v":"23:23:21"},{"$f":"Dados_2.11.2019!C22","v":22},0.31459999999999999,23,23]
[{"$f":"Dados_2.11.2019!A23","v":"2019-11-20"},{"$f":"Dados_2.11.2019!B23","v":"23:23:21"},{"$f":"Dados_2.11.2019!C23","v":39},0.93169999999999997,23,23]
[{"$f":"Dados_2.11.2019!A24","v":"2019-11-20"},{"$f":"Dados_2.11.2019!B24","v":"23:23:21"},{"$f":"Dados_2.11.2019!C24","v":25},0.40250000000000002,23,23]
[{"$f":"Dados_2.11.2019!A25","v":"2019-11-20"},{"$f":"Dados_2.11.2019!B25","v":"23:23:21"},{"$f":"Dados_2.11.2019!C25","v":25},0.40250000000000002,23,23]
[{"$f":"Dados_2.11.2019!A26","v":"2019-11-20"},{"$f":"Dados_2.11.2019!B26","v":"23:23:22"},{"$f":"Dados_2.11.2019!C26","v":10},5.2999999999999999E-2,23,23]
[{"$f":"Dados_2.11.2019!A27","v":"2019-11-20"},{"$f":"Dados_2.11.2019!B27","v":"23:23:22"},{"$f":"Dados_2.11.2019!C27","v":30},0.56899999999999995,23,23]
[{"$f":"Dados_2.11.2019!A28","v":"2019-11-20"},{"$f":"Dados_2.11.2019!B28","v":"23:23:22"},{"$f":"Dados_2.11.2019!C28","v":23},0.34290000000000004,23,23]
[{"$f":"Dados_2.11.2019!A29","v":"2019-11-20"},{"$f":"Dados_2.11.2019!B29","v":"23:23:22"},{"$f":"Dados_2.11.2019!C29","v":14},0.1242,23,23]
[{"$f":"Dados_2.11.2019!A30","v":"2019-11-20"},{"$f":"Dados_2.11.2019!B30","v":"23:23:22"},{"$f":"Dados_2.11.2019!C30","v":21},0.2873,23,23]
[{"$f":"Dados_2.11.2019!A31","v":"2019-11-20"},{"$f":"Dados_2.11.2019!B31","v":"23:23:23"},{"$f":"Dados_2.11.2019!C31","v":38},0.88739999999999986,23,23]
[{"$f":"Dados_2.11.2019!A32","v":"2019-11-20"},{"$f":"Dados_2.11.2019!B32","v":"23:23:23"},{"$f":"Dados_2.11.2019!C32","v":22},{"$f":"IF((0.0005*(C32^2)+0.0058*(C32)-0.055)<0,0,IF((0.0005*(C32^2)+0.0058*(C32)-0.055)>1,1,(0.0005*(C32^2)+0.0058*(C32)-0.055)))","v":0.31459999999999999},{"$f":"HOUR(B32)","v":23},{"$f":"MINUTE(B32)","v":23}]
[{"$f":"Dados_2.11.2019!A33","v":"2019-11-20"},{"$f":"Dados_2.11.2019!B33","v":"23:23:23"},{"$f":"Dados_2.11.2019!C33","v":37},0.84409999999999996,23,23]
[{"$f":"Dados_2.11.2019!A34","v":"2019-11-20"},{"$f":"Dados_2.11.2019!B34","v":"23:23:23"},{"$f":"Dados_2.11.2019!C34","v":28},0.49940000000000001,23,23]
[{"$f":"Dados_2.11.2019!A35","v":"2019-11-20"},{"$f":"Dados_2.11.2019!B35","v":"23:23:23"},{"$f":"Dados_2.11.2019!C35","v":15},0.14450000000000002,23,23]
[{"$f":"Dados_2.11.2019!A36","v":"2019-11-20"},{"$f":"Dados_2.11.2019!B36","v":"23:23:24"},{"$f":"Dados_2.11.2019!C36","v":29},0.53369999999999995,23,23]
[{"$f":"Dados_2.11.2019!A37","v":"2019-11-20"},{"$f":"Dados_2.11.2019!B37","v":"23:23:24"},{"$f":"Dados_2.11.2019!C37","v":15},0.14450000000000002,23,23]
[{"$f":"Dados_2.11.2019!A38","v":"2019-11-20"},{"$f":"Dados_2.11.2019!B38","v":"23:23:24"},{"$f":"Dados_2.11.2019!C38","v":15},0.14450000000000002,23,23]
[{"$f":"Dados_2.11.2019!A39","v":"2019-11-20"},{"$f":"Dados_2.11.2019!B39","v":"23:23:24"},{"$f":"Dados_2.11.2019!C39","v":7},1.0099999999999991E-2,23,23]
[{"$f":"Dados_2.11.2019!A40","v":"2019-11-20"},{"$f":"Dados_2.11.2019!B40","v":"23:23:24"},{"$f":"Dados_2.11.2019!C40","v":12},8.660000000000001E-2,23,23]
[{"$f":"Dados_2.11.2019!A41","v":"2019-11-20"},{"$f":"Dados_2.11.2019!B41","v":"23:23:25"},{"$f":"Dados_2.11.2019!C41","v":39},0.93169999999999997,23,23]
[{"$f":"Dados_2.11.2019!A42","v":"2019-11-20"},{"$f":"Dados_2.11.2019!B42","v":"23:23:25"},{"$f":"Dados_2.11.2019!C42","v":25},0.40250000000000002,23,23]
[{"$f":"Dados_2.11.2019!A43","v":"2019-11-20"},{"$f":"Dados_2.11.2019!B43","v":"23:23:25"},{"$f":"Dados_2.11.2019!C43","v":37},0.84409999999999996,23,23]
[{"$f":"Dados_2.11.2019!A44","v":"2019-11-20"},{"$f":"Dados_2.11.2019!B44","v":"23:23:25"},{"$f":"Dados_2.11.2019!C44","v":7},1.0099999999999991E-2,23,23]
[{"$f":"Dados_2.11.2019!A45","v":"2019-11-20"},{"$f":"Dados_2.11.2019!B45","v":"23:23:25"},{"$f":"Dados_2.11.2019!C45","v":32},0.64259999999999995,23,23]
[{"$f":"Dados_2.11.2019!A46","v":"2019-11-20"},{"$f":"Dados_2.11.2019!B46","v":"23:23:26"},{"$f":"Dados_2.11.2019!C46","v":12},8.660000000000001E-2,23,23]
[{"$f":"Dados_2.11.2019!A47","v":"2019-11-20"},{"$f":"Dados_2.11.2019!B47","v":"23:23:26"},{"$f":"Dados_2.11.2019!C47","v":16},0.1658,23,23]
[{"$f":"Dados_2.11.2019!A48","v":"2019-11-20"},{"$f":"Dados_2.11.2019!B48","v":"23:23:26"},{"$f":"Dados_2.11.2019!C48","v":10},5.2999999999999999E-2,23,23]
[{"$f":"Dados_2.11.2019!A49","v":"2019-11-20"},{"$f":"Dados_2.11.2019!B49","v":"23:23:26"},{"$f":"Dados_2.11.2019!C49","v":23},0.34290000000000004,23,23]
[{"$f":"Dados_2.11.2019!A50","v":"2019-11-20"},{"$f":"Dados_2.11.2019!B50","v":"23:23:26"},{"$f":"Dados_2.11.2019!C50","v":38},0.88739999999999986,23,23]
[{"$f":"Dados_2.11.2019!A51","v":"2019-11-20"},{"$f":"Dados_2.11.2019!B51","v":"23:23:27"},{"$f":"Dados_2.11.2019!C51","v":6},0,23,23]
[{"$f":"Dados_2.11.2019!A52","v":"2019-11-20"},{"$f":"Dados_2.11.2019!B52","v":"23:23:27"},{"$f":"Dados_2.11.2019!C52","v":23},0.34290000000000004,23,23]
[{"$f":"Dados_2.11.2019!A53","v":"2019-11-20"},{"$f":"Dados_2.11.2019!B53","v":"23:23:27"},{"$f":"Dados_2.11.2019!C53","v":35},0.76049999999999995,23,23]
[{"$f":"Dados_2.11.2019!A54","v":"2019-11-20"},{"$f":"Dados_2.11.2019!B54","v":"23:23:27"},{"$f":"Dados_2.11.2019!C54","v":33},0.68089999999999995,23,23]
[{"$f":"Dados_2.11.2019!A55","v":"2019-11-20"},{"$f":"Dados_2.11.2019!B55","v":"23:23:27"},{"$f":"Dados_2.11.2019!C55","v":17},0.18809999999999999,23,23]
[{"$f":"Dados_2.11.2019!A56","v":"2019-11-20"},{"$f":"Dados_2.11.2019!B56","v":"23:23:28"},{"$f":"Dados_2.11.2019!C56","v":38},0.88739999999999986,23,23]
[{"$f":"Dados_2.11.2019!A57","v":"2019-11-20"},{"$f":"Dados_2.11.2019!B57","v":"23:23:28"},{"$f":"Dados_2.11.2019!C57","v":39},0.93169999999999997,23,23]
[{"$f":"Dados_2.11.2019!A58","v":"2019-11-20"},{"$f":"Dados_2.11.2019!B58","v":"23:23:28"},{"$f":"Dados_2.11.2019!C58","v":11},6.93E-2,23,23]
[{"$f":"Dados_2.11.2019!A59","v":"2019-11-20"},{"$f":"Dados_2.11.2019!B59","v":"23:23:28"},{"$f":"Dados_2.11.2019!C59","v":28},0.49940000000000001,23,23]
[{"$f":"Dados_2.11.2019!A60","v":"2019-11-20"},{"$f":"Dados_2.11.2019!B60","v":"23:23:28"},{"$f":"Dados_2.11.2019!C60","v":37},0.84409999999999996,23,23]
[{"$f":"Dados_2.11.2019!A61","v":"2019-11-20"},{"$f":"Dados_2.11.2019!B61","v":"23:23:29"},{"$f":"Dados_2.11.2019!C61","v":28},0.49940000000000001,23,23]
[{"$f":"Dados_2.11.2019!A62","v":"2019-11-20"},{"$f":"Dados_2.11.2019!B62","v":"23:23:29"},{"$f":"Dados_2.11.2019!C62","v":39},0.93169999999999997,23,23]
[{"$f":"Dados_2.11.2019!A63","v":"2019-11-20"},{"$f":"Dados_2.11.2019!B63","v":"23:23:29"},{"$f":"Dados_2.11.2019!C63","v":17},0.18809999999999999,23,23]
[{"$f":"Dados_2.11.2019!A64","v":"2019-11-20"},{"$f":"Dados_2.11.2019!B64","v":"23:23:29"},{"$f":"Dados_2.11.2019!C64","v":11},6.93E-2,23,23]
[{"$f":"Dados_2.11.2019!A65","v":"2019-11-20"},{"$f":"Dados_2.11.2019!B65","v":"23:23:29"},{"$f":"Dados_2.11.2019!C65","v":21},0.2873,23,23]
[{"$f":"Dados_2.11.2019!A66","v":"2019-11-20"},{"$f":"Dados_2.11.2019!B66","v":"23:23:30"},{"$f":"Dados_2.11.2019!C66","v":15},0.14450000000000002,23,23]
[{"$f":"Dados_2.11.2019!A67","v":"2019-11-20"},{"$f":"Dados_2.11.2019!B67","v":"23:23:30"},{"$f":"Dados_2.11.2019!C67","v":33},0.68089999999999995,23,23]
[{"$f":"Dados_2.11.2019!A68","v":"2019-11-20"},{"$f":"Dados_2.11.2019!B68","v":"23:23:30"},{"$f":"Dados_2.11.2019!C68","v":7},1.0099999999999991E-2,23,23]
[{"$f":"Dados_2.11.2019!A69","v":"2019-11-20"},{"$f":"Dados_2.11.2019!B69","v":"23:23:30"},{"$f":"Dados_2.11.2019!C69","v":21},0.2873,23,23]
[{"$f":"Dados_2.11.2019!A70","v":"2019-11-20"},{"$f":"Dados_2.11.2019!B70","v":"23:23:30"},{"$f":"Dados_2.11.2019!C70","v":21},0.2873,23,23]
[{"$f":"Dados_2.11.2019!A71","v":"2019-11-20"},{"$f":"Dados_2.11.2019!B71","v":"23:23:31"},{"$f":"Dados_2.11.2019!C71","v":37},0.84409999999999996,23,23]
[{"$f":"Dados_2.11.2019!A72","v":"2019-11-20"},{"$f":"Dados_2.11.2019!B72","v":"23:23:31"},{"$f":"Dados_2.11.2019!C72","v":5},0,23,23]
[{"$f":"Dados_2.11.2019!A73","v":"2019-11-20"},{"$f":"Dados_2.11.2019!B73","v":"23:23:31"},{"$f":"Dados_2.11.2019!C73","v":31},0.60529999999999995,23,23]
[{"$f":"Dados_2.11.2019!A74","v":"2019-11-20"},{"$f":"Dados_2.11.2019!B74","v":"23:23:31"},{"$f":"Dados_2.11.2019!C74","v":7},1.0099999999999991E-2,23,23]
[{"$f":"Dados_2.11.2019!A75","v":"2019-11-20"},{"$f":"Dados_2.11.2019!B75","v":"23:23:31"},{"$f":"Dados_2.11.2019!C75","v":8},2.3399999999999997E-2,23,23]
[{"$f":"Dados_2.11.2019!A76","v":"2019-11-20"},{"$f":"Dados_2.11.2019!B76","v":"23:23:32"},{"$f":"Dados_2.11.2019!C76","v":24},0.37220000000000003,23,23]
[{"$f":"Dados_2.11.2019!A77","v":"2019-11-20"},{"$f":"Dados_2.11.2019!B77","v":"23:23:32"},{"$f":"Dados_2.11.2019!C77","v":9},3.7700000000000004E-2,23,23]
[{"$f":"Dados_2.11.2019!A78","v":"2019-11-20"},{"$f":"Dados_2.11.2019!B78","v":"23:23:32"},{"$f":"Dados_2.11.2019!C78","v":21},0.2873,23,23]
[{"$f":"Dados_2.11.2019!A79","v":"2019-11-20"},{"$f":"Dados_2.11.2019!B79","v":"23:23:32"},{"$f":"Dados_2.11.2019!C79","v":21},0.2873,23,23]
[{"$f":"Dados_2.11.2019!A80","v":"2019-11-20"},{"$f":"Dados_2.11.2019!B80","v":"23:23:32"},{"$f":"Dados_2.11.2019!C80","v":22},0.31459999999999999,23,23]
[{"$f":"Dados_2.11.2019!A81","v":"2019-11-20"},{"$f":"Dados_2.11.2019!B81","v":"23:23:33"},{"$f":"Dados_2.11.2019!C81","v":24},0.37220000000000003,23,23]
[{"$f":"Dados_2.11.2019!A82","v":"2019-11-20"},{"$f":"Dados_2.11.2019!B82","v":"23:23:33"},{"$f":"Dados_2.11.2019!C82","v":39},0.93169999999999997,23,23]
[{"$f":"Dados_2.11.2019!A83","v":"2019-11-20"},{"$f":"Dados_2.11.2019!B83","v":"23:23:33"},{"$f":"Dados_2.11.2019!C83","v":29},0.53369999999999995,23,23]
[{"$f":"Dados_2.11.2019!A84","v":"2019-11-20"},{"$f":"Dados_2.11.2019!B84","v":"23:23:33"},{"$f":"Dados_2.11.2019!C84","v":23},0.34290000000000004,23,23]
[{"$f":"Dados_2.11.2019!A85","v":"2019-11-20"},{"$f":"Dados_2.11.2019!B85","v":"23:23:33"},{"$f":"Dados_2.11.2019!C85","v":34},0.72019999999999984,23,23]
[{"$f":"Dados_2.11.2019!A86","v":"2019-11-20"},{"$f":"Dados_2.11.2019!B86","v":"23:23:34"},{"$f":"Dados_2.11.2019!C86","v":35},0.76049999999999995,23,23]
[{"$f":"Dados_2.11.2019!A87","v":"2019-11-20"},{"$f":"Dados_2.11.2019!B87","v":"23:23:34"},{"$f":"Dados_2.11.2019!C87","v":33},0.68089999999999995,23,23]
[{"$f":"Dados_2.11.2019!A88","v":"2019-11-20"},{"$f":"Dados_2.11.2019!B88","v":"23:23:34"},{"$f":"Dados_2.11.2019!C88","v":35},0.76049999999999995,23,23]
[{"$f":"Dados_2.11.2019!A89","v":"2019-11-20"},{"$f":"Dados_2.11.2019!B89","v":"23:23:34"},{"$f":"Dados_2.11.2019!C89","v":17},0.18809999999999999,23,23]
[{"$f":"Dados_2.11.2019!A90","v":"2019-11-20"},{"$f":"Dados_2.11.2019!B90","v":"23:23:34"},{"$f":"Dados_2.11.2019!C90","v":11},6.93E-2,23,23]
[{"$f":"Dados_2.11.2019!A91","v":"2019-11-20"},{"$f":"Dados_2.11.2019!B91","v":"23:23:35"},{"$f":"Dados_2.11.2019!C91","v":29},0.53369999999999995,23,23]
[{"$f":"Dados_2.11.2019!A92","v":"2019-11-20"},{"$f":"Dados_2.11.2019!B92","v":"23:23:35"},{"$f":"Dados_2.11.2019!C92","v":19},0.23569999999999997,23,23]
[{"$f":"Dados_2.11.2019!A93","v":"2019-11-20"},{"$f":"Dados_2.11.2019!B93","v":"23:23:35"},{"$f":"Dados_2.11.2019!C93","v":24},0.37220000000000003,23,23]
[{"$f":"Dados_2.11.2019!A94","v":"2019-11-20"},{"$f":"Dados_2.11.2019!B94","v":"23:23:35"},{"$f":"Dados_2.11.2019!C94","v":16},0.1658,23,23]
[{"$f":"Dados_2.11.2019!A95","v":"2019-11-20"},{"$f":"Dados_2.11.2019!B95","v":"23:23:35"},{"$f":"Dados_2.11.2019!C95","v":5},0,23,23]
[{"$f":"Dados_2.11.2019!A96","v":"2019-11-20"},{"$f":"Dados_2.11.2019!B96","v":"23:23:36"},{"$f":"Dados_2.11.2019!C96","v":30},{"$f":"IF((0.0005*(C96^2)+0.0058*(C96)-0.055)<0,0,IF((0.0005*(C96^2)+0.0058*(C96)-0.055)>1,1,(0.0005*(C96^2)+0.0058*(C96)-0.055)))","v":0.56899999999999995},{"$f":"HOUR(B96)","v":23},{"$f":"MINUTE(B96)","v":23}]
[{"$f":"Dados_2.11.2019!A97","v":"2019-11-20"},{"$f":"Dados_2.11.2019!B97","v":"23:23:36"},{"$f":"Dados_2.11.2019!C97","v":10},5.2999999999999999E-2,23,23]
[{"$f":"Dados_2.11.2019!A98","v":"2019-11-20"},{"$f":"Dados_2.11.2019!B98","v":"23:23:36"},{"$f":"Dados_2.11.2019!C98","v":33},0.68089999999999995,23,23]
[{"$f":"Dados_2.11.2019!A99","v":"2019-11-20"},{"$f":"Dados_2.11.2019!B99","v":"23:23:36"},{"$f":"Dados_2.11.2019!C99","v":11},6.93E-2,23,23]
[{"$f":"Dados_2.11.2019!A100","v":"2019-11-20"},{"$f":"Dados_2.11.2019!B100","v":"23:23:36"},{"$f":"Dados_2.11.2019!C100","v":8},2.3399999999999997E-2,23,23]
[{"$f":"Dados_2.11.2019!A101","v":"2019-11-20"},{"$f":"Dados_2.11.2019!B101","v":"23:23:37"},{"$f":"Dados_2.11.2019!C101","v":18},0.21139999999999998,23,23]
[{"$f":"Dados_2.11.2019!A102","v":"2019-11-20"},{"$f":"Dados_2.11.2019!B102","v":"23:23:37"},{"$f":"Dados_2.11.2019!C102","v":25},0.40250000000000002,23,23]
[{"$f":"Dados_2.11.2019!A103","v":"2019-11-20"},{"$f":"Dados_2.11.2019!B103","v":"23:23:37"},{"$f":"Dados_2.11.2019!C103","v":8},2.3399999999999997E-2,23,23]
[{"$f":"Dados_2.11.2019!A104","v":"2019-11-20"},{"$f":"Dados_2.11.2019!B104","v":"23:23:37"},{"$f":"Dados_2.11.2019!C104","v":34},0.72019999999999984,23,23]
[{"$f":"Dados_2.11.2019!A105","v":"2019-11-20"},{"$f":"Dados_2.11.2019!B105","v":"23:23:37"},{"$f":"Dados_2.11.2019!C105","v":34},0.72019999999999984,23,23]
[{"$f":"Dados_2.11.2019!A106","v":"2019-11-20"},{"$f":"Dados_2.11.2019!B106","v":"23:23:38"},{"$f":"Dados_2.11.2019!C106","v":26},0.43380000000000002,23,23]
[{"$f":"Dados_2.11.2019!A107","v":"2019-11-20"},{"$f":"Dados_2.11.2019!B107","v":"23:23:38"},{"$f":"Dados_2.11.2019!C107","v":34},0.72019999999999984,23,23]
[{"$f":"Dados_2.11.2019!A108","v":"2019-11-20"},{"$f":"Dados_2.11.2019!B108","v":"23:23:38"},{"$f":"Dados_2.11.2019!C108","v":19},0.23569999999999997,23,23]
[{"$f":"Dados_2.11.2019!A109","v":"2019-11-20"},{"$f":"Dados_2.11.2019!B109","v":"23:23:38"},{"$f":"Dados_2.11.2019!C109","v":13},0.10489999999999999,23,23]
[{"$f":"Dados_2.11.2019!A110","v":"2019-11-20"},{"$f":"Dados_2.11.2019!B110","v":"23:23:38"},{"$f":"Dados_2.11.2019!C110","v":25},0.40250000000000002,23,23]
[{"$f":"Dados_2.11.2019!A111","v":"2019-11-20"},{"$f":"Dados_2.11.2019!B111","v":"23:23:39"},{"$f":"Dados_2.11.2019!C111","v":10},5.2999999999999999E-2,23,23]
[{"$f":"Dados_2.11.2019!A112","v":"2019-11-20"},{"$f":"Dados_2.11.2019!B112","v":"23:23:39"},{"$f":"Dados_2.11.2019!C112","v":19},0.23569999999999997,23,23]
[{"$f":"Dados_2.11.2019!A113","v":"2019-11-20"},{"$f":"Dados_2.11.2019!B113","v":"23:23:39"},{"$f":"Dados_2.11.2019!C113","v":9},3.7700000000000004E-2,23,23]
[{"$f":"Dados_2.11.2019!A114","v":"2019-11-20"},{"$f":"Dados_2.11.2019!B114","v":"23:23:39"},{"$f":"Dados_2.11.2019!C114","v":30},0.56899999999999995,23,23]
[{"$f":"Dados_2.11.2019!A115","v":"2019-11-20"},{"$f":"Dados_2.11.2019!B115","v":"23:23:39"},{"$f":"Dados_2.11.2019!C115","v":18},0.21139999999999998,23,23]
[{"$f":"Dados_2.11.2019!A116","v":"2019-11-20"},{"$f":"Dados_2.11.2019!B116","v":"23:23:40"},{"$f":"Dados_2.11.2019!C116","v":8},2.3399999999999997E-2,23,23]
[{"$f":"Dados_2.11.2019!A117","v":"2019-11-20"},{"$f":"Dados_2.11.2019!B117","v":"23:23:40"},{"$f":"Dados_2.11.2019!C117","v":7},1.0099999999999991E-2,23,23]
[{"$f":"Dados_2.11.2019!A118","v":"2019-11-20"},{"$f":"Dados_2.11.2019!B118","v":"23:23:40"},{"$f":"Dados_2.11.2019!C118","v":15},0.14450000000000002,23,23]
[{"$f":"Dados_2.11.2019!A119","v":"2019-11-20"},{"$f":"Dados_2.11.2019!B119","v":"23:23:40"},{"$f":"Dados_2.11.2019!C119","v":10},5.2999999999999999E-2,23,23]
[{"$f":"Dados_2.11.2019!A120","v":"2019-11-20"},{"$f":"Dados_2.11.2019!B120","v":"23:23:40"},{"$f":"Dados_2.11.2019!C120","v":12},8.660000000000001E-2,23,23]
[{"$f":"Dados_2.11.2019!A121","v":"2019-11-20"},{"$f":"Dados_2.11.2019!B121","v":"23:23:41"},{"$f":"Dados_2.11.2019!C121","v":6},0,23,23]
[{"$f":"Dados_2.11.2019!A122","v":"2019-11-20"},{"$f":"Dados_2.11.2019!B122","v":"23:23:41"},{"$f":"Dados_2.11.2019!C122","v":39},0.93169999999999997,23,23]
[{"$f":"Dados_2.11.2019!A123","v":"2019-11-20"},{"$f":"Dados_2.11.2019!B123","v":"23:23:41"},{"$f":"Dados_2.11.2019!C123","v":31},0.60529999999999995,23,23]
[{"$f":"Dados_2.11.2019!A124","v":"2019-11-20"},{"$f":"Dados_2.11.2019!B124","v":"23:23:41"},{"$f":"Dados_2.11.2019!C124","v":36},0.80179999999999996,23,23]
[{"$f":"Dados_2.11.2019!A125","v":"2019-11-20"},{"$f":"Dados_2.11.2019!B125","v":"23:23:41"},{"$f":"Dados_2.11.2019!C125","v":17},0.18809999999999999,23,23]
[{"$f":"Dados_2.11.2019!A126","v":"2019-11-20"},{"$f":"Dados_2.11.2019!B126","v":"23:23:42"},{"$f":"Dados_2.11.2019!C126","v":15},0.14450000000000002,23,23]
[{"$f":"Dados_2.11.2019!A127","v":"2019-11-20"},{"$f":"Dados_2.11.2019!B127","v":"23:23:42"},{"$f":"Dados_2.11.2019!C127","v":28},0.49940000000000001,23,23]
[{"$f":"Dados_2.11.2019!A128","v":"2019-11-20"},{"$f":"Dados_2.11.2019!B128","v":"23:23:42"},{"$f":"Dados_2.11.2019!C128","v":27},0.46610000000000001,23,23]
[{"$f":"Dados_2.11.2019!A129","v":"2019-11-20"},{"$f":"Dados_2.11.2019!B129","v":"23:23:42"},{"$f":"Dados_2.11.2019!C129","v":9},3.7700000000000004E-2,23,23]
[{"$f":"Dados_2.11.2019!A130","v":"2019-11-20"},{"$f":"Dados_2.11.2019!B130","v":"23:23:42"},{"$f":"Dados_2.11.2019!C130","v":25},0.40250000000000002,23,23]
[{"$f":"Dados_2.11.2019!A131","v":"2019-11-20"},{"$f":"Dados_2.11.2019!B131","v":"23:23:43"},{"$f":"Dados_2.11.2019!C131","v":28},0.49940000000000001,23,23]
[{"$f":"Dados_2.11.2019!A132","v":"2019-11-20"},{"$f":"Dados_2.11.2019!B132","v":"23:23:43"},{"$f":"Dados_2.11.2019!C132","v":24},0.37220000000000003,23,23]
[{"$f":"Dados_2.11.2019!A133","v":"2019-11-20"},{"$f":"Dados_2.11.2019!B133","v":"23:23:43"},{"$f":"Dados_2.11.2019!C133","v":29},0.53369999999999995,23,23]
[{"$f":"Dados_2.11.2019!A134","v":"2019-11-20"},{"$f":"Dados_2.11.2019!B134","v":"23:23:43"},{"$f":"Dados_2.11.2019!C134","v":5},0,23,23]
[{"$f":"Dados_2.11.2019!A135","v":"2019-11-20"},{"$f":"Dados_2.11.2019!B135","v":"23:23:43"},{"$f":"Dados_2.11.2019!C135","v":20},0.26100000000000001,23,23]
[{"$f":"Dados_2.11.2019!A136","v":"2019-11-20"},{"$f":"Dados_2.11.2019!B136","v":"23:23:44"},{"$f":"Dados_2.11.2019!C136","v":12},8.660000000000001E-2,23,23]
[{"$f":"Dados_2.11.2019!A137","v":"2019-11-20"},{"$f":"Dados_2.11.2019!B137","v":"23:23:44"},{"$f":"Dados_2.11.2019!C137","v":14},0.1242,23,23]
[{"$f":"Dados_2.11.2019!A138","v":"2019-11-20"},{"$f":"Dados_2.11.2019!B138","v":"23:23:44"},{"$f":"Dados_2.11.2019!C138","v":5},0,23,23]
[{"$f":"Dados_2.11.2019!A139","v":"2019-11-20"},{"$f":"Dados_2.11.2019!B139","v":"23:23:44"},{"$f":"Dados_2.11.2019!C139","v":14},0.1242,23,23]
[{"$f":"Dados_2.11.2019!A140","v":"2019-11-20"},{"$f":"Dados_2.11.2019!B140","v":"23:23:44"},{"$f":"Dados_2.11.2019!C140","v":38},0.88739999999999986,23,23]
[{"$f":"Dados_2.11.2019!A141","v":"2019-11-20"},{"$f":"Dados_2.11.2019!B141","v":"23:23:45"},{"$f":"Dados_2.11.2019!C141","v":39},0.93169999999999997,23,23]
[{"$f":"Dados_2.11.2019!A142","v":"2019-11-20"},{"$f":"Dados_2.11.2019!B142","v":"23:23:45"},{"$f":"Dados_2.11.2019!C142","v":31},0.60529999999999995,23,23]
[{"$f":"Dados_2.11.2019!A143","v":"2019-11-20"},{"$f":"Dados_2.11.2019!B143","v":"23:23:45"},{"$f":"Dados_2.11.2019!C143","v":25},0.40250000000000002,23,23]
[{"$f":"Dados_2.11.2019!A144","v":"2019-11-20"},{"$f":"Dados_2.11.2019!B144","v":"23:23:45"},{"$f":"Dados_2.11.2019!C144","v":15},0.14450000000000002,23,23]
[{"$f":"Dados_2.11.2019!A145","v":"2019-11-20"},{"$f":"Dados_2.11.2019!B145","v":"23:23:45"},{"$f":"Dados_2.11.2019!C145","v":24},0.37220000000000003,23,23]
[{"$f":"Dados_2.11.2019!A146","v":"2019-11-20"},{"$f":"Dados_2.11.2019!B146","v":"23:23:46"},{"$f":"Dados_2.11.2019!C146","v":19},0.23569999999999997,23,23]
[{"$f":"Dados_2.11.2019!A147","v":"2019-11-20"},{"$f":"Dados_2.11.2019!B147","v":"23:23:46"},{"$f":"Dados_2.11.2019!C147","v":36},0.80179999999999996,23,23]
[{"$f":"Dados_2.11.2019!A148","v":"2019-11-20"},{"$f":"Dados_2.11.2019!B148","v":"23:23:46"},{"$f":"Dados_2.11.2019!C148","v":35},0.76049999999999995,23,23]
[{"$f":"Dados_2.11.2019!A149","v":"2019-11-20"},{"$f":"Dados_2.11.2019!B149","v":"23:23:46"},{"$f":"Dados_2.11.2019!C149","v":21},0.2873,23,23]
[{"$f":"Dados_2.11.2019!A150","v":"2019-11-20"},{"$f":"Dados_2.11.2019!B150","v":"23:23:46"},{"$f":"Dados_2.11.2019!C150","v":25},0.40250000000000002,23,23]
[{"$f":"Dados_2.11.2019!A151","v":"2019-11-20"},{"$f":"Dados_2.11.2019!B151","v":"23:23:47"},{"$f":"Dados_2.11.2019!C151","v":6},0,23,23]
[{"$f":"Dados_2.11.2019!A152","v":"2019-11-20"},{"$f":"Dados_2.11.2019!B152","v":"23:23:47"},{"$f":"Dados_2.11.2019!C152","v":30},0.56899999999999995,23,23]
[{"$f":"Dados_2.11.2019!A153","v":"2019-11-20"},{"$f":"Dados_2.11.2019!B153","v":"23:23:47"},{"$f":"Dados_2.11.2019!C153","v":9},3.7700000000000004E-2,23,23]
[{"$f":"Dados_2.11.2019!A154","v":"2019-11-20"},{"$f":"Dados_2.11.2019!B154","v":"23:23:47"},{"$f":"Dados_2.11.2019!C154","v":11},6.93E-2,23,23]
[{"$f":"Dados_2.11.2019!A155","v":"2019-11-20"},{"$f":"Dados_2.11.2019!B155","v":"23:23:47"},{"$f":"Dados_2.11.2019!C155","v":7},1.0099999999999991E-2,23,23]
[{"$f":"Dados_2.11.2019!A156","v":"2019-11-20"},{"$f":"Dados_2.11.2019!B156","v":"23:23:48"},{"$f":"Dados_2.11.2019!C156","v":38},0.88739999999999986,23,23]
[{"$f":"Dados_2.11.2019!A157","v":"2019-11-20"},{"$f":"Dados_2.11.2019!B157","v":"23:23:48"},{"$f":"Dados_2.11.2019!C157","v":15},0.14450000000000002,23,23]
[{"$f":"Dados_2.11.2019!A158","v":"2019-11-20"},{"$f":"Dados_2.11.2019!B158","v":"23:23:48"},{"$f":"Dados_2.11.2019!C158","v":25},0.40250000000000002,23,23]
[{"$f":"Dados_2.11.2019!A159","v":"2019-11-20"},{"$f":"Dados_2.11.2019!B159","v":"23:23:48"},{"$f":"Dados_2.11.2019!C159","v":37},0.84409999999999996,23,23]
[{"$f":"Dados_2.11.2019!A160","v":"2019-11-20"},{"$f":"Dados_2.11.2019!B160","v":"23:23:48"},{"$f":"Dados_2.11.2019!C160","v":6},{"$f":"IF((0.0005*(C160^2)+0.0058*(C160)-0.055)<0,0,IF((0.0005*(C160^2)+0.0058*(C160)-0.055)>1,1,(0.0005*(C160^2)+0.0058*(C160)-0.055)))","v":0},{"$f":"HOUR(B160)","v":23},{"$f":"MINUTE(B160)","v":23}]
[{"$f":"Dados_2.11.2019!A161","v":"2019-11-20"},{"$f":"Dados_2.11.2019!B161","v":"23:23:49"},{"$f":"Dados_2.11.2019!C161","v":21},0.2873,23,23]
[{"$f":"Dados_2.11.2019!A162","v":"2019-11-20"},{"$f":"Dados_2.11.2019!B162","v":"23:23:49"},{"$f":"Dados_2.11.2019!C162","v":11},6.93E-2,23,23]
[{"$f":"Dados_2.11.2019!A163","v":"2019-11-20"},{"$f":"Dados_2.11.2019!B163","v":"23:23:49"},{"$f":"Dados_2.11.2019!C163","v":11},6.93E-2,23,23]
[{"$f":"Dados_2.11.2019!A164","v":"2019-11-20"},{"$f":"Dados_2.11.2019!B164","v":"23:23:49"},{"$f":"Dados_2.11.2019!C164","v":23},0.34290000000000004,23,23]
[{"$f":"Dados_2.11.2019!A165","v":"2019-11-20"},{"$f":"Dados_2.11.2019!B165","v":"23:23:49"},{"$f":"Dados_2.11.2019!C165","v":13},0.10489999999999999,23,23]
[{"$f":"Dados_2.11.2019!A166","v":"2019-11-20"},{"$f":"Dados_2.11.2019!B166","v":"23:23:50"},{"$f":"Dados_2.11.2019!C166","v":35},0.76049999999999995,23,23]
[{"$f":"Dados_2.11.2019!A167","v":"2019-11-20"},{"$f":"Dados_2.11.2019!B167","v":"23:23:50"},{"$f":"Dados_2.11.2019!C167","v":9},3.7700000000000004E-2,23,23]
[{"$f":"Dados_2.11.2019!A168","v":"2019-11-20"},{"$f":"Dados_2.11.2019!B168","v":"23:23:50"},{"$f":"Dados_2.11.2019!C168","v":16},0.1658,23,23]
[{"$f":"Dados_2.11.2019!A169","v":"2019-11-20"},{"$f":"Dados_2.11.2019!B169","v":"23:23:50"},{"$f":"Dados_2.11.2019!C169","v":5},0,23,23]
[{"$f":"Dados_2.11.2019!A170","v":"2019-11-20"},{"$f":"Dados_2.11.2019!B170","v":"23:23:50"},{"$f":"Dados_2.11.2019!C170","v":28},0.49940000000000001,23,23]
[{"$f":"Dados_2.11.2019!A171","v":"2019-11-20"},{"$f":"Dados_2.11.2019!B171","v":"23:23:51"},{"$f":"Dados_2.11.2019!C171","v":10},5.2999999999999999E-2,23,23]
[{"$f":"Dados_2.11.2019!A172","v":"2019-11-20"},{"$f":"Dados_2.11.2019!B172","v":"23:23:51"},{"$f":"Dados_2.11.2019!C172","v":16},0.1658,23,23]
[{"$f":"Dados_2.11.2019!A173","v":"2019-11-20"},{"$f":"Dados_2.11.2019!B173","v":"23:23:51"},{"$f":"Dados_2.11.2019!C173","v":13},0.10489999999999999,23,23]
[{"$f":"Dados_2.11.2019!A174","v":"2019-11-20"},{"$f":"Dados_2.11.2019!B174","v":"23:23:51"},{"$f":"Dados_2.11.2019!C174","v":16},0.1658,23,23]
[{"$f":"Dados_2.11.2019!A175","v":"2019-11-20"},{"$f":"Dados_2.11.2019!B175","v":"23:23:51"},{"$f":"Dados_2.11.2019!C175","v":17},0.18809999999999999,23,23]
[{"$f":"Dados_2.11.2019!A176","v":"2019-11-20"},{"$f":"Dados_2.11.2019!B176","v":"23:23:52"},{"$f":"Dados_2.11.2019!C176","v":31},0.60529999999999995,23,23]
[{"$f":"Dados_2.11.2019!A177","v":"2019-11-20"},{"$f":"Dados_2.11.2019!B177","v":"23:23:52"},{"$f":"Dados_2.11.2019!C177","v":20},0.26100000000000001,23,23]
[{"$f":"Dados_2.11.2019!A178","v":"2019-11-20"},{"$f":"Dados_2.11.2019!B178","v":"23:23:52"},{"$f":"Dados_2.11.2019!C178","v":28},0.49940000000000001,23,23]
[{"$f":"Dados_2.11.2019!A179","v":"2019-11-20"},{"$f":"Dados_2.11.2019!B179","v":"23:23:52"},{"$f":"Dados_2.11.2019!C179","v":39},0.93169999999999997,23,23]
[{"$f":"Dados_2.11.2019!A180","v":"2019-11-20"},{"$f":"Dados_2.11.2019!B180","v":"23:23:52"},{"$f":"Dados_2.11.2019!C180","v":35},0.76049999999999995,23,23]
[{"$f":"Dados_2.11.2019!A181","v":"2019-11-20"},{"$f":"Dados_2.11.2019!B181","v":"23:23:53"},{"$f":"Dados_2.11.2019!C181","v":16},0.1658,23,23]
[{"$f":"Dados_2.11.2019!A182","v":"2019-11-20"},{"$f":"Dados_2.11.2019!B182","v":"23:23:53"},{"$f":"Dados_2.11.2019!C182","v":16},0.1658,23,23]
[{"$f":"Dados_2.11.2019!A183","v":"2019-11-20"},{"$f":"Dados_2.11.2019!B183","v":"23:23:53"},{"$f":"Dados_2.11.2019!C183","v":23},0.34290000000000004,23,23]
[{"$f":"Dados_2.11.2019!A184","v":"2019-11-20"},{"$f":"Dados_2.11.2019!B184","v":"23:23:53"},{"$f":"Dados_2.11.2019!C184","v":12},8.660000000000001E-2,23,23]
[{"$f":"Dados_2.11.2019!A185","v":"2019-11-20"},{"$f":"Dados_2.11.2019!B185","v":"23:23:53"},{"$f":"Dados_2.11.2019!C185","v":6},0,23,23]
[{"$f":"Dados_2.11.2019!A186","v":"2019-11-20"},{"$f":"Dados_2.11.2019!B186","v":"23:23:54"},{"$f":"Dados_2.11.2019!C186","v":26},0.43380000000000002,23,23]
[{"$f":"Dados_2.11.2019!A187","v":"2019-11-20"},{"$f":"Dados_2.11.2019!B187","v":"23:23:54"},{"$f":"Dados_2.11.2019!C187","v":10},5.2999999999999999E-2,23,23]
[{"$f":"Dados_2.11.2019!A188","v":"2019-11-20"},{"$f":"Dados_2.11.2019!B188","v":"23:23:54"},{"$f":"Dados_2.11.2019!C188","v":19},0.23569999999999997,23,23]
[{"$f":"Dados_2.11.2019!A189","v":"2019-11-20"},{"$f":"Dados_2.11.2019!B189","v":"23:23:54"},{"$f":"Dados_2.11.2019!C189","v":27},0.46610000000000001,23,23]
[{"$f":"Dados_2.11.2019!A190","v":"2019-11-20"},{"$f":"Dados_2.11.2019!B190","v":"23:23:54"},{"$f":"Dados_2.11.2019!C190","v":10},5.2999999999999999E-2,23,23]
[{"$f":"Dados_2.11.2019!A191","v":"2019-11-20"},{"$f":"Dados_2.11.2019!B191","v":"23:23:55"},{"$f":"Dados_2.11.2019!C191","v":7},1.0099999999999991E-2,23,23]
[{"$f":"Dados_2.11.2019!A192","v":"2019-11-20"},{"$f":"Dados_2.11.2019!B192","v":"23:23:55"},{"$f":"Dados_2.11.2019!C192","v":12},8.660000000000001E-2,23,23]
[{"$f":"Dados_2.11.2019!A193","v":"2019-11-20"},{"$f":"Dados_2.11.2019!B193","v":"23:23:55"},{"$f":"Dados_2.11.2019!C193","v":27},0.46610000000000001,23,23]
[{"$f":"Dados_2.11.2019!A194","v":"2019-11-20"},{"$f":"Dados_2.11.2019!B194","v":"23:23:55"},{"$f":"Dados_2.11.2019!C194","v":11},6.93E-2,23,23]
[{"$f":"Dados_2.11.2019!A195","v":"2019-11-20"},{"$f":"Dados_2.11.2019!B195","v":"23:23:55"},{"$f":"Dados_2.11.2019!C195","v":20},0.26100000000000001,23,23]
[{"$f":"Dados_2.11.2019!A196","v":"2019-11-20"},{"$f":"Dados_2.11.2019!B196","v":"23:23:56"},{"$f":"Dados_2.11.2019!C196","v":9},3.7700000000000004E-2,23,23]
[{"$f":"Dados_2.11.2019!A197","v":"2019-11-20"},{"$f":"Dados_2.11.2019!B197","v":"23:23:56"},{"$f":"Dados_2.11.2019!C197","v":23},0.34290000000000004,23,23]
[{"$f":"Dados_2.11.2019!A198","v":"2019-11-20"},{"$f":"Dados_2.11.2019!B198","v":"23:23:56"},{"$f":"Dados_2.11.2019!C198","v":30},0.56899999999999995,23,23]
[{"$f":"Dados_2.11.2019!A199","v":"2019-11-20"},{"$f":"Dados_2.11.2019!B199","v":"23:23:56"},{"$f":"Dados_2.11.2019!C199","v":29},0.53369999999999995,23,23]
[{"$f":"Dados_2.11.2019!A200","v":"2019-11-20"},{"$f":"Dados_2.11.2019!B200","v":"23:23:56"},{"$f":"Dados_2.11.2019!C200","v":26},0.43380000000000002,23,23]
[{"$f":"Dados_2.11.2019!A201","v":"2019-11-20"},{"$f":"Dados_2.11.2019!B201","v":"23:23:57"},{"$f":"Dados_2.11.2019!C201","v":36},0.80179999999999996,23,23]
[{"$f":"Dados_2.11.2019!A202","v":"2019-11-20"},{"$f":"Dados_2.11.2019!B202","v":"23:23:57"},{"$f":"Dados_2.11.2019!C202","v":18},0.21139999999999998,23,23]
[{"$f":"Dados_2.11.2019!A203","v":"2019-11-20"},{"$f":"Dados_2.11.2019!B203","v":"23:23:57"},{"$f":"Dados_2.11.2019!C203","v":34},0.72019999999999984,23,23]
[{"$f":"Dados_2.11.2019!A204","v":"2019-11-20"},{"$f":"Dados_2.11.2019!B204","v":"23:23:57"},{"$f":"Dados_2.11.2019!C204","v":20},0.26100000000000001,23,23]
[{"$f":"Dados_2.11.2019!A205","v":"2019-11-20"},{"$f":"Dados_2.11.2019!B205","v":"23:23:57"},{"$f":"Dados_2.11.2019!C205","v":39},0.93169999999999997,23,23]
[{"$f":"Dados_2.11.2019!A206","v":"2019-11-20"},{"$f":"Dados_2.11.2019!B206","v":"23:23:58"},{"$f":"Dados_2.11.2019!C206","v":16},0.1658,23,23]
[{"$f":"Dados_2.11.2019!A207","v":"2019-11-20"},{"$f":"Dados_2.11.2019!B207","v":"23:23:58"},{"$f":"Dados_2.11.2019!C207","v":18},0.21139999999999998,23,23]
[{"$f":"Dados_2.11.2019!A208","v":"2019-11-20"},{"$f":"Dados_2.11.2019!B208","v":"23:23:58"},{"$f":"Dados_2.11.2019!C208","v":6},0,23,23]
[{"$f":"Dados_2.11.2019!A209","v":"2019-11-20"},{"$f":"Dados_2.11.2019!B209","v":"23:23:58"},{"$f":"Dados_2.11.2019!C209","v":14},0.1242,23,23]
[{"$f":"Dados_2.11.2019!A210","v":"2019-11-20"},{"$f":"Dados_2.11.2019!B210","v":"23:23:58"},{"$f":"Dados_2.11.2019!C210","v":38},0.88739999999999986,23,23]
[{"$f":"Dados_2.11.2019!A211","v":"2019-11-20"},{"$f":"Dados_2.11.2019!B211","v":"23:23:59"},{"$f":"Dados_2.11.2019!C211","v":16},0.1658,23,23]
[{"$f":"Dados_2.11.2019!A212","v":"2019-11-20"},{"$f":"Dados_2.11.2019!B212","v":"23:23:59"},{"$f":"Dados_2.11.2019!C212","v":32},0.64259999999999995,23,23]
[{"$f":"Dados_2.11.2019!A213","v":"2019-11-20"},{"$f":"Dados_2.11.2019!B213","v":"23:23:59"},{"$f":"Dados_2.11.2019!C213","v":23},0.34290000000000004,23,23]
[{"$f":"Dados_2.11.2019!A214","v":"2019-11-20"},{"$f":"Dados_2.11.2019!B214","v":"23:23:59"},{"$f":"Dados_2.11.2019!C214","v":6},0,23,23]
[{"$f":"Dados_2.11.2019!A215","v":"2019-11-20"},{"$f":"Dados_2.11.2019!B215","v":"23:23:59"},{"$f":"Dados_2.11.2019!C215","v":5},0,23,23]
[{"$f":"Dados_2.11.2019!A216","v":"2019-11-20"},{"$f":"Dados_2.11.2019!B216","v":"23:24:00"},{"$f":"Dados_2.11.2019!C216","v":6},0,23,24]
[{"$f":"Dados_2.11.2019!A217","v":"2019-11-20"},{"$f":"Dados_2.11.2019!B217","v":"23:24:00"},{"$f":"Dados_2.11.2019!C217","v":7},1.0099999999999991E-2,23,24]
[{"$f":"Dados_2.11.2019!A218","v":"2019-11-20"},{"$f":"Dados_2.11.2019!B218","v":"23:24:00"},{"$f":"Dados_2.11.2019!C218","v":29},0.53369999999999995,23,24]
[{"$f":"Dados_2.11.2019!A219","v":"2019-11-20"},{"$f":"Dados_2.11.2019!B219","v":"23:24:00"},{"$f":"Dados_2.11.2019!C219","v":34},0.72019999999999984,23,24]
[{"$f":"Dados_2.11.2019!A220","v":"2019-11-20"},{"$f":"Dados_2.11.2019!B220","v":"23:24:00"},{"$f":"Dados_2.11.2019!C220","v":38},0.88739999999999986,23,24]
[{"$f":"Dados_2.11.2019!A221","v":"2019-11-20"},{"$f":"Dados_2.11.2019!B221","v":"23:24:01"},{"$f":"Dados_2.11.2019!C221","v":9},3.7700000000000004E-2,23,24]
[{"$f":"Dados_2.11.2019!A222","v":"2019-11-20"},{"$f":"Dados_2.11.2019!B222","v":"23:24:01"},{"$f":"Dados_2.11.2019!C222","v":18},0.21139999999999998,23,24]
[{"$f":"Dados_2.11.2019!A223","v":"2019-11-20"},{"$f":"Dados_2.11.2019!B223","v":"23:24:01"},{"$f":"Dados_2.11.2019!C223","v":31},0.60529999999999995,23,24]
[{"$f":"Dados_2.11.2019!A224","v":"2019-11-20"},{"$f":"Dados_2.11.2019!B224","v":"23:24:01"},{"$f":"Dados_2.11.2019!C224","v":36},{"$f":"IF((0.0005*(C224^2)+0.0058*(C224)-0.055)<0,0,IF((0.0005*(C224^2)+0.0058*(C224)-0.055)>1,1,(0.0005*(C224^2)+0.0058*(C224)-0.055)))","v":0.80179999999999996},{"$f":"HOUR(B224)","v":23},{"$f":"MINUTE(B224)","v":24}]
[{"$f":"Dados_2.11.2019!A225","v":"2019-11-20"},{"$f":"Dados_2.11.2019!B225","v":"23:24:01"},{"$f":"Dados_2.11.2019!C225","v":19},0.23569999999999997,23,24]
[{"$f":"Dados_2.11.2019!A226","v":"2019-11-20"},{"$f":"Dados_2.11.2019!B226","v":"23:24:02"},{"$f":"Dados_2.11.2019!C226","v":37},0.84409999999999996,23,24]
[{"$f":"Dados_2.11.2019!A227","v":"2019-11-20"},{"$f":"Dados_2.11.2019!B227","v":"23:24:02"},{"$f":"Dados_2.11.2019!C227","v":14},0.1242,23,24]
[{"$f":"Dados_2.11.2019!A228","v":"2019-11-20"},{"$f":"Dados_2.11.2019!B228","v":"23:24:02"},{"$f":"Dados_2.11.2019!C228","v":20},0.26100000000000001,23,24]
[{"$f":"Dados_2.11.2019!A229","v":"2019-11-20"},{"$f":"Dados_2.11.2019!B229","v":"23:24:02"},{"$f":"Dados_2.11.2019!C229","v":17},0.18809999999999999,23,24]
[{"$f":"Dados_2.11.2019!A230","v":"2019-11-20"},{"$f":"Dados_2.11.2019!B230","v":"23:24:02"},{"$f":"Dados_2.11.2019!C230","v":31},0.60529999999999995,23,24]
[{"$f":"Dados_2.11.2019!A231","v":"2019-11-20"},{"$f":"Dados_2.11.2019!B231","v":"23:24:03"},{"$f":"Dados_2.11.2019!C231","v":14},0.1242,23,24]
[{"$f":"Dados_2.11.2019!A232","v":"2019-11-20"},{"$f":"Dados_2.11.2019!B232","v":"23:24:03"},{"$f":"Dados_2.11.2019!C232","v":10},5.2999999999999999E-2,23,24]
[{"$f":"Dados_2.11.2019!A233","v":"2019-11-20"},{"$f":"Dados_2.11.2019!B233","v":"23:24:03"},{"$f":"Dados_2.11.2019!C233","v":9},3.7700000000000004E-2,23,24]
[{"$f":"Dados_2.11.2019!A234","v":"2019-11-20"},{"$f":"Dados_2.11.2019!B234","v":"23:24:03"},{"$f":"Dados_2.11.2019!C234","v":33},0.68089999999999995,23,24]
[{"$f":"Dados_2.11.2019!A235","v":"2019-11-20"},{"$f":"Dados_2.11.2019!B235","v":"23:24:03"},{"$f":"Dados_2.11.2019!C235","v":11},6.93E-2,23,24]
[{"$f":"Dados_2.11.2019!A236","v":"2019-11-20"},{"$f":"Dados_2.11.2019!B236","v":"23:24:04"},{"$f":"Dados_2.11.2019!C236","v":21},0.2873,23,24]
[{"$f":"Dados_2.11.2019!A237","v":"2019-11-20"},{"$f":"Dados_2.11.2019!B237","v":"23:24:04"},{"$f":"Dados_2.11.2019!C237","v":15},0.14450000000000002,23,24]
[{"$f":"Dados_2.11.2019!A238","v":"2019-11-20"},{"$f":"Dados_2.11.2019!B238","v":"23:24:04"},{"$f":"Dados_2.11.2019!C238","v":38},0.88739999999999986,23,24]
[{"$f":"Dados_2.11.2019!A239","v":"2019-11-20"},{"$f":"Dados_2.11.2019!B239","v":"23:24:04"},{"$f":"Dados_2.11.2019!C239","v":7},1.0099999999999991E-2,23,24]
[{"$f":"Dados_2.11.2019!A240","v":"2019-11-20"},{"$f":"Dados_2.11.2019!B240","v":"23:24:04"},{"$f":"Dados_2.11.2019!C240","v":39},0.93169999999999997,23,24]
[{"$f":"Dados_2.11.2019!A241","v":"2019-11-20"},{"$f":"Dados_2.11.2019!B241","v":"23:24:05"},{"$f":"Dados_2.11.2019!C241","v":20},0.26100000000000001,23,24]
[{"$f":"Dados_2.11.2019!A242","v":"2019-11-20"},{"$f":"Dados_2.11.2019!B242","v":"23:24:05"},{"$f":"Dados_2.11.2019!C242","v":37},0.84409999999999996,23,24]
[{"$f":"Dados_2.11.2019!A243","v":"2019-11-20"},{"$f":"Dados_2.11.2019!B243","v":"23:24:05"},{"$f":"Dados_2.11.2019!C243","v":16},0.1658,23,24]
[{"$f":"Dados_2.11.2019!A244","v":"2019-11-20"},{"$f":"Dados_2.11.2019!B244","v":"23:24:05"},{"$f":"Dados_2.11.2019!C244","v":39},0.93169999999999997,23,24]
[{"$f":"Dados_2.11.2019!A245","v":"2019-11-20"},{"$f":"Dados_2.11.2019!B245","v":"23:24:05"},{"$f":"Dados_2.11.2019!C245","v":31},0.60529999999999995,23,24]
[{"$f":"Dados_2.11.2019!A246","v":"2019-11-20"},{"$f":"Dados_2.11.2019!B246","v":"23:24:06"},{"$f":"Dados_2.11.2019!C246","v":18},0.21139999999999998,23,24]
[{"$f":"Dados_2.11.2019!A247","v":"2019-11-20"},{"$f":"Dados_2.11.2019!B247","v":"23:24:06"},{"$f":"Dados_2.11.2019!C247","v":19},0.23569999999999997,23,24]
[{"$f":"Dados_2.11.2019!A248","v":"2019-11-20"},{"$f":"Dados_2.11.2019!B248","v":"23:24:06"},{"$f":"Dados_2.11.2019!C248","v":11},6.93E-2,23,24]
[{"$f":"Dados_2.11.2019!A249","v":"2019-11-20"},{"$f":"Dados_2.11.2019!B249","v":"23:24:06"},{"$f":"Dados_2.11.2019!C249","v":24},0.37220000000000003,23,24]
[{"$f":"Dados_2.11.2019!A250","v":"2019-11-20"},{"$f":"Dados_2.11.2019!B250","v":"23:24:06"},{"$f":"Dados_2.11.2019!C250","v":12},8.660000000000001E-2,23,24]
[{"$f":"Dados_2.11.2019!A251","v":"2019-11-20"},{"$f":"Dados_2.11.2019!B251","v":"23:24:07"},{"$f":"Dados_2.11.2019!C251","v":35},0.76049999999999995,23,24]
[{"$f":"Dados_2.11.2019!A252","v":"2019-11-20"},{"$f":"Dados_2.11.2019!B252","v":"23:24:07"},{"$f":"Dados_2.11.2019!C252","v":21},0.2873,23,24]
[{"$f":"Dados_2.11.2019!A253","v":"2019-11-20"},{"$f":"Dados_2.11.2019!B253","v":"23:24:07"},{"$f":"Dados_2.11.2019!C253","v":39},0.93169999999999997,23,24]
[{"$f":"Dados_2.11.2019!A254","v":"2019-11-20"},{"$f":"Dados_2.11.2019!B254","v":"23:24:07"},{"$f":"Dados_2.11.2019!C254","v":22},0.31459999999999999,23,24]
[{"$f":"Dados_2.11.2019!A255","v":"2019-11-20"},{"$f":"Dados_2.11.2019!B255","v":"23:24:07"},{"$f":"Dados_2.11.2019!C255","v":15},0.14450000000000002,23,24]
[{"$f":"Dados_2.11.2019!A256","v":"2019-11-20"},{"$f":"Dados_2.11.2019!B256","v":"23:24:08"},{"$f":"Dados_2.11.2019!C256","v":15},0.14450000000000002,23,24]
[{"$f":"Dados_2.11.2019!A257","v":"2019-11-20"},{"$f":"Dados_2.11.2019!B257","v":"23:24:08"},{"$f":"Dados_2.11.2019!C257","v":23},0.34290000000000004,23,24]
[{"$f":"Dados_2.11.2019!A258","v":"2019-11-20"},{"$f":"Dados_2.11.2019!B258","v":"23:24:08"},{"$f":"Dados_2.11.2019!C258","v":14},0.1242,23,24]
[{"$f":"Dados_2.11.2019!A259","v":"2019-11-20"},{"$f":"Dados_2.11.2019!B259","v":"23:24:08"},{"$f":"Dados_2.11.2019!C259","v":22},0.31459999999999999,23,24]
[{"$f":"Dados_2.11.2019!A260","v":"2019-11-20"},{"$f":"Dados_2.11.2019!B260","v":"23:24:08"},{"$f":"Dados_2.11.2019!C260","v":17},0.18809999999999999,23,24]
[{"$f":"Dados_2.11.2019!A261","v":"2019-11-20"},{"$f":"Dados_2.11.2019!B261","v":"23:24:09"},{"$f":"Dados_2.11.2019!C261","v":13},0.10489999999999999,23,24]
[{"$f":"Dados_2.11.2019!A262","v":"2019-11-20"},{"$f":"Dados_2.11.2019!B262","v":"23:24:09"},{"$f":"Dados_2.11.2019!C262","v":32},0.64259999999999995,23,24]
[{"$f":"Dados_2.11.2019!A263","v":"2019-11-20"},{"$f":"Dados_2.11.2019!B263","v":"23:24:09"},{"$f":"Dados_2.11.2019!C263","v":7},1.0099999999999991E-2,23,24]
[{"$f":"Dados_2.11.2019!A264","v":"2019-11-20"},{"$f":"Dados_2.11.2019!B264","v":"23:24:09"},{"$f":"Dados_2.11.2019!C264","v":15},0.14450000000000002,23,24]
[{"$f":"Dados_2.11.2019!A265","v":"2019-11-20"},{"$f":"Dados_2.11.2019!B265","v":"23:24:09"},{"$f":"Dados_2.11.2019!C265","v":33},0.68089999999999995,23,24]
[{"$f":"Dados_2.11.2019!A266","v":"2019-11-20"},{"$f":"Dados_2.11.2019!B266","v":"23:24:10"},{"$f":"Dados_2.11.2019!C266","v":29},0.53369999999999995,23,24]
[{"$f":"Dados_2.11.2019!A267","v":"2019-11-20"},{"$f":"Dados_2.11.2019!B267","v":"23:24:10"},{"$f":"Dados_2.11.2019!C267","v":15},0.14450000000000002,23,24]
[{"$f":"Dados_2.11.2019!A268","v":"2019-11-20"},{"$f":"Dados_2.11.2019!B268","v":"23:24:10"},{"$f":"Dados_2.11.2019!C268","v":34},0.72019999999999984,23,24]
[{"$f":"Dados_2.11.2019!A269","v":"2019-11-20"},{"$f":"Dados_2.11.2019!B269","v":"23:24:10"},{"$f":"Dados_2.11.2019!C269","v":23},0.34290000000000004,23,24]
[{"$f":"Dados_2.11.2019!A270","v":"2019-11-20"},{"$f":"Dados_2.11.2019!B270","v":"23:24:10"},{"$f":"Dados_2.11.2019!C270","v":20},0.26100000000000001,23,24]
[{"$f":"Dados_2.11.2019!A271","v":"2019-11-20"},{"$f":"Dados_2.11.2019!B271","v":"23:24:11"},{"$f":"Dados_2.11.2019!C271","v":27},0.46610000000000001,23,24]
[{"$f":"Dados_2.11.2019!A272","v":"2019-11-20"},{"$f":"Dados_2.11.2019!B272","v":"23:24:11"},{"$f":"Dados_2.11.2019!C272","v":34},0.72019999999999984,23,24]
[{"$f":"Dados_2.11.2019!A273","v":"2019-11-20"},{"$f":"Dados_2.11.2019!B273","v":"23:24:11"},{"$f":"Dados_2.11.2019!C273","v":22},0.31459999999999999,23,24]
[{"$f":"Dados_2.11.2019!A274","v":"2019-11-20"},{"$f":"Dados_2.11.2019!B274","v":"23:24:11"},{"$f":"Dados_2.11.2019!C274","v":23},0.34290000000000004,23,24]
[{"$f":"Dados_2.11.2019!A275","v":"2019-11-20"},{"$f":"Dados_2.11.2019!B275","v":"23:24:11"},{"$f":"Dados_2.11.2019!C275","v":39},0.93169999999999997,23,24]
[{"$f":"Dados_2.11.2019!A276","v":"2019-11-20"},{"$f":"Dados_2.11.2019!B276","v":"23:24:12"},{"$f":"Dados_2.11.2019!C276","v":10},5.2999999999999999E-2,23,24]
[{"$f":"Dados_2.11.2019!A277","v":"2019-11-20"},{"$f":"Dados_2.11.2019!B277","v":"23:24:12"},{"$f":"Dados_2.11.2019!C277","v":31},0.60529999999999995,23,24]
[{"$f":"Dados_2.11.2019!A278","v":"2019-11-20"},{"$f":"Dados_2.11.2019!B278","v":"23:24:12"},{"$f":"Dados_2.11.2019!C278","v":24},0.37220000000000003,23,24]
[{"$f":"Dados_2.11.2019!A279","v":"2019-11-20"},{"$f":"Dados_2.11.2019!B279","v":"23:24:12"},{"$f":"Dados_2.11.2019!C279","v":35},0.76049999999999995,23,24]
[{"$f":"Dados_2.11.2019!A280","v":"2019-11-20"},{"$f":"Dados_2.11.2019!B280","v":"23:24:12"},{"$f":"Dados_2.11.2019!C280","v":37},0.84409999999999996,23,24]
[{"$f":"Dados_2.11.2019!A281","v":"2019-11-20"},{"$f":"Dados_2.11.2019!B281","v":"23:24:13"},{"$f":"Dados_2.11.2019!C281","v":5},0,23,24]
[{"$f":"Dados_2.11.2019!A282","v":"2019-11-20"},{"$f":"Dados_2.11.2019!B282","v":"23:24:13"},{"$f":"Dados_2.11.2019!C282","v":26},0.43380000000000002,23,24]
[{"$f":"Dados_2.11.2019!A283","v":"2019-11-20"},{"$f":"Dados_2.11.2019!B283","v":"23:24:13"},{"$f":"Dados_2.11.2019!C283","v":6},0,23,24]
[{"$f":"Dados_2.11.2019!A284","v":"2019-11-20"},{"$f":"Dados_2.11.2019!B284","v":"23:24:13"},{"$f":"Dados_2.11.2019!C284","v":30},0.56899999999999995,23,24]
[{"$f":"Dados_2.11.2019!A285","v":"2019-11-20"},{"$f":"Dados_2.11.2019!B285","v":"23:24:13"},{"$f":"Dados_2.11.2019!C285","v":25},0.40250000000000002,23,24]
[{"$f":"Dados_2.11.2019!A286","v":"2019-11-20"},{"$f":"Dados_2.11.2019!B286","v":"23:24:14"},{"$f":"Dados_2.11.2019!C286","v":35},0.76049999999999995,23,24]
[{"$f":"Dados_2.11.2019!A287","v":"2019-11-20"},{"$f":"Dados_2.11.2019!B287","v":"23:24:14"},{"$f":"Dados_2.11.2019!C287","v":32},0.64259999999999995,23,24]
[{"$f":"Dados_2.11.2019!A288","v":"2019-11-20"},{"$f":"Dados_2.11.2019!B288","v":"23:24:14"},{"$f":"Dados_2.11.2019!C288","v":24},{"$f":"IF((0.0005*(C288^2)+0.0058*(C288)-0.055)<0,0,IF((0.0005*(C288^2)+0.0058*(C288)-0.055)>1,1,(0.0005*(C288^2)+0.0058*(C288)-0.055)))","v":0.37220000000000003},{"$f":"HOUR(B288)","v":23},{"$f":"MINUTE(B288)","v":24}]
[{"$f":"Dados_2.11.2019!A289","v":"2019-11-20"},{"$f":"Dados_2.11.2019!B289","v":"23:24:14"},{"$f":"Dados_2.11.2019!C289","v":16},0.1658,23,24]
[{"$f":"Dados_2.11.2019!A290","v":"2019-11-20"},{"$f":"Dados_2.11.2019!B290","v":"23:24:14"},{"$f":"Dados_2.11.2019!C290","v":38},0.88739999999999986,23,24]
[{"$f":"Dados_2.11.2019!A291","v":"2019-11-20"},{"$f":"Dados_2.11.2019!B291","v":"23:24:15"},{"$f":"Dados_2.11.2019!C291","v":23},0.34290000000000004,23,24]
[{"$f":"Dados_2.11.2019!A292","v":"2019-11-20"},{"$f":"Dados_2.11.2019!B292","v":"23:24:15"},{"$f":"Dados_2.11.2019!C292","v":35},0.76049999999999995,23,24]
[{"$f":"Dados_2.11.2019!A293","v":"2019-11-20"},{"$f":"Dados_2.11.2019!B293","v":"23:24:15"},{"$f":"Dados_2.11.2019!C293","v":38},0.88739999999999986,23,24]
[{"$f":"Dados_2.11.2019!A294","v":"2019-11-20"},{"$f":"Dados_2.11.2019!B294","v":"23:24:15"},{"$f":"Dados_2.11.2019!C294","v":24},0.37220000000000003,23,24]
[{"$f":"Dados_2.11.2019!A295","v":"2019-11-20"},{"$f":"Dados_2.11.2019!B295","v":"23:24:15"},{"$f":"Dados_2.11.2019!C295","v":5},0,23,24]
[{"$f":"Dados_2.11.2019!A296","v":"2019-11-20"},{"$f":"Dados_2.11.2019!B296","v":"23:24:16"},{"$f":"Dados_2.11.2019!C296","v":26},0.43380000000000002,23,24]
[{"$f":"Dados_2.11.2019!A297","v":"2019-11-20"},{"$f":"Dados_2.11.2019!B297","v":"23:24:16"},{"$f":"Dados_2.11.2019!C297","v":37},0.84409999999999996,23,24]
[{"$f":"Dados_2.11.2019!A298","v":"2019-11-20"},{"$f":"Dados_2.11.2019!B298","v":"23:24:16"},{"$f":"Dados_2.11.2019!C298","v":37},0.84409999999999996,23,24]
[{"$f":"Dados_2.11.2019!A299","v":"2019-11-20"},{"$f":"Dados_2.11.2019!B299","v":"23:24:16"},{"$f":"Dados_2.11.2019!C299","v":10},5.2999999999999999E-2,23,24]
[{"$f":"Dados_2.11.2019!A300","v":"2019-11-20"},{"$f":"Dados_2.11.2019!B300","v":"23:24:16"},{"$f":"Dados_2.11.2019!C300","v":9},3.7700000000000004E-2,23,24]
[{"$f":"Dados_2.11.2019!A301","v":"2019-11-20"},{"$f":"Dados_2.11.2019!B301","v":"23:24:17"},{"$f":"Dados_2.11.2019!C301","v":23},0.34290000000000004,23,24]
[{"$f":"Dados_2.11.2019!A302","v":"2019-11-20"},{"$f":"Dados_2.11.2019!B302","v":"23:24:17"},{"$f":"Dados_2.11.2019!C302","v":23},0.34290000000000004,23,24]
[{"$f":"Dados_2.11.2019!A303","v":"2019-11-20"},{"$f":"Dados_2.11.2019!B303","v":"23:24:17"},{"$f":"Dados_2.11.2019!C303","v":33},0.68089999999999995,23,24]
[{"$f":"Dados_2.11.2019!A304","v":"2019-11-20"},{"$f":"Dados_2.11.2019!B304","v":"23:24:17"},{"$f":"Dados_2.11.2019!C304","v":22},0.31459999999999999,23,24]
[{"$f":"Dados_2.11.2019!A305","v":"2019-11-20"},{"$f":"Dados_2.11.2019!B305","v":"23:24:17"},{"$f":"Dados_2.11.2019!C305","v":35},0.76049999999999995,23,24]
[{"$f":"Dados_2.11.2019!A306","v":"2019-11-20"},{"$f":"Dados_2.11.2019!B306","v":"23:24:18"},{"$f":"Dados_2.11.2019!C306","v":26},0.43380000000000002,23,24]
[{"$f":"Dados_2.11.2019!A307","v":"2019-11-20"},{"$f":"Dados_2.11.2019!B307","v":"23:24:18"},{"$f":"Dados_2.11.2019!C307","v":16},0.1658,23,24]
[{"$f":"Dados_2.11.2019!A308","v":"2019-11-20"},{"$f":"Dados_2.11.2019!B308","v":"23:24:18"},{"$f":"Dados_2.11.2019!C308","v":17},0.18809999999999999,23,24]
[{"$f":"Dados_2.11.2019!A309","v":"2019-11-20"},{"$f":"Dados_2.11.2019!B309","v":"23:24:18"},{"$f":"Dados_2.11.2019!C309","v":38},0.88739999999999986,23,24]
[{"$f":"Dados_2.11.2019!A310","v":"2019-11-20"},{"$f":"Dados_2.11.2019!B310","v":"23:24:18"},{"$f":"Dados_2.11.2019!C310","v":13},0.10489999999999999,23,24]
[{"$f":"Dados_2.11.2019!A311","v":"2019-11-20"},{"$f":"Dados_2.11.2019!B311","v":"23:24:19"},{"$f":"Dados_2.11.2019!C311","v":20},0.26100000000000001,23,24]
[{"$f":"Dados_2.11.2019!A312","v":"2019-11-20"},{"$f":"Dados_2.11.2019!B312","v":"23:24:19"},{"$f":"Dados_2.11.2019!C312","v":21},0.2873,23,24]
[{"$f":"Dados_2.11.2019!A313","v":"2019-11-20"},{"$f":"Dados_2.11.2019!B313","v":"23:24:19"},{"$f":"Dados_2.11.2019!C313","v":13},0.10489999999999999,23,24]
[{"$f":"Dados_2.11.2019!A314","v":"2019-11-20"},{"$f":"Dados_2.11.2019!B314","v":"23:24:19"},{"$f":"Dados_2.11.2019!C314","v":22},0.31459999999999999,23,24]
[{"$f":"Dados_2.11.2019!A315","v":"2019-11-20"},{"$f":"Dados_2.11.2019!B315","v":"23:24:19"},{"$f":"Dados_2.11.2019!C315","v":7},1.0099999999999991E-2,23,24]
[{"$f":"Dados_2.11.2019!A316","v":"2019-11-20"},{"$f":"Dados_2.11.2019!B316","v":"23:24:20"},{"$f":"Dados_2.11.2019!C316","v":32},0.64259999999999995,23,24]
[{"$f":"Dados_2.11.2019!A317","v":"2019-11-20"},{"$f":"Dados_2.11.2019!B317","v":"23:24:20"},{"$f":"Dados_2.11.2019!C317","v":32},0.64259999999999995,23,24]
[{"$f":"Dados_2.11.2019!A318","v":"2019-11-20"},{"$f":"Dados_2.11.2019!B318","v":"23:24:20"},{"$f":"Dados_2.11.2019!C318","v":28},0.49940000000000001,23,24]
[{"$f":"Dados_2.11.2019!A319","v":"2019-11-20"},{"$f":"Dados_2.11.2019!B319","v":"23:24:20"},{"$f":"Dados_2.11.2019!C319","v":20},0.26100000000000001,23,24]
[{"$f":"Dados_2.11.2019!A320","v":"2019-11-20"},{"$f":"Dados_2.11.2019!B320","v":"23:24:20"},{"$f":"Dados_2.11.2019!C320","v":37},0.84409999999999996,23,24]
[{"$f":"Dados_2.11.2019!A321","v":"2019-11-20"},{"$f":"Dados_2.11.2019!B321","v":"23:24:21"},{"$f":"Dados_2.11.2019!C321","v":35},0.76049999999999995,23,24]
[{"$f":"Dados_2.11.2019!A322","v":"2019-11-20"},{"$f":"Dados_2.11.2019!B322","v":"23:24:21"},{"$f":"Dados_2.11.2019!C322","v":7},1.0099999999999991E-2,23,24]
[{"$f":"Dados_2.11.2019!A323","v":"2019-11-20"},{"$f":"Dados_2.11.2019!B323","v":"23:24:21"},{"$f":"Dados_2.11.2019!C323","v":27},0.46610000000000001,23,24]
[{"$f":"Dados_2.11.2019!A324","v":"2019-11-20"},{"$f":"Dados_2.11.2019!B324","v":"23:24:21"},{"$f":"Dados_2.11.2019!C324","v":8},2.3399999999999997E-2,23,24]
[{"$f":"Dados_2.11.2019!A325","v":"2019-11-20"},{"$f":"Dados_2.11.2019!B325","v":"23:24:22"},{"$f":"Dados_2.11.2019!C325","v":26},0.43380000000000002,23,24]
[{"$f":"Dados_2.11.2019!A326","v":"2019-11-20"},{"$f":"Dados_2.11.2019!B326","v":"23:24:22"},{"$f":"Dados_2.11.2019!C326","v":30},0.56899999999999995,23,24]
[{"$f":"Dados_2.11.2019!A327","v":"2019-11-20"},{"$f":"Dados_2.11.2019!B327","v":"23:24:22"},{"$f":"Dados_2.11.2019!C327","v":7},1.0099999999999991E-2,23,24]
[{"$f":"Dados_2.11.2019!A328","v":"2019-11-20"},{"$f":"Dados_2.11.2019!B328","v":"23:24:22"},{"$f":"Dados_2.11.2019!C328","v":14},0.1242,23,24]
[{"$f":"Dados_2.11.2019!A329","v":"2019-11-20"},{"$f":"Dados_2.11.2019!B329","v":"23:24:22"},{"$f":"Dados_2.11.2019!C329","v":7},1.0099999999999991E-2,23,24]
[{"$f":"Dados_2.11.2019!A330","v":"2019-11-20"},{"$f":"Dados_2.11.2019!B330","v":"23:24:23"},{"$f":"Dados_2.11.2019!C330","v":32},0.64259999999999995,23,24]
[{"$f":"Dados_2.11.2019!A331","v":"2019-11-20"},{"$f":"Dados_2.11.2019!B331","v":"23:24:23"},{"$f":"Dados_2.11.2019!C331","v":5},0,23,24]
[{"$f":"Dados_2.11.2019!A332","v":"2019-11-20"},{"$f":"Dados_2.11.2019!B332","v":"23:24:23"},{"$f":"Dados_2.11.2019!C332","v":18},0.21139999999999998,23,24]
[{"$f":"Dados_2.11.2019!A333","v":"2019-11-20"},{"$f":"Dados_2.11.2019!B333","v":"23:24:23"},{"$f":"Dados_2.11.2019!C333","v":26},0.43380000000000002,23,24]
[{"$f":"Dados_2.11.2019!A334","v":"2019-11-20"},{"$f":"Dados_2.11.2019!B334","v":"23:24:23"},{"$f":"Dados_2.11.2019!C334","v":23},0.34290000000000004,23,24]
[{"$f":"Dados_2.11.2019!A335","v":"2019-11-20"},{"$f":"Dados_2.11.2019!B335","v":"23:24:24"},{"$f":"Dados_2.11.2019!C335","v":30},0.56899999999999995,23,24]
[{"$f":"Dados_2.11.2019!A336","v":"2019-11-20"},{"$f":"Dados_2.11.2019!B336","v":"23:24:24"},{"$f":"Dados_2.11.2019!C336","v":32},0.64259999999999995,23,24]
[{"$f":"Dados_2.11.2019!A337","v":"2019-11-20"},{"$f":"Dados_2.11.2019!B337","v":"23:24:24"},{"$f":"Dados_2.11.2019!C337","v":16},0.1658,23,24]
[{"$f":"Dados_2.11.2019!A338","v":"2019-11-20"},{"$f":"Dados_2.11.2019!B338","v":"23:24:24"},{"$f":"Dados_2.11.2019!C338","v":24},0.37220000000000003,23,24]
[{"$f":"Dados_2.11.2019!A339","v":"2019-11-20"},{"$f":"Dados_2.11.2019!B339","v":"23:24:24"},{"$f":"Dados_2.11.2019!C339","v":16},0.1658,23,24]
[{"$f":"Dados_2.11.2019!A340","v":"2019-11-20"},{"$f":"Dados_2.11.2019!B340","v":"23:24:25"},{"$f":"Dados_2.11.2019!C340","v":5},0,23,24]
[{"$f":"Dados_2.11.2019!A341","v":"2019-11-20"},{"$f":"Dados_2.11.2019!B341","v":"23:24:25"},{"$f":"Dados_2.11.2019!C341","v":21},0.2873,23,24]
[{"$f":"Dados_2.11.2019!A342","v":"2019-11-20"},{"$f":"Dados_2.11.2019!B342","v":"23:24:25"},{"$f":"Dados_2.11.2019!C342","v":31},0.60529999999999995,23,24]
[{"$f":"Dados_2.11.2019!A343","v":"2019-11-20"},{"$f":"Dados_2.11.2019!B343","v":"23:24:25"},{"$f":"Dados_2.11.2019!C343","v":29},0.53369999999999995,23,24]
[{"$f":"Dados_2.11.2019!A344","v":"2019-11-20"},{"$f":"Dados_2.11.2019!B344","v":"23:24:25"},{"$f":"Dados_2.11.2019!C344","v":20},0.26100000000000001,23,24]
[{"$f":"Dados_2.11.2019!A345","v":"2019-11-20"},{"$f":"Dados_2.11.2019!B345","v":"23:24:26"},{"$f":"Dados_2.11.2019!C345","v":37},0.84409999999999996,23,24]
[{"$f":"Dados_2.11.2019!A346","v":"2019-11-20"},{"$f":"Dados_2.11.2019!B346","v":"23:24:26"},{"$f":"Dados_2.11.2019!C346","v":22},0.31459999999999999,23,24]
[{"$f":"Dados_2.11.2019!A347","v":"2019-11-20"},{"$f":"Dados_2.11.2019!B347","v":"23:24:26"},{"$f":"Dados_2.11.2019!C347","v":33},0.68089999999999995,23,24]
[{"$f":"Dados_2.11.2019!A348","v":"2019-11-20"},{"$f":"Dados_2.11.2019!B348","v":"23:24:26"},{"$f":"Dados_2.11.2019!C348","v":16},0.1658,23,24]
[{"$f":"Dados_2.11.2019!A349","v":"2019-11-20"},{"$f":"Dados_2.11.2019!B349","v":"23:24:26"},{"$f":"Dados_2.11.2019!C349","v":21},0.2873,23,24]
[{"$f":"Dados_2.11.2019!A350","v":"2019-11-20"},{"$f":"Dados_2.11.2019!B350","v":"23:24:27"},{"$f":"Dados_2.11.2019!C350","v":9},3.7700000000000004E-2,23,24]
[{"$f":"Dados_2.11.2019!A351","v":"2019-11-20"},{"$f":"Dados_2.11.2019!B351","v":"23:24:27"},{"$f":"Dados_2.11.2019!C351","v":37},0.84409999999999996,23,24]
[{"$f":"Dados_2.11.2019!A352","v":"2019-11-20"},{"$f":"Dados_2.11.2019!B352","v":"23:24:27"},{"$f":"Dados_2.11.2019!C352","v":12},{"$f":"IF((0.0005*(C352^2)+0.0058*(C352)-0.055)<0,0,IF((0.0005*(C352^2)+0.0058*(C352)-0.055)>1,1,(0.0005*(C352^2)+0.0058*(C352)-0.055)))","v":8.660000000000001E-2},{"$f":"HOUR(B352)","v":23},{"$f":"MINUTE(B352)","v":24}]
[{"$f":"Dados_2.11.2019!A353","v":"2019-11-20"},{"$f":"Dados_2.11.2019!B353","v":"23:24:27"},{"$f":"Dados_2.11.2019!C353","v":26},0.43380000000000002,23,24]
[{"$f":"Dados_2.11.2019!A354","v":"2019-11-20"},{"$f":"Dados_2.11.2019!B354","v":"23:24:27"},{"$f":"Dados_2.11.2019!C354","v":14},0.1242,23,24]
[{"$f":"Dados_2.11.2019!A355","v":"2019-11-20"},{"$f":"Dados_2.11.2019!B355","v":"23:24:28"},{"$f":"Dados_2.11.2019!C355","v":13},0.10489999999999999,23,24]
[{"$f":"Dados_2.11.2019!A356","v":"2019-11-20"},{"$f":"Dados_2.11.2019!B356","v":"23:24:28"},{"$f":"Dados_2.11.2019!C356","v":26},0.43380000000000002,23,24]
[{"$f":"Dados_2.11.2019!A357","v":"2019-11-20"},{"$f":"Dados_2.11.2019!B357","v":"23:24:28"},{"$f":"Dados_2.11.2019!C357","v":32},0.64259999999999995,23,24]
[{"$f":"Dados_2.11.2019!A358","v":"2019-11-20"},{"$f":"Dados_2.11.2019!B358","v":"23:24:28"},{"$f":"Dados_2.11.2019!C358","v":30},0.56899999999999995,23,24]
[{"$f":"Dados_2.11.2019!A359","v":"2019-11-20"},{"$f":"Dados_2.11.2019!B359","v":"23:24:28"},{"$f":"Dados_2.11.2019!C359","v":25},0.40250000000000002,23,24]
[{"$f":"Dados_2.11.2019!A360","v":"2019-11-20"},{"$f":"Dados_2.11.2019!B360","v":"23:24:29"},{"$f":"Dados_2.11.2019!C360","v":9},3.7700000000000004E-2,23,24]
[{"$f":"Dados_2.11.2019!A361","v":"2019-11-20"},{"$f":"Dados_2.11.2019!B361","v":"23:24:29"},{"$f":"Dados_2.11.2019!C361","v":23},0.34290000000000004,23,24]
[{"$f":"Dados_2.11.2019!A362","v":"2019-11-20"},{"$f":"Dados_2.11.2019!B362","v":"23:24:29"},{"$f":"Dados_2.11.2019!C362","v":21},0.2873,23,24]
[{"$f":"Dados_2.11.2019!A363","v":"2019-11-20"},{"$f":"Dados_2.11.2019!B363","v":"23:24:29"},{"$f":"Dados_2.11.2019!C363","v":32},0.64259999999999995,23,24]
[{"$f":"Dados_2.11.2019!A364","v":"2019-11-20"},{"$f":"Dados_2.11.2019!B364","v":"23:24:29"},{"$f":"Dados_2.11.2019!C364","v":8},2.3399999999999997E-2,23,24]
[{"$f":"Dados_2.11.2019!A365","v":"2019-11-20"},{"$f":"Dados_2.11.2019!B365","v":"23:24:30"},{"$f":"Dados_2.11.2019!C365","v":39},0.93169999999999997,23,24]
[{"$f":"Dados_2.11.2019!A366","v":"2019-11-20"},{"$f":"Dados_2.11.2019!B366","v":"23:24:30"},{"$f":"Dados_2.11.2019!C366","v":29},0.53369999999999995,23,24]
[{"$f":"Dados_2.11.2019!A367","v":"2019-11-20"},{"$f":"Dados_2.11.2019!B367","v":"23:24:30"},{"$f":"Dados_2.11.2019!C367","v":38},0.88739999999999986,23,24]
[{"$f":"Dados_2.11.2019!A368","v":"2019-11-20"},{"$f":"Dados_2.11.2019!B368","v":"23:24:30"},{"$f":"Dados_2.11.2019!C368","v":16},0.1658,23,24]
[{"$f":"Dados_2.11.2019!A369","v":"2019-11-20"},{"$f":"Dados_2.11.2019!B369","v":"23:24:30"},{"$f":"Dados_2.11.2019!C369","v":39},0.93169999999999997,23,24]
[{"$f":"Dados_2.11.2019!A370","v":"2019-11-20"},{"$f":"Dados_2.11.2019!B370","v":"23:24:31"},{"$f":"Dados_2.11.2019!C370","v":37},0.84409999999999996,23,24]
[{"$f":"Dados_2.11.2019!A371","v":"2019-11-20"},{"$f":"Dados_2.11.2019!B371","v":"23:24:31"},{"$f":"Dados_2.11.2019!C371","v":33},0.68089999999999995,23,24]
[{"$f":"Dados_2.11.2019!A372","v":"2019-11-20"},{"$f":"Dados_2.11.2019!B372","v":"23:24:31"},{"$f":"Dados_2.11.2019!C372","v":14},0.1242,23,24]
[{"$f":"Dados_2.11.2019!A373","v":"2019-11-20"},{"$f":"Dados_2.11.2019!B373","v":"23:24:31"},{"$f":"Dados_2.11.2019!C373","v":29},0.53369999999999995,23,24]
[{"$f":"Dados_2.11.2019!A374","v":"2019-11-20"},{"$f":"Dados_2.11.2019!B374","v":"23:24:31"},{"$f":"Dados_2.11.2019!C374","v":38},0.88739999999999986,23,24]
[{"$f":"Dados_2.11.2019!A375","v":"2019-11-20"},{"$f":"Dados_2.11.2019!B375","v":"23:24:32"},{"$f":"Dados_2.11.2019!C375","v":7},1.0099999999999991E-2,23,24]
[{"$f":"Dados_2.11.2019!A376","v":"2019-11-20"},{"$f":"Dados_2.11.2019!B376","v":"23:24:32"},{"$f":"Dados_2.11.2019!C376","v":30},0.56899999999999995,23,24]
[{"$f":"Dados_2.11.2019!A377","v":"2019-11-20"},{"$f":"Dados_2.11.2019!B377","v":"23:24:32"},{"$f":"Dados_2.11.2019!C377","v":33},0.68089999999999995,23,24]
[{"$f":"Dados_2.11.2019!A378","v":"2019-11-20"},{"$f":"Dados_2.11.2019!B378","v":"23:24:32"},{"$f":"Dados_2.11.2019!C378","v":31},0.60529999999999995,23,24]
[{"$f":"Dados_2.11.2019!A379","v":"2019-11-20"},{"$f":"Dados_2.11.2019!B379","v":"23:24:32"},{"$f":"Dados_2.11.2019!C379","v":27},0.46610000000000001,23,24]
[{"$f":"Dados_2.11.2019!A380","v":"2019-11-20"},{"$f":"Dados_2.11.2019!B380","v":"23:24:33"},{"$f":"Dados_2.11.2019!C380","v":37},0.84409999999999996,23,24]
[{"$f":"Dados_2.11.2019!A381","v":"2019-11-20"},{"$f":"Dados_2.11.2019!B381","v":"23:24:33"},{"$f":"Dados_2.11.2019!C381","v":22},0.31459999999999999,23,24]
[{"$f":"Dados_2.11.2019!A382","v":"2019-11-20"},{"$f":"Dados_2.11.2019!B382","v":"23:24:33"},{"$f":"Dados_2.11.2019!C382","v":7},1.0099999999999991E-2,23,24]
[{"$f":"Dados_2.11.2019!A383","v":"2019-11-20"},{"$f":"Dados_2.11.2019!B383","v":"23:24:33"},{"$f":"Dados_2.11.2019!C383","v":31},0.60529999999999995,23,24]
[{"$f":"Dados_2.11.2019!A384","v":"2019-11-20"},{"$f":"Dados_2.11.2019!B384","v":"23:24:33"},{"$f":"Dados_2.11.2019!C384","v":8},2.3399999999999997E-2,23,24]
[{"$f":"Dados_2.11.2019!A385","v":"2019-11-20"},{"$f":"Dados_2.11.2019!B385","v":"23:24:34"},{"$f":"Dados_2.11.2019!C385","v":17},0.18809999999999999,23,24]
[{"$f":"Dados_2.11.2019!A386","v":"2019-11-20"},{"$f":"Dados_2.11.2019!B386","v":"23:24:34"},{"$f":"Dados_2.11.2019!C386","v":14},0.1242,23,24]
[{"$f":"Dados_2.11.2019!A387","v":"2019-11-20"},{"$f":"Dados_2.11.2019!B387","v":"23:24:34"},{"$f":"Dados_2.11.2019!C387","v":10},5.2999999999999999E-2,23,24]
[{"$f":"Dados_2.11.2019!A388","v":"2019-11-20"},{"$f":"Dados_2.11.2019!B388","v":"23:24:34"},{"$f":"Dados_2.11.2019!C388","v":8},2.3399999999999997E-2,23,24]
[{"$f":"Dados_2.11.2019!A389","v":"2019-11-20"},{"$f":"Dados_2.11.2019!B389","v":"23:24:34"},{"$f":"Dados_2.11.2019!C389","v":17},0.18809999999999999,23,24]
[{"$f":"Dados_2.11.2019!A390","v":"2019-11-20"},{"$f":"Dados_2.11.2019!B390","v":"23:24:35"},{"$f":"Dados_2.11.2019!C390","v":10},5.2999999999999999E-2,23,24]
[{"$f":"Dados_2.11.2019!A391","v":"2019-11-20"},{"$f":"Dados_2.11.2019!B391","v":"23:24:35"},{"$f":"Dados_2.11.2019!C391","v":22},0.31459999999999999,23,24]
[{"$f":"Dados_2.11.2019!A392","v":"2019-11-20"},{"$f":"Dados_2.11.2019!B392","v":"23:24:35"},{"$f":"Dados_2.11.2019!C392","v":16},0.1658,23,24]
[{"$f":"Dados_2.11.2019!A393","v":"2019-11-20"},{"$f":"Dados_2.11.2019!B393","v":"23:24:35"},{"$f":"Dados_2.11.2019!C393","v":18},0.21139999999999998,23,24]
[{"$f":"Dados_2.11.2019!A394","v":"2019-11-20"},{"$f":"Dados_2.11.2019!B394","v":"23:24:35"},{"$f":"Dados_2.11.2019!C394","v":20},0.26100000000000001,23,24]
[{"$f":"Dados_2.11.2019!A395","v":"2019-11-20"},{"$f":"Dados_2.11.2019!B395","v":"23:24:36"},{"$f":"Dados_2.11.2019!C395","v":15},0.14450000000000002,23,24]
[{"$f":"Dados_2.11.2019!A396","v":"2019-11-20"},{"$f":"Dados_2.11.2019!B396","v":"23:24:36"},{"$f":"Dados_2.11.2019!C396","v":16},0.1658,23,24]
[{"$f":"Dados_2.11.2019!A397","v":"2019-11-20"},{"$f":"Dados_2.11.2019!B397","v":"23:24:36"},{"$f":"Dados_2.11.2019!C397","v":12},8.660000000000001E-2,23,24]
[{"$f":"Dados_2.11.2019!A398","v":"2019-11-20"},{"$f":"Dados_2.11.2019!B398","v":"23:24:36"},{"$f":"Dados_2.11.2019!C398","v":39},0.93169999999999997,23,24]
[{"$f":"Dados_2.11.2019!A399","v":"2019-11-20"},{"$f":"Dados_2.11.2019!B399","v":"23:24:36"},{"$f":"Dados_2.11.2019!C399","v":39},0.93169999999999997,23,24]
[{"$f":"Dados_2.11.2019!A400","v":"2019-11-20"},{"$f":"Dados_2.11.2019!B400","v":"23:24:37"},{"$f":"Dados_2.11.2019!C400","v":20},0.26100000000000001,23,24]
[{"$f":"Dados_2.11.2019!A401","v":"2019-11-20"},{"$f":"Dados_2.11.2019!B401","v":"23:24:37"},{"$f":"Dados_2.11.2019!C401","v":16},0.1658,23,24]
[{"$f":"Dados_2.11.2019!A402","v":"2019-11-20"},{"$f":"Dados_2.11.2019!B402","v":"23:24:37"},{"$f":"Dados_2.11.2019!C402","v":17},0.18809999999999999,23,24]
[{"$f":"Dados_2.11.2019!A403","v":"2019-11-20"},{"$f":"Dados_2.11.2019!B403","v":"23:24:37"},{"$f":"Dados_2.11.2019!C403","v":38},0.88739999999999986,23,24]
[{"$f":"Dados_2.11.2019!A404","v":"2019-11-20"},{"$f":"Dados_2.11.2019!B404","v":"23:24:37"},{"$f":"Dados_2.11.2019!C404","v":29},0.53369999999999995,23,24]
[{"$f":"Dados_2.11.2019!A405","v":"2019-11-20"},{"$f":"Dados_2.11.2019!B405","v":"23:24:38"},{"$f":"Dados_2.11.2019!C405","v":6},0,23,24]
[{"$f":"Dados_2.11.2019!A406","v":"2019-11-20"},{"$f":"Dados_2.11.2019!B406","v":"23:24:38"},{"$f":"Dados_2.11.2019!C406","v":5},0,23,24]
[{"$f":"Dados_2.11.2019!A407","v":"2019-11-20"},{"$f":"Dados_2.11.2019!B407","v":"23:24:38"},{"$f":"Dados_2.11.2019!C407","v":30},0.56899999999999995,23,24]
[{"$f":"Dados_2.11.2019!A408","v":"2019-11-20"},{"$f":"Dados_2.11.2019!B408","v":"23:24:38"},{"$f":"Dados_2.11.2019!C408","v":33},0.68089999999999995,23,24]
[{"$f":"Dados_2.11.2019!A409","v":"2019-11-20"},{"$f":"Dados_2.11.2019!B409","v":"23:24:38"},{"$f":"Dados_2.11.2019!C409","v":26},0.43380000000000002,23,24]
[{"$f":"Dados_2.11.2019!A410","v":"2019-11-20"},{"$f":"Dados_2.11.2019!B410","v":"23:24:39"},{"$f":"Dados_2.11.2019!C410","v":30},0.56899999999999995,23,24]
[{"$f":"Dados_2.11.2019!A411","v":"2019-11-20"},{"$f":"Dados_2.11.2019!B411","v":"23:24:39"},{"$f":"Dados_2.11.2019!C411","v":27},0.46610000000000001,23,24]
[{"$f":"Dados_2.11.2019!A412","v":"2019-11-20"},{"$f":"Dados_2.11.2019!B412","v":"23:24:39"},{"$f":"Dados_2.11.2019!C412","v":39},0.93169999999999997,23,24]
[{"$f":"Dados_2.11.2019!A413","v":"2019-11-20"},{"$f":"Dados_2.11.2019!B413","v":"23:24:39"},{"$f":"Dados_2.11.2019!C413","v":29},0.53369999999999995,23,24]
[{"$f":"Dados_2.11.2019!A414","v":"2019-11-20"},{"$f":"Dados_2.11.2019!B414","v":"23:24:39"},{"$f":"Dados_2.11.2019!C414","v":28},0.49940000000000001,23,24]
[{"$f":"Dados_2.11.2019!A415","v":"2019-11-20"},{"$f":"Dados_2.11.2019!B415","v":"23:24:40"},{"$f":"Dados_2.11.2019!C415","v":31},0.60529999999999995,23,24]
[{"$f":"Dados_2.11.2019!A416","v":"2019-11-20"},{"$f":"Dados_2.11.2019!B416","v":"23:24:40"},{"$f":"Dados_2.11.2019!C416","v":20},{"$f":"IF((0.0005*(C416^2)+0.0058*(C416)-0.055)<0,0,IF((0.0005*(C416^2)+0.0058*(C416)-0.055)>1,1,(0.0005*(C416^2)+0.0058*(C416)-0.055)))","v":0.26100000000000001},{"$f":"HOUR(B416)","v":23},{"$f":"MINUTE(B416)","v":24}]
[{"$f":"Dados_2.11.2019!A417","v":"2019-11-20"},{"$f":"Dados_2.11.2019!B417","v":"23:24:40"},{"$f":"Dados_2.11.2019!C417","v":32},0.64259999999999995,23,24]
[{"$f":"Dados_2.11.2019!A418","v":"2019-11-20"},{"$f":"Dados_2.11.2019!B418","v":"23:24:40"},{"$f":"Dados_2.11.2019!C418","v":36},0.80179999999999996,23,24]
[{"$f":"Dados_2.11.2019!A419","v":"2019-11-20"},{"$f":"Dados_2.11.2019!B419","v":"23:24:40"},{"$f":"Dados_2.11.2019!C419","v":18},0.21139999999999998,23,24]
[{"$f":"Dados_2.11.2019!A420","v":"2019-11-20"},{"$f":"Dados_2.11.2019!B420","v":"23:24:41"},{"$f":"Dados_2.11.2019!C420","v":26},0.43380000000000002,23,24]
[{"$f":"Dados_2.11.2019!A421","v":"2019-11-20"},{"$f":"Dados_2.11.2019!B421","v":"23:24:41"},{"$f":"Dados_2.11.2019!C421","v":32},0.64259999999999995,23,24]
[{"$f":"Dados_2.11.2019!A422","v":"2019-11-20"},{"$f":"Dados_2.11.2019!B422","v":"23:24:41"},{"$f":"Dados_2.11.2019!C422","v":10},5.2999999999999999E-2,23,24]
[{"$f":"Dados_2.11.2019!A423","v":"2019-11-20"},{"$f":"Dados_2.11.2019!B423","v":"23:24:41"},{"$f":"Dados_2.11.2019!C423","v":21},0.2873,23,24]
[{"$f":"Dados_2.11.2019!A424","v":"2019-11-20"},{"$f":"Dados_2.11.2019!B424","v":"23:24:41"},{"$f":"Dados_2.11.2019!C424","v":38},0.88739999999999986,23,24]
[{"$f":"Dados_2.11.2019!A425","v":"2019-11-20"},{"$f":"Dados_2.11.2019!B425","v":"23:24:42"},{"$f":"Dados_2.11.2019!C425","v":8},2.3399999999999997E-2,23,24]
[{"$f":"Dados_2.11.2019!A426","v":"2019-11-20"},{"$f":"Dados_2.11.2019!B426","v":"23:24:42"},{"$f":"Dados_2.11.2019!C426","v":27},0.46610000000000001,23,24]
[{"$f":"Dados_2.11.2019!A427","v":"2019-11-20"},{"$f":"Dados_2.11.2019!B427","v":"23:24:42"},{"$f":"Dados_2.11.2019!C427","v":32},0.64259999999999995,23,24]
[{"$f":"Dados_2.11.2019!A428","v":"2019-11-20"},{"$f":"Dados_2.11.2019!B428","v":"23:24:42"},{"$f":"Dados_2.11.2019!C428","v":19},0.23569999999999997,23,24]
[{"$f":"Dados_2.11.2019!A429","v":"2019-11-20"},{"$f":"Dados_2.11.2019!B429","v":"23:24:42"},{"$f":"Dados_2.11.2019!C429","v":13},0.10489999999999999,23,24]
[{"$f":"Dados_2.11.2019!A430","v":"2019-11-20"},{"$f":"Dados_2.11.2019!B430","v":"23:24:43"},{"$f":"Dados_2.11.2019!C430","v":11},6.93E-2,23,24]
[{"$f":"Dados_2.11.2019!A431","v":"2019-11-20"},{"$f":"Dados_2.11.2019!B431","v":"23:24:43"},{"$f":"Dados_2.11.2019!C431","v":16},0.1658,23,24]
[{"$f":"Dados_2.11.2019!A432","v":"2019-11-20"},{"$f":"Dados_2.11.2019!B432","v":"23:24:43"},{"$f":"Dados_2.11.2019!C432","v":27},0.46610000000000001,23,24]
[{"$f":"Dados_2.11.2019!A433","v":"2019-11-20"},{"$f":"Dados_2.11.2019!B433","v":"23:24:43"},{"$f":"Dados_2.11.2019!C433","v":37},0.84409999999999996,23,24]
[{"$f":"Dados_2.11.2019!A434","v":"2019-11-20"},{"$f":"Dados_2.11.2019!B434","v":"23:24:43"},{"$f":"Dados_2.11.2019!C434","v":27},0.46610000000000001,23,24]
[{"$f":"Dados_2.11.2019!A435","v":"2019-11-20"},{"$f":"Dados_2.11.2019!B435","v":"23:24:44"},{"$f":"Dados_2.11.2019!C435","v":18},0.21139999999999998,23,24]
[{"$f":"Dados_2.11.2019!A436","v":"2019-11-20"},{"$f":"Dados_2.11.2019!B436","v":"23:24:44"},{"$f":"Dados_2.11.2019!C436","v":11},6.93E-2,23,24]
[{"$f":"Dados_2.11.2019!A437","v":"2019-11-20"},{"$f":"Dados_2.11.2019!B437","v":"23:24:44"},{"$f":"Dados_2.11.2019!C437","v":30},0.56899999999999995,23,24]
[{"$f":"Dados_2.11.2019!A438","v":"2019-11-20"},{"$f":"Dados_2.11.2019!B438","v":"23:24:44"},{"$f":"Dados_2.11.2019!C438","v":36},0.80179999999999996,23,24]
[{"$f":"Dados_2.11.2019!A439","v":"2019-11-20"},{"$f":"Dados_2.11.2019!B439","v":"23:24:44"},{"$f":"Dados_2.11.2019!C439","v":8},2.3399999999999997E-2,23,24]
[{"$f":"Dados_2.11.2019!A440","v":"2019-11-20"},{"$f":"Dados_2.11.2019!B440","v":"23:24:45"},{"$f":"Dados_2.11.2019!C440","v":21},0.2873,23,24]
[{"$f":"Dados_2.11.2019!A441","v":"2019-11-20"},{"$f":"Dados_2.11.2019!B441","v":"23:24:45"},{"$f":"Dados_2.11.2019!C441","v":37},0.84409999999999996,23,24]
[{"$f":"Dados_2.11.2019!A442","v":"2019-11-20"},{"$f":"Dados_2.11.2019!B442","v":"23:24:45"},{"$f":"Dados_2.11.2019!C442","v":21},0.2873,23,24]
[{"$f":"Dados_2.11.2019!A443","v":"2019-11-20"},{"$f":"Dados_2.11.2019!B443","v":"23:24:45"},{"$f":"Dados_2.11.2019!C443","v":28},0.49940000000000001,23,24]
[{"$f":"Dados_2.11.2019!A444","v":"2019-11-20"},{"$f":"Dados_2.11.2019!B444","v":"23:24:45"},{"$f":"Dados_2.11.2019!C444","v":37},0.84409999999999996,23,24]
[{"$f":"Dados_2.11.2019!A445","v":"2019-11-20"},{"$f":"Dados_2.11.2019!B445","v":"23:24:46"},{"$f":"Dados_2.11.2019!C445","v":25},0.40250000000000002,23,24]
[{"$f":"Dados_2.11.2019!A446","v":"2019-11-20"},{"$f":"Dados_2.11.2019!B446","v":"23:24:46"},{"$f":"Dados_2.11.2019!C446","v":26},0.43380000000000002,23,24]
[{"$f":"Dados_2.11.2019!A447","v":"2019-11-20"},{"$f":"Dados_2.11.2019!B447","v":"23:24:46"},{"$f":"Dados_2.11.2019!C447","v":6},0,23,24]
[{"$f":"Dados_2.11.2019!A448","v":"2019-11-20"},{"$f":"Dados_2.11.2019!B448","v":"23:24:46"},{"$f":"Dados_2.11.2019!C448","v":32},0.64259999999999995,23,24]
[{"$f":"Dados_2.11.2019!A449","v":"2019-11-20"},{"$f":"Dados_2.11.2019!B449","v":"23:24:46"},{"$f":"Dados_2.11.2019!C449","v":26},0.43380000000000002,23,24]
[{"$f":"Dados_2.11.2019!A450","v":"2019-11-20"},{"$f":"Dados_2.11.2019!B450","v":"23:24:47"},{"$f":"Dados_2.11.2019!C450","v":32},0.64259999999999995,23,24]
[{"$f":"Dados_2.11.2019!A451","v":"2019-11-20"},{"$f":"Dados_2.11.2019!B451","v":"23:24:47"},{"$f":"Dados_2.11.2019!C451","v":6},0,23,24]
[{"$f":"Dados_2.11.2019!A452","v":"2019-11-20"},{"$f":"Dados_2.11.2019!B452","v":"23:24:47"},{"$f":"Dados_2.11.2019!C452","v":32},0.64259999999999995,23,24]
[{"$f":"Dados_2.11.2019!A453","v":"2019-11-20"},{"$f":"Dados_2.11.2019!B453","v":"23:24:47"},{"$f":"Dados_2.11.2019!C453","v":24},0.37220000000000003,23,24]
[{"$f":"Dados_2.11.2019!A454","v":"2019-11-20"},{"$f":"Dados_2.11.2019!B454","v":"23:24:47"},{"$f":"Dados_2.11.2019!C454","v":35},0.76049999999999995,23,24]
[{"$f":"Dados_2.11.2019!A455","v":"2019-11-20"},{"$f":"Dados_2.11.2019!B455","v":"23:24:48"},{"$f":"Dados_2.11.2019!C455","v":14},0.1242,23,24]
[{"$f":"Dados_2.11.2019!A456","v":"2019-11-20"},{"$f":"Dados_2.11.2019!B456","v":"23:24:48"},{"$f":"Dados_2.11.2019!C456","v":36},0.80179999999999996,23,24]
[{"$f":"Dados_2.11.2019!A457","v":"2019-11-20"},{"$f":"Dados_2.11.2019!B457","v":"23:24:48"},{"$f":"Dados_2.11.2019!C457","v":14},0.1242,23,24]
[{"$f":"Dados_2.11.2019!A458","v":"2019-11-20"},{"$f":"Dados_2.11.2019!B458","v":"23:24:48"},{"$f":"Dados_2.11.2019!C458","v":26},0.43380000000000002,23,24]
[{"$f":"Dados_2.11.2019!A459","v":"2019-11-20"},{"$f":"Dados_2.11.2019!B459","v":"23:24:48"},{"$f":"Dados_2.11.2019!C459","v":39},0.93169999999999997,23,24]
[{"$f":"Dados_2.11.2019!A460","v":"2019-11-20"},{"$f":"Dados_2.11.2019!B460","v":"23:24:49"},{"$f":"Dados_2.11.2019!C460","v":22},0.31459999999999999,23,24]
[{"$f":"Dados_2.11.2019!A461","v":"2019-11-20"},{"$f":"Dados_2.11.2019!B461","v":"23:24:49"},{"$f":"Dados_2.11.2019!C461","v":31},0.60529999999999995,23,24]
[{"$f":"Dados_2.11.2019!A462","v":"2019-11-20"},{"$f":"Dados_2.11.2019!B462","v":"23:24:49"},{"$f":"Dados_2.11.2019!C462","v":17},0.18809999999999999,23,24]
[{"$f":"Dados_2.11.2019!A463","v":"2019-11-20"},{"$f":"Dados_2.11.2019!B463","v":"23:24:49"},{"$f":"Dados_2.11.2019!C463","v":10},5.2999999999999999E-2,23,24]
[{"$f":"Dados_2.11.2019!A464","v":"2019-11-20"},{"$f":"Dados_2.11.2019!B464","v":"23:24:49"},{"$f":"Dados_2.11.2019!C464","v":21},0.2873,23,24]
[{"$f":"Dados_2.11.2019!A465","v":"2019-11-20"},{"$f":"Dados_2.11.2019!B465","v":"23:24:50"},{"$f":"Dados_2.11.2019!C465","v":37},0.84409999999999996,23,24]
[{"$f":"Dados_2.11.2019!A466","v":"2019-11-20"},{"$f":"Dados_2.11.2019!B466","v":"23:24:50"},{"$f":"Dados_2.11.2019!C466","v":18},0.21139999999999998,23,24]
[{"$f":"Dados_2.11.2019!A467","v":"2019-11-20"},{"$f":"Dados_2.11.2019!B467","v":"23:24:50"},{"$f":"Dados_2.11.2019!C467","v":19},0.23569999999999997,23,24]
[{"$f":"Dados_2.11.2019!A468","v":"2019-11-20"},{"$f":"Dados_2.11.2019!B468","v":"23:24:50"},{"$f":"Dados_2.11.2019!C468","v":34},0.72019999999999984,23,24]
[{"$f":"Dados_2.11.2019!A469","v":"2019-11-20"},{"$f":"Dados_2.11.2019!B469","v":"23:24:50"},{"$f":"Dados_2.11.2019!C469","v":36},0.80179999999999996,23,24]
[{"$f":"Dados_2.11.2019!A470","v":"2019-11-20"},{"$f":"Dados_2.11.2019!B470","v":"23:24:51"},{"$f":"Dados_2.11.2019!C470","v":29},0.53369999999999995,23,24]
[{"$f":"Dados_2.11.2019!A471","v":"2019-11-20"},{"$f":"Dados_2.11.2019!B471","v":"23:24:51"},{"$f":"Dados_2.11.2019!C471","v":34},0.72019999999999984,23,24]
[{"$f":"Dados_2.11.2019!A472","v":"2019-11-20"},{"$f":"Dados_2.11.2019!B472","v":"23:24:51"},{"$f":"Dados_2.11.2019!C472","v":5},0,23,24]
[{"$f":"Dados_2.11.2019!A473","v":"2019-11-20"},{"$f":"Dados_2.11.2019!B473","v":"23:24:51"},{"$f":"Dados_2.11.2019!C473","v":16},0.1658,23,24]
[{"$f":"Dados_2.11.2019!A474","v":"2019-11-20"},{"$f":"Dados_2.11.2019!B474","v":"23:24:51"},{"$f":"Dados_2.11.2019!C474","v":11},6.93E-2,23,24]
[{"$f":"Dados_2.11.2019!A475","v":"2019-11-20"},{"$f":"Dados_2.11.2019!B475","v":"23:24:52"},{"$f":"Dados_2.11.2019!C475","v":25},0.40250000000000002,23,24]
[{"$f":"Dados_2.11.2019!A476","v":"2019-11-20"},{"$f":"Dados_2.11.2019!B476","v":"23:24:52"},{"$f":"Dados_2.11.2019!C476","v":32},0.64259999999999995,23,24]
[{"$f":"Dados_2.11.2019!A477","v":"2019-11-20"},{"$f":"Dados_2.11.2019!B477","v":"23:24:52"},{"$f":"Dados_2.11.2019!C477","v":38},0.88739999999999986,23,24]
[{"$f":"Dados_2.11.2019!A478","v":"2019-11-20"},{"$f":"Dados_2.11.2019!B478","v":"23:24:52"},{"$f":"Dados_2.11.2019!C478","v":27},0.46610000000000001,23,24]
[{"$f":"Dados_2.11.2019!A479","v":"2019-11-20"},{"$f":"Dados_2.11.2019!B479","v":"23:24:52"},{"$f":"Dados_2.11.2019!C479","v":38},0.88739999999999986,23,24]
[{"$f":"Dados_2.11.2019!A480","v":"2019-11-20"},{"$f":"Dados_2.11.2019!B480","v":"23:24:53"},{"$f":"Dados_2.11.2019!C480","v":17},{"$f":"IF((0.0005*(C480^2)+0.0058*(C480)-0.055)<0,0,IF((0.0005*(C480^2)+0.0058*(C480)-0.055)>1,1,(0.0005*(C480^2)+0.0058*(C480)-0.055)))","v":0.18809999999999999},{"$f":"HOUR(B480)","v":23},{"$f":"MINUTE(B480)","v":24}]
[{"$f":"Dados_2.11.2019!A481","v":"2019-11-20"},{"$f":"Dados_2.11.2019!B481","v":"23:24:53"},{"$f":"Dados_2.11.2019!C481","v":27},0.46610000000000001,23,24]
[{"$f":"Dados_2.11.2019!A482","v":"2019-11-20"},{"$f":"Dados_2.11.2019!B482","v":"23:24:53"},{"$f":"Dados_2.11.2019!C482","v":19},0.23569999999999997,23,24]
[{"$f":"Dados_2.11.2019!A483","v":"2019-11-20"},{"$f":"Dados_2.11.2019!B483","v":"23:24:53"},{"$f":"Dados_2.11.2019!C483","v":29},0.53369999999999995,23,24]
[{"$f":"Dados_2.11.2019!A484","v":"2019-11-20"},{"$f":"Dados_2.11.2019!B484","v":"23:24:53"},{"$f":"Dados_2.11.2019!C484","v":21},0.2873,23,24]
[{"$f":"Dados_2.11.2019!A485","v":"2019-11-20"},{"$f":"Dados_2.11.2019!B485","v":"23:24:54"},{"$f":"Dados_2.11.2019!C485","v":17},0.18809999999999999,23,24]
[{"$f":"Dados_2.11.2019!A486","v":"2019-11-20"},{"$f":"Dados_2.11.2019!B486","v":"23:24:54"},{"$f":"Dados_2.11.2019!C486","v":15},0.14450000000000002,23,24]
[{"$f":"Dados_2.11.2019!A487","v":"2019-11-20"},{"$f":"Dados_2.11.2019!B487","v":"23:24:54"},{"$f":"Dados_2.11.2019!C487","v":20},0.26100000000000001,23,24]
[{"$f":"Dados_2.11.2019!A488","v":"2019-11-20"},{"$f":"Dados_2.11.2019!B488","v":"23:24:54"},{"$f":"Dados_2.11.2019!C488","v":24},0.37220000000000003,23,24]
[{"$f":"Dados_2.11.2019!A489","v":"2019-11-20"},{"$f":"Dados_2.11.2019!B489","v":"23:24:54"},{"$f":"Dados_2.11.2019!C489","v":20},0.26100000000000001,23,24]
[{"$f":"Dados_2.11.2019!A490","v":"2019-11-20"},{"$f":"Dados_2.11.2019!B490","v":"23:24:55"},{"$f":"Dados_2.11.2019!C490","v":18},0.21139999999999998,23,24]
[{"$f":"Dados_2.11.2019!A491","v":"2019-11-20"},{"$f":"Dados_2.11.2019!B491","v":"23:24:55"},{"$f":"Dados_2.11.2019!C491","v":9},3.7700000000000004E-2,23,24]
[{"$f":"Dados_2.11.2019!A492","v":"2019-11-20"},{"$f":"Dados_2.11.2019!B492","v":"23:24:55"},{"$f":"Dados_2.11.2019!C492","v":26},0.43380000000000002,23,24]
[{"$f":"Dados_2.11.2019!A493","v":"2019-11-20"},{"$f":"Dados_2.11.2019!B493","v":"23:24:55"},{"$f":"Dados_2.11.2019!C493","v":36},0.80179999999999996,23,24]
[{"$f":"Dados_2.11.2019!A494","v":"2019-11-20"},{"$f":"Dados_2.11.2019!B494","v":"23:24:55"},{"$f":"Dados_2.11.2019!C494","v":12},8.660000000000001E-2,23,24]
[{"$f":"Dados_2.11.2019!A495","v":"2019-11-20"},{"$f":"Dados_2.11.2019!B495","v":"23:24:56"},{"$f":"Dados_2.11.2019!C495","v":39},0.93169999999999997,23,24]
[{"$f":"Dados_2.11.2019!A496","v":"2019-11-20"},{"$f":"Dados_2.11.2019!B496","v":"23:24:56"},{"$f":"Dados_2.11.2019!C496","v":17},0.18809999999999999,23,24]
[{"$f":"Dados_2.11.2019!A497","v":"2019-11-20"},{"$f":"Dados_2.11.2019!B497","v":"23:24:56"},{"$f":"Dados_2.11.2019!C497","v":26},0.43380000000000002,23,24]
[{"$f":"Dados_2.11.2019!A498","v":"2019-11-20"},{"$f":"Dados_2.11.2019!B498","v":"23:24:56"},{"$f":"Dados_2.11.2019!C498","v":33},0.68089999999999995,23,24]
[{"$f":"Dados_2.11.2019!A499","v":"2019-11-20"},{"$f":"Dados_2.11.2019!B499","v":"23:24:56"},{"$f":"Dados_2.11.2019!C499","v":13},0.10489999999999999,23,24]
[{"$f":"Dados_2.11.2019!A500","v":"2019-11-20"},{"$f":"Dados_2.11.2019!B500","v":"23:24:57"},{"$f":"Dados_2.11.2019!C500","v":35},0.76049999999999995,23,24]
[{"$f":"Dados_2.11.2019!A501","v":"2019-11-20"},{"$f":"Dados_2.11.2019!B501","v":"23:24:57"},{"$f":"Dados_2.11.2019!C501","v":15},0.14450000000000002,23,24]
[{"$f":"Dados_2.11.2019!A502","v":"2019-11-20"},{"$f":"Dados_2.11.2019!B502","v":"23:24:57"},{"$f":"Dados_2.11.2019!C502","v":25},0.40250000000000002,23,24]
[{"$f":"Dados_2.11.2019!A503","v":"2019-11-20"},{"$f":"Dados_2.11.2019!B503","v":"23:24:57"},{"$f":"Dados_2.11.2019!C503","v":26},0.43380000000000002,23,24]
[{"$f":"Dados_2.11.2019!A504","v":"2019-11-20"},{"$f":"Dados_2.11.2019!B504","v":"23:24:57"},{"$f":"Dados_2.11.2019!C504","v":20},0.26100000000000001,23,24]
[{"$f":"Dados_2.11.2019!A505","v":"2019-11-20"},{"$f":"Dados_2.11.2019!B505","v":"23:24:58"},{"$f":"Dados_2.11.2019!C505","v":28},0.49940000000000001,23,24]
[{"$f":"Dados_2.11.2019!A506","v":"2019-11-20"},{"$f":"Dados_2.11.2019!B506","v":"23:24:58"},{"$f":"Dados_2.11.2019!C506","v":19},0.23569999999999997,23,24]
[{"$f":"Dados_2.11.2019!A507","v":"2019-11-20"},{"$f":"Dados_2.11.2019!B507","v":"23:24:58"},{"$f":"Dados_2.11.2019!C507","v":18},0.21139999999999998,23,24]
[{"$f":"Dados_2.11.2019!A508","v":"2019-11-20"},{"$f":"Dados_2.11.2019!B508","v":"23:24:58"},{"$f":"Dados_2.11.2019!C508","v":11},6.93E-2,23,24]
[{"$f":"Dados_2.11.2019!A509","v":"2019-11-20"},{"$f":"Dados_2.11.2019!B509","v":"23:24:58"},{"$f":"Dados_2.11.2019!C509","v":27},0.46610000000000001,23,24]
[{"$f":"Dados_2.11.2019!A510","v":"2019-11-20"},{"$f":"Dados_2.11.2019!B510","v":"23:24:59"},{"$f":"Dados_2.11.2019!C510","v":11},6.93E-2,23,24]
[{"$f":"Dados_2.11.2019!A511","v":"2019-11-20"},{"$f":"Dados_2.11.2019!B511","v":"23:24:59"},{"$f":"Dados_2.11.2019!C511","v":18},0.21139999999999998,23,24]
[{"$f":"Dados_2.11.2019!A512","v":"2019-11-20"},{"$f":"Dados_2.11.2019!B512","v":"23:24:59"},{"$f":"Dados_2.11.2019!C512","v":21},0.2873,23,24]
[{"$f":"Dados_2.11.2019!A513","v":"2019-11-20"},{"$f":"Dados_2.11.2019!B513","v":"23:24:59"},{"$f":"Dados_2.11.2019!C513","v":35},0.76049999999999995,23,24]
[{"$f":"Dados_2.11.2019!A514","v":"2019-11-20"},{"$f":"Dados_2.11.2019!B514","v":"23:24:59"},{"$f":"Dados_2.11.2019!C514","v":31},0.60529999999999995,23,24]
[{"$f":"Dados_2.11.2019!A515","v":"2019-11-20"},{"$f":"Dados_2.11.2019!B515","v":"23:25:00"},{"$f":"Dados_2.11.2019!C515","v":21},0.2873,23,25]
[{"$f":"Dados_2.11.2019!A516","v":"2019-11-20"},{"$f":"Dados_2.11.2019!B516","v":"23:25:00"},{"$f":"Dados_2.11.2019!C516","v":24},0.37220000000000003,23,25]
[{"$f":"Dados_2.11.2019!A517","v":"2019-11-20"},{"$f":"Dados_2.11.2019!B517","v":"23:25:00"},{"$f":"Dados_2.11.2019!C517","v":24},0.37220000000000003,23,25]
[{"$f":"Dados_2.11.2019!A518","v":"2019-11-20"},{"$f":"Dados_2.11.2019!B518","v":"23:25:00"},{"$f":"Dados_2.11.2019!C518","v":6},0,23,25]
[{"$f":"Dados_2.11.2019!A519","v":"2019-11-20"},{"$f":"Dados_2.11.2019!B519","v":"23:25:00"},{"$f":"Dados_2.11.2019!C519","v":13},0.10489999999999999,23,25]
[{"$f":"Dados_2.11.2019!A520","v":"2019-11-20"},{"$f":"Dados_2.11.2019!B520","v":"23:25:01"},{"$f":"Dados_2.11.2019!C520","v":21},0.2873,23,25]
[{"$f":"Dados_2.11.2019!A521","v":"2019-11-20"},{"$f":"Dados_2.11.2019!B521","v":"23:25:01"},{"$f":"Dados_2.11.2019!C521","v":23},0.34290000000000004,23,25]
[{"$f":"Dados_2.11.2019!A522","v":"2019-11-20"},{"$f":"Dados_2.11.2019!B522","v":"23:25:01"},{"$f":"Dados_2.11.2019!C522","v":32},0.64259999999999995,23,25]
[{"$f":"Dados_2.11.2019!A523","v":"2019-11-20"},{"$f":"Dados_2.11.2019!B523","v":"23:25:01"},{"$f":"Dados_2.11.2019!C523","v":11},6.93E-2,23,25]
[{"$f":"Dados_2.11.2019!A524","v":"2019-11-20"},{"$f":"Dados_2.11.2019!B524","v":"23:25:01"},{"$f":"Dados_2.11.2019!C524","v":31},0.60529999999999995,23,25]
[{"$f":"Dados_2.11.2019!A525","v":"2019-11-20"},{"$f":"Dados_2.11.2019!B525","v":"23:25:02"},{"$f":"Dados_2.11.2019!C525","v":23},0.34290000000000004,23,25]
[{"$f":"Dados_2.11.2019!A526","v":"2019-11-20"},{"$f":"Dados_2.11.2019!B526","v":"23:25:02"},{"$f":"Dados_2.11.2019!C526","v":26},0.43380000000000002,23,25]
[{"$f":"Dados_2.11.2019!A527","v":"2019-11-20"},{"$f":"Dados_2.11.2019!B527","v":"23:25:02"},{"$f":"Dados_2.11.2019!C527","v":38},0.88739999999999986,23,25]
[{"$f":"Dados_2.11.2019!A528","v":"2019-11-20"},{"$f":"Dados_2.11.2019!B528","v":"23:25:02"},{"$f":"Dados_2.11.2019!C528","v":27},0.46610000000000001,23,25]
[{"$f":"Dados_2.11.2019!A529","v":"2019-11-20"},{"$f":"Dados_2.11.2019!B529","v":"23:25:02"},{"$f":"Dados_2.11.2019!C529","v":39},0.93169999999999997,23,25]
[{"$f":"Dados_2.11.2019!A530","v":"2019-11-20"},{"$f":"Dados_2.11.2019!B530","v":"23:25:03"},{"$f":"Dados_2.11.2019!C530","v":24},0.37220000000000003,23,25]
[{"$f":"Dados_2.11.2019!A531","v":"2019-11-20"},{"$f":"Dados_2.11.2019!B531","v":"23:25:03"},{"$f":"Dados_2.11.2019!C531","v":29},0.53369999999999995,23,25]
[{"$f":"Dados_2.11.2019!A532","v":"2019-11-20"},{"$f":"Dados_2.11.2019!B532","v":"23:25:03"},{"$f":"Dados_2.11.2019!C532","v":38},0.88739999999999986,23,25]
[{"$f":"Dados_2.11.2019!A533","v":"2019-11-20"},{"$f":"Dados_2.11.2019!B533","v":"23:25:03"},{"$f":"Dados_2.11.2019!C533","v":39},0.93169999999999997,23,25]
[{"$f":"Dados_2.11.2019!A534","v":"2019-11-20"},{"$f":"Dados_2.11.2019!B534","v":"23:25:03"},{"$f":"Dados_2.11.2019!C534","v":8},2.3399999999999997E-2,23,25]
[{"$f":"Dados_2.11.2019!A535","v":"2019-11-20"},{"$f":"Dados_2.11.2019!B535","v":"23:25:04"},{"$f":"Dados_2.11.2019!C535","v":12},8.660000000000001E-2,23,25]
[{"$f":"Dados_2.11.2019!A536","v":"2019-11-20"},{"$f":"Dados_2.11.2019!B536","v":"23:25:04"},{"$f":"Dados_2.11.2019!C536","v":25},0.40250000000000002,23,25]
[{"$f":"Dados_2.11.2019!A537","v":"2019-11-20"},{"$f":"Dados_2.11.2019!B537","v":"23:25:04"},{"$f":"Dados_2.11.2019!C537","v":9},3.7700000000000004E-2,23,25]
[{"$f":"Dados_2.11.2019!A538","v":"2019-11-20"},{"$f":"Dados_2.11.2019!B538","v":"23:25:04"},{"$f":"Dados_2.11.2019!C538","v":26},0.43380000000000002,23,25]
[{"$f":"Dados_2.11.2019!A539","v":"2019-11-20"},{"$f":"Dados_2.11.2019!B539","v":"23:25:04"},{"$f":"Dados_2.11.2019!C539","v":24},0.37220000000000003,23,25]
[{"$f":"Dados_2.11.2019!A540","v":"2019-11-20"},{"$f":"Dados_2.11.2019!B540","v":"23:25:05"},{"$f":"Dados_2.11.2019!C540","v":8},2.3399999999999997E-2,23,25]
[{"$f":"Dados_2.11.2019!A541","v":"2019-11-20"},{"$f":"Dados_2.11.2019!B541","v":"23:25:05"},{"$f":"Dados_2.11.2019!C541","v":24},0.37220000000000003,23,25]
[{"$f":"Dados_2.11.2019!A542","v":"2019-11-20"},{"$f":"Dados_2.11.2019!B542","v":"23:25:05"},{"$f":"Dados_2.11.2019!C542","v":36},0.80179999999999996,23,25]
[{"$f":"Dados_2.11.2019!A543","v":"2019-11-20"},{"$f":"Dados_2.11.2019!B543","v":"23:25:05"},{"$f":"Dados_2.11.2019!C543","v":14},0.1242,23,25]
[{"$f":"Dados_2.11.2019!A544","v":"2019-11-20"},{"$f":"Dados_2.11.2019!B544","v":"23:25:05"},{"$f":"Dados_2.11.2019!C544","v":5},{"$f":"IF((0.0005*(C544^2)+0.0058*(C544)-0.055)<0,0,IF((0.0005*(C544^2)+0.0058*(C544)-0.055)>1,1,(0.0005*(C544^2)+0.0058*(C544)-0.055)))","v":0},{"$f":"HOUR(B544)","v":23},{"$f":"MINUTE(B544)","v":25}]
[{"$f":"Dados_2.11.2019!A545","v":"2019-11-20"},{"$f":"Dados_2.11.2019!B545","v":"23:25:06"},{"$f":"Dados_2.11.2019!C545","v":21},0.2873,23,25]
[{"$f":"Dados_2.11.2019!A546","v":"2019-11-20"},{"$f":"Dados_2.11.2019!B546","v":"23:25:06"},{"$f":"Dados_2.11.2019!C546","v":39},0.93169999999999997,23,25]
[{"$f":"Dados_2.11.2019!A547","v":"2019-11-20"},{"$f":"Dados_2.11.2019!B547","v":"23:25:06"},{"$f":"Dados_2.11.2019!C547","v":10},5.2999999999999999E-2,23,25]
[{"$f":"Dados_2.11.2019!A548","v":"2019-11-20"},{"$f":"Dados_2.11.2019!B548","v":"23:25:06"},{"$f":"Dados_2.11.2019!C548","v":22},0.31459999999999999,23,25]
[{"$f":"Dados_2.11.2019!A549","v":"2019-11-20"},{"$f":"Dados_2.11.2019!B549","v":"23:25:06"},{"$f":"Dados_2.11.2019!C549","v":5},0,23,25]
[{"$f":"Dados_2.11.2019!A550","v":"2019-11-20"},{"$f":"Dados_2.11.2019!B550","v":"23:25:07"},{"$f":"Dados_2.11.2019!C550","v":13},0.10489999999999999,23,25]
[{"$f":"Dados_2.11.2019!A551","v":"2019-11-20"},{"$f":"Dados_2.11.2019!B551","v":"23:25:07"},{"$f":"Dados_2.11.2019!C551","v":23},0.34290000000000004,23,25]
[{"$f":"Dados_2.11.2019!A552","v":"2019-11-20"},{"$f":"Dados_2.11.2019!B552","v":"23:25:07"},{"$f":"Dados_2.11.2019!C552","v":34},0.72019999999999984,23,25]
[{"$f":"Dados_2.11.2019!A553","v":"2019-11-20"},{"$f":"Dados_2.11.2019!B553","v":"23:25:07"},{"$f":"Dados_2.11.2019!C553","v":32},0.64259999999999995,23,25]
[{"$f":"Dados_2.11.2019!A554","v":"2019-11-20"},{"$f":"Dados_2.11.2019!B554","v":"23:25:07"},{"$f":"Dados_2.11.2019!C554","v":38},0.88739999999999986,23,25]
[{"$f":"Dados_2.11.2019!A555","v":"2019-11-20"},{"$f":"Dados_2.11.2019!B555","v":"23:25:08"},{"$f":"Dados_2.11.2019!C555","v":14},0.1242,23,25]
[{"$f":"Dados_2.11.2019!A556","v":"2019-11-20"},{"$f":"Dados_2.11.2019!B556","v":"23:25:08"},{"$f":"Dados_2.11.2019!C556","v":24},0.37220000000000003,23,25]
[{"$f":"Dados_2.11.2019!A557","v":"2019-11-20"},{"$f":"Dados_2.11.2019!B557","v":"23:25:08"},{"$f":"Dados_2.11.2019!C557","v":39},0.93169999999999997,23,25]
[{"$f":"Dados_2.11.2019!A558","v":"2019-11-20"},{"$f":"Dados_2.11.2019!B558","v":"23:25:08"},{"$f":"Dados_2.11.2019!C558","v":30},0.56899999999999995,23,25]
[{"$f":"Dados_2.11.2019!A559","v":"2019-11-20"},{"$f":"Dados_2.11.2019!B559","v":"23:25:08"},{"$f":"Dados_2.11.2019!C559","v":6},0,23,25]
[{"$f":"Dados_2.11.2019!A560","v":"2019-11-20"},{"$f":"Dados_2.11.2019!B560","v":"23:25:09"},{"$f":"Dados_2.11.2019!C560","v":12},8.660000000000001E-2,23,25]
[{"$f":"Dados_2.11.2019!A561","v":"2019-11-20"},{"$f":"Dados_2.11.2019!B561","v":"23:25:09"},{"$f":"Dados_2.11.2019!C561","v":15},0.14450000000000002,23,25]
[{"$f":"Dados_2.11.2019!A562","v":"2019-11-20"},{"$f":"Dados_2.11.2019!B562","v":"23:25:09"},{"$f":"Dados_2.11.2019!C562","v":7},1.0099999999999991E-2,23,25]
[{"$f":"Dados_2.11.2019!A563","v":"2019-11-20"},{"$f":"Dados_2.11.2019!B563","v":"23:25:09"},{"$f":"Dados_2.11.2019!C563","v":9},3.7700000000000004E-2,23,25]
[{"$f":"Dados_2.11.2019!A564","v":"2019-11-20"},{"$f":"Dados_2.11.2019!B564","v":"23:25:09"},{"$f":"Dados_2.11.2019!C564","v":32},0.64259999999999995,23,25]
[{"$f":"Dados_2.11.2019!A565","v":"2019-11-20"},{"$f":"Dados_2.11.2019!B565","v":"23:25:10"},{"$f":"Dados_2.11.2019!C565","v":28},0.49940000000000001,23,25]
[{"$f":"Dados_2.11.2019!A566","v":"2019-11-20"},{"$f":"Dados_2.11.2019!B566","v":"23:25:10"},{"$f":"Dados_2.11.2019!C566","v":27},0.46610000000000001,23,25]
[{"$f":"Dados_2.11.2019!A567","v":"2019-11-20"},{"$f":"Dados_2.11.2019!B567","v":"23:25:10"},{"$f":"Dados_2.11.2019!C567","v":39},0.93169999999999997,23,25]
[{"$f":"Dados_2.11.2019!A568","v":"2019-11-20"},{"$f":"Dados_2.11.2019!B568","v":"23:25:10"},{"$f":"Dados_2.11.2019!C568","v":39},0.93169999999999997,23,25]
[{"$f":"Dados_2.11.2019!A569","v":"2019-11-20"},{"$f":"Dados_2.11.2019!B569","v":"23:25:10"},{"$f":"Dados_2.11.2019!C569","v":22},0.31459999999999999,23,25]
[{"$f":"Dados_2.11.2019!A570","v":"2019-11-20"},{"$f":"Dados_2.11.2019!B570","v":"23:25:11"},{"$f":"Dados_2.11.2019!C570","v":14},0.1242,23,25]
[{"$f":"Dados_2.11.2019!A571","v":"2019-11-20"},{"$f":"Dados_2.11.2019!B571","v":"23:25:11"},{"$f":"Dados_2.11.2019!C571","v":34},0.72019999999999984,23,25]
[{"$f":"Dados_2.11.2019!A572","v":"2019-11-20"},{"$f":"Dados_2.11.2019!B572","v":"23:25:11"},{"$f":"Dados_2.11.2019!C572","v":31},0.60529999999999995,23,25]
[{"$f":"Dados_2.11.2019!A573","v":"2019-11-20"},{"$f":"Dados_2.11.2019!B573","v":"23:25:11"},{"$f":"Dados_2.11.2019!C573","v":22},0.31459999999999999,23,25]
[{"$f":"Dados_2.11.2019!A574","v":"2019-11-20"},{"$f":"Dados_2.11.2019!B574","v":"23:25:11"},{"$f":"Dados_2.11.2019!C574","v":13},0.10489999999999999,23,25]
[{"$f":"Dados_2.11.2019!A575","v":"2019-11-20"},{"$f":"Dados_2.11.2019!B575","v":"23:25:12"},{"$f":"Dados_2.11.2019!C575","v":23},0.34290000000000004,23,25]
[{"$f":"Dados_2.11.2019!A576","v":"2019-11-20"},{"$f":"Dados_2.11.2019!B576","v":"23:25:12"},{"$f":"Dados_2.11.2019!C576","v":6},0,23,25]
[{"$f":"Dados_2.11.2019!A577","v":"2019-11-20"},{"$f":"Dados_2.11.2019!B577","v":"23:25:12"},{"$f":"Dados_2.11.2019!C577","v":12},8.660000000000001E-2,23,25]
[{"$f":"Dados_2.11.2019!A578","v":"2019-11-20"},{"$f":"Dados_2.11.2019!B578","v":"23:25:12"},{"$f":"Dados_2.11.2019!C578","v":23},0.34290000000000004,23,25]
[{"$f":"Dados_2.11.2019!A579","v":"2019-11-20"},{"$f":"Dados_2.11.2019!B579","v":"23:25:12"},{"$f":"Dados_2.11.2019!C579","v":27},0.46610000000000001,23,25]
[{"$f":"Dados_2.11.2019!A580","v":"2019-11-20"},{"$f":"Dados_2.11.2019!B580","v":"23:25:13"},{"$f":"Dados_2.11.2019!C580","v":11},6.93E-2,23,25]
[{"$f":"Dados_2.11.2019!A581","v":"2019-11-20"},{"$f":"Dados_2.11.2019!B581","v":"23:25:13"},{"$f":"Dados_2.11.2019!C581","v":38},0.88739999999999986,23,25]
[{"$f":"Dados_2.11.2019!A582","v":"2019-11-20"},{"$f":"Dados_2.11.2019!B582","v":"23:25:13"},{"$f":"Dados_2.11.2019!C582","v":24},0.37220000000000003,23,25]
[{"$f":"Dados_2.11.2019!A583","v":"2019-11-20"},{"$f":"Dados_2.11.2019!B583","v":"23:25:13"},{"$f":"Dados_2.11.2019!C583","v":15},0.14450000000000002,23,25]
[{"$f":"Dados_2.11.2019!A584","v":"2019-11-20"},{"$f":"Dados_2.11.2019!B584","v":"23:25:13"},{"$f":"Dados_2.11.2019!C584","v":10},5.2999999999999999E-2,23,25]
[{"$f":"Dados_2.11.2019!A585","v":"2019-11-20"},{"$f":"Dados_2.11.2019!B585","v":"23:25:14"},{"$f":"Dados_2.11.2019!C585","v":6},0,23,25]
[{"$f":"Dados_2.11.2019!A586","v":"2019-11-20"},{"$f":"Dados_2.11.2019!B586","v":"23:25:14"},{"$f":"Dados_2.11.2019!C586","v":24},0.37220000000000003,23,25]
[{"$f":"Dados_2.11.2019!A587","v":"2019-11-20"},{"$f":"Dados_2.11.2019!B587","v":"23:25:14"},{"$f":"Dados_2.11.2019!C587","v":39},0.93169999999999997,23,25]
[{"$f":"Dados_2.11.2019!A588","v":"2019-11-20"},{"$f":"Dados_2.11.2019!B588","v":"23:25:14"},{"$f":"Dados_2.11.2019!C588","v":22},0.31459999999999999,23,25]
[{"$f":"Dados_2.11.2019!A589","v":"2019-11-20"},{"$f":"Dados_2.11.2019!B589","v":"23:25:14"},{"$f":"Dados_2.11.2019!C589","v":37},0.84409999999999996,23,25]
[{"$f":"Dados_2.11.2019!A590","v":"2019-11-20"},{"$f":"Dados_2.11.2019!B590","v":"23:25:15"},{"$f":"Dados_2.11.2019!C590","v":7},1.0099999999999991E-2,23,25]
[{"$f":"Dados_2.11.2019!A591","v":"2019-11-20"},{"$f":"Dados_2.11.2019!B591","v":"23:25:15"},{"$f":"Dados_2.11.2019!C591","v":30},0.56899999999999995,23,25]
[{"$f":"Dados_2.11.2019!A592","v":"2019-11-20"},{"$f":"Dados_2.11.2019!B592","v":"23:25:15"},{"$f":"Dados_2.11.2019!C592","v":29},0.53369999999999995,23,25]
[{"$f":"Dados_2.11.2019!A593","v":"2019-11-20"},{"$f":"Dados_2.11.2019!B593","v":"23:25:15"},{"$f":"Dados_2.11.2019!C593","v":29},0.53369999999999995,23,25]
[{"$f":"Dados_2.11.2019!A594","v":"2019-11-20"},{"$f":"Dados_2.11.2019!B594","v":"23:25:15"},{"$f":"Dados_2.11.2019!C594","v":27},0.46610000000000001,23,25]
[{"$f":"Dados_2.11.2019!A595","v":"2019-11-20"},{"$f":"Dados_2.11.2019!B595","v":"23:25:16"},{"$f":"Dados_2.11.2019!C595","v":9},3.7700000000000004E-2,23,25]
[{"$f":"Dados_2.11.2019!A596","v":"2019-11-20"},{"$f":"Dados_2.11.2019!B596","v":"23:25:16"},{"$f":"Dados_2.11.2019!C596","v":15},0.14450000000000002,23,25]
[{"$f":"Dados_2.11.2019!A597","v":"2019-11-20"},{"$f":"Dados_2.11.2019!B597","v":"23:25:16"},{"$f":"Dados_2.11.2019!C597","v":20},0.26100000000000001,23,25]
[{"$f":"Dados_2.11.2019!A598","v":"2019-11-20"},{"$f":"Dados_2.11.2019!B598","v":"23:25:16"},{"$f":"Dados_2.11.2019!C598","v":22},0.31459999999999999,23,25]
[{"$f":"Dados_2.11.2019!A599","v":"2019-11-20"},{"$f":"Dados_2.11.2019!B599","v":"23:25:16"},{"$f":"Dados_2.11.2019!C599","v":21},0.2873,23,25]
[{"$f":"Dados_2.11.2019!A600","v":"2019-11-20"},{"$f":"Dados_2.11.2019!B600","v":"23:25:17"},{"$f":"Dados_2.11.2019!C600","v":9},3.7700000000000004E-2,23,25]
[{"$f":"Dados_2.11.2019!A601","v":"2019-11-20"},{"$f":"Dados_2.11.2019!B601","v":"23:25:17"},{"$f":"Dados_2.11.2019!C601","v":18},0.21139999999999998,23,25]
[{"$f":"Dados_2.11.2019!A602","v":"2019-11-20"},{"$f":"Dados_2.11.2019!B602","v":"23:25:17"},{"$f":"Dados_2.11.2019!C602","v":12},8.660000000000001E-2,23,25]
[{"$f":"Dados_2.11.2019!A603","v":"2019-11-20"},{"$f":"Dados_2.11.2019!B603","v":"23:25:17"},{"$f":"Dados_2.11.2019!C603","v":36},0.80179999999999996,23,25]
[{"$f":"Dados_2.11.2019!A604","v":"2019-11-20"},{"$f":"Dados_2.11.2019!B604","v":"23:25:17"},{"$f":"Dados_2.11.2019!C604","v":22},0.31459999999999999,23,25]
[{"$f":"Dados_2.11.2019!A605","v":"2019-11-20"},{"$f":"Dados_2.11.2019!B605","v":"23:25:18"},{"$f":"Dados_2.11.2019!C605","v":10},5.2999999999999999E-2,23,25]
[{"$f":"Dados_2.11.2019!A606","v":"2019-11-20"},{"$f":"Dados_2.11.2019!B606","v":"23:25:18"},{"$f":"Dados_2.11.2019!C606","v":19},0.23569999999999997,23,25]
[{"$f":"Dados_2.11.2019!A607","v":"2019-11-20"},{"$f":"Dados_2.11.2019!B607","v":"23:25:18"},{"$f":"Dados_2.11.2019!C607","v":14},0.1242,23,25]
[{"$f":"Dados_2.11.2019!A608","v":"2019-11-20"},{"$f":"Dados_2.11.2019!B608","v":"23:25:18"},{"$f":"Dados_2.11.2019!C608","v":22},{"$f":"IF((0.0005*(C608^2)+0.0058*(C608)-0.055)<0,0,IF((0.0005*(C608^2)+0.0058*(C608)-0.055)>1,1,(0.0005*(C608^2)+0.0058*(C608)-0.055)))","v":0.31459999999999999},{"$f":"HOUR(B608)","v":23},{"$f":"MINUTE(B608)","v":25}]
[{"$f":"Dados_2.11.2019!A609","v":"2019-11-20"},{"$f":"Dados_2.11.2019!B609","v":"23:25:18"},{"$f":"Dados_2.11.2019!C609","v":16},0.1658,23,25]
[{"$f":"Dados_2.11.2019!A610","v":"2019-11-20"},{"$f":"Dados_2.11.2019!B610","v":"23:25:19"},{"$f":"Dados_2.11.2019!C610","v":7},1.0099999999999991E-2,23,25]
[{"$f":"Dados_2.11.2019!A611","v":"2019-11-20"},{"$f":"Dados_2.11.2019!B611","v":"23:25:19"},{"$f":"Dados_2.11.2019!C611","v":38},0.88739999999999986,23,25]
[{"$f":"Dados_2.11.2019!A612","v":"2019-11-20"},{"$f":"Dados_2.11.2019!B612","v":"23:25:19"},{"$f":"Dados_2.11.2019!C612","v":5},0,23,25]
[{"$f":"Dados_2.11.2019!A613","v":"2019-11-20"},{"$f":"Dados_2.11.2019!B613","v":"23:25:19"},{"$f":"Dados_2.11.2019!C613","v":7},1.0099999999999991E-2,23,25]
[{"$f":"Dados_2.11.2019!A614","v":"2019-11-20"},{"$f":"Dados_2.11.2019!B614","v":"23:25:19"},{"$f":"Dados_2.11.2019!C614","v":19},0.23569999999999997,23,25]
[{"$f":"Dados_2.11.2019!A615","v":"2019-11-20"},{"$f":"Dados_2.11.2019!B615","v":"23:25:20"},{"$f":"Dados_2.11.2019!C615","v":33},0.68089999999999995,23,25]
[{"$f":"Dados_2.11.2019!A616","v":"2019-11-20"},{"$f":"Dados_2.11.2019!B616","v":"23:25:20"},{"$f":"Dados_2.11.2019!C616","v":26},0.43380000000000002,23,25]
[{"$f":"Dados_2.11.2019!A617","v":"2019-11-20"},{"$f":"Dados_2.11.2019!B617","v":"23:25:20"},{"$f":"Dados_2.11.2019!C617","v":21},0.2873,23,25]
[{"$f":"Dados_2.11.2019!A618","v":"2019-11-20"},{"$f":"Dados_2.11.2019!B618","v":"23:25:20"},{"$f":"Dados_2.11.2019!C618","v":25},0.40250000000000002,23,25]
[{"$f":"Dados_2.11.2019!A619","v":"2019-11-20"},{"$f":"Dados_2.11.2019!B619","v":"23:25:20"},{"$f":"Dados_2.11.2019!C619","v":19},0.23569999999999997,23,25]
[{"$f":"Dados_2.11.2019!A620","v":"2019-11-20"},{"$f":"Dados_2.11.2019!B620","v":"23:25:21"},{"$f":"Dados_2.11.2019!C620","v":22},0.31459999999999999,23,25]
[{"$f":"Dados_2.11.2019!A621","v":"2019-11-20"},{"$f":"Dados_2.11.2019!B621","v":"23:25:21"},{"$f":"Dados_2.11.2019!C621","v":23},0.34290000000000004,23,25]
[{"$f":"Dados_2.11.2019!A622","v":"2019-11-20"},{"$f":"Dados_2.11.2019!B622","v":"23:25:21"},{"$f":"Dados_2.11.2019!C622","v":26},0.43380000000000002,23,25]
[{"$f":"Dados_2.11.2019!A623","v":"2019-11-20"},{"$f":"Dados_2.11.2019!B623","v":"23:25:21"},{"$f":"Dados_2.11.2019!C623","v":10},5.2999999999999999E-2,23,25]
[{"$f":"Dados_2.11.2019!A624","v":"2019-11-20"},{"$f":"Dados_2.11.2019!B624","v":"23:25:21"},{"$f":"Dados_2.11.2019!C624","v":10},5.2999999999999999E-2,23,25]
[{"$f":"Dados_2.11.2019!A625","v":"2019-11-20"},{"$f":"Dados_2.11.2019!B625","v":"23:25:22"},{"$f":"Dados_2.11.2019!C625","v":24},0.37220000000000003,23,25]
[{"$f":"Dados_2.11.2019!A626","v":"2019-11-20"},{"$f":"Dados_2.11.2019!B626","v":"23:25:22"},{"$f":"Dados_2.11.2019!C626","v":29},0.53369999999999995,23,25]
[{"$f":"Dados_2.11.2019!A627","v":"2019-11-20"},{"$f":"Dados_2.11.2019!B627","v":"23:25:22"},{"$f":"Dados_2.11.2019!C627","v":30},0.56899999999999995,23,25]
[{"$f":"Dados_2.11.2019!A628","v":"2019-11-20"},{"$f":"Dados_2.11.2019!B628","v":"23:25:22"},{"$f":"Dados_2.11.2019!C628","v":5},0,23,25]
[{"$f":"Dados_2.11.2019!A629","v":"2019-11-20"},{"$f":"Dados_2.11.2019!B629","v":"23:25:22"},{"$f":"Dados_2.11.2019!C629","v":29},0.53369999999999995,23,25]
[{"$f":"Dados_2.11.2019!A630","v":"2019-11-20"},{"$f":"Dados_2.11.2019!B630","v":"23:25:23"},{"$f":"Dados_2.11.2019!C630","v":5},0,23,25]
[{"$f":"Dados_2.11.2019!A631","v":"2019-11-20"},{"$f":"Dados_2.11.2019!B631","v":"23:25:23"},{"$f":"Dados_2.11.2019!C631","v":12},8.660000000000001E-2,23,25]
[{"$f":"Dados_2.11.2019!A632","v":"2019-11-20"},{"$f":"Dados_2.11.2019!B632","v":"23:25:23"},{"$f":"Dados_2.11.2019!C632","v":8},2.3399999999999997E-2,23,25]
[{"$f":"Dados_2.11.2019!A633","v":"2019-11-20"},{"$f":"Dados_2.11.2019!B633","v":"23:25:23"},{"$f":"Dados_2.11.2019!C633","v":30},0.56899999999999995,23,25]
[{"$f":"Dados_2.11.2019!A634","v":"2019-11-20"},{"$f":"Dados_2.11.2019!B634","v":"23:25:23"},{"$f":"Dados_2.11.2019!C634","v":27},0.46610000000000001,23,25]
[{"$f":"Dados_2.11.2019!A635","v":"2019-11-20"},{"$f":"Dados_2.11.2019!B635","v":"23:25:24"},{"$f":"Dados_2.11.2019!C635","v":33},0.68089999999999995,23,25]
[{"$f":"Dados_2.11.2019!A636","v":"2019-11-20"},{"$f":"Dados_2.11.2019!B636","v":"23:25:24"},{"$f":"Dados_2.11.2019!C636","v":38},0.88739999999999986,23,25]
[{"$f":"Dados_2.11.2019!A637","v":"2019-11-20"},{"$f":"Dados_2.11.2019!B637","v":"23:25:24"},{"$f":"Dados_2.11.2019!C637","v":29},0.53369999999999995,23,25]
[{"$f":"Dados_2.11.2019!A638","v":"2019-11-20"},{"$f":"Dados_2.11.2019!B638","v":"23:25:24"},{"$f":"Dados_2.11.2019!C638","v":28},0.49940000000000001,23,25]
[{"$f":"Dados_2.11.2019!A639","v":"2019-11-20"},{"$f":"Dados_2.11.2019!B639","v":"23:25:24"},{"$f":"Dados_2.11.2019!C639","v":21},0.2873,23,25]
[{"$f":"Dados_2.11.2019!A640","v":"2019-11-20"},{"$f":"Dados_2.11.2019!B640","v":"23:25:25"},{"$f":"Dados_2.11.2019!C640","v":32},0.64259999999999995,23,25]
[{"$f":"Dados_2.11.2019!A641","v":"2019-11-20"},{"$f":"Dados_2.11.2019!B641","v":"23:25:25"},{"$f":"Dados_2.11.2019!C641","v":32},0.64259999999999995,23,25]
[{"$f":"Dados_2.11.2019!A642","v":"2019-11-20"},{"$f":"Dados_2.11.2019!B642","v":"23:25:25"},{"$f":"Dados_2.11.2019!C642","v":8},2.3399999999999997E-2,23,25]
[{"$f":"Dados_2.11.2019!A643","v":"2019-11-20"},{"$f":"Dados_2.11.2019!B643","v":"23:25:25"},{"$f":"Dados_2.11.2019!C643","v":5},0,23,25]
[{"$f":"Dados_2.11.2019!A644","v":"2019-11-20"},{"$f":"Dados_2.11.2019!B644","v":"23:25:25"},{"$f":"Dados_2.11.2019!C644","v":25},0.40250000000000002,23,25]
[{"$f":"Dados_2.11.2019!A645","v":"2019-11-20"},{"$f":"Dados_2.11.2019!B645","v":"23:25:26"},{"$f":"Dados_2.11.2019!C645","v":31},0.60529999999999995,23,25]
[{"$f":"Dados_2.11.2019!A646","v":"2019-11-20"},{"$f":"Dados_2.11.2019!B646","v":"23:25:26"},{"$f":"Dados_2.11.2019!C646","v":29},0.53369999999999995,23,25]
[{"$f":"Dados_2.11.2019!A647","v":"2019-11-20"},{"$f":"Dados_2.11.2019!B647","v":"23:25:26"},{"$f":"Dados_2.11.2019!C647","v":36},0.80179999999999996,23,25]
[{"$f":"Dados_2.11.2019!A648","v":"2019-11-20"},{"$f":"Dados_2.11.2019!B648","v":"23:25:26"},{"$f":"Dados_2.11.2019!C648","v":16},0.1658,23,25]
[{"$f":"Dados_2.11.2019!A649","v":"2019-11-20"},{"$f":"Dados_2.11.2019!B649","v":"23:25:26"},{"$f":"Dados_2.11.2019!C649","v":23},0.34290000000000004,23,25]
[{"$f":"Dados_2.11.2019!A650","v":"2019-11-20"},{"$f":"Dados_2.11.2019!B650","v":"23:25:27"},{"$f":"Dados_2.11.2019!C650","v":11},6.93E-2,23,25]
[{"$f":"Dados_2.11.2019!A651","v":"2019-11-20"},{"$f":"Dados_2.11.2019!B651","v":"23:25:27"},{"$f":"Dados_2.11.2019!C651","v":7},1.0099999999999991E-2,23,25]
[{"$f":"Dados_2.11.2019!A652","v":"2019-11-20"},{"$f":"Dados_2.11.2019!B652","v":"23:25:27"},{"$f":"Dados_2.11.2019!C652","v":20},0.26100000000000001,23,25]
[{"$f":"Dados_2.11.2019!A653","v":"2019-11-20"},{"$f":"Dados_2.11.2019!B653","v":"23:25:27"},{"$f":"Dados_2.11.2019!C653","v":30},0.56899999999999995,23,25]
[{"$f":"Dados_2.11.2019!A654","v":"2019-11-20"},{"$f":"Dados_2.11.2019!B654","v":"23:25:27"},{"$f":"Dados_2.11.2019!C654","v":32},0.64259999999999995,23,25]
[{"$f":"Dados_2.11.2019!A655","v":"2019-11-20"},{"$f":"Dados_2.11.2019!B655","v":"23:25:28"},{"$f":"Dados_2.11.2019!C655","v":24},0.37220000000000003,23,25]
[{"$f":"Dados_2.11.2019!A656","v":"2019-11-20"},{"$f":"Dados_2.11.2019!B656","v":"23:25:28"},{"$f":"Dados_2.11.2019!C656","v":16},0.1658,23,25]
[{"$f":"Dados_2.11.2019!A657","v":"2019-11-20"},{"$f":"Dados_2.11.2019!B657","v":"23:25:28"},{"$f":"Dados_2.11.2019!C657","v":36},0.80179999999999996,23,25]
[{"$f":"Dados_2.11.2019!A658","v":"2019-11-20"},{"$f":"Dados_2.11.2019!B658","v":"23:25:28"},{"$f":"Dados_2.11.2019!C658","v":10},5.2999999999999999E-2,23,25]
[{"$f":"Dados_2.11.2019!A659","v":"2019-11-20"},{"$f":"Dados_2.11.2019!B659","v":"23:25:28"},{"$f":"Dados_2.11.2019!C659","v":33},0.68089999999999995,23,25]
[{"$f":"Dados_2.11.2019!A660","v":"2019-11-20"},{"$f":"Dados_2.11.2019!B660","v":"23:25:29"},{"$f":"Dados_2.11.2019!C660","v":20},0.26100000000000001,23,25]
[{"$f":"Dados_2.11.2019!A661","v":"2019-11-20"},{"$f":"Dados_2.11.2019!B661","v":"23:25:29"},{"$f":"Dados_2.11.2019!C661","v":13},0.10489999999999999,23,25]
[{"$f":"Dados_2.11.2019!A662","v":"2019-11-20"},{"$f":"Dados_2.11.2019!B662","v":"23:25:29"},{"$f":"Dados_2.11.2019!C662","v":35},0.76049999999999995,23,25]
[{"$f":"Dados_2.11.2019!A663","v":"2019-11-20"},{"$f":"Dados_2.11.2019!B663","v":"23:25:29"},{"$f":"Dados_2.11.2019!C663","v":25},0.40250000000000002,23,25]
[{"$f":"Dados_2.11.2019!A664","v":"2019-11-20"},{"$f":"Dados_2.11.2019!B664","v":"23:25:29"},{"$f":"Dados_2.11.2019!C664","v":26},0.43380000000000002,23,25]
[{"$f":"Dados_2.11.2019!A665","v":"2019-11-20"},{"$f":"Dados_2.11.2019!B665","v":"23:25:30"},{"$f":"Dados_2.11.2019!C665","v":9},3.7700000000000004E-2,23,25]
[{"$f":"Dados_2.11.2019!A666","v":"2019-11-20"},{"$f":"Dados_2.11.2019!B666","v":"23:25:30"},{"$f":"Dados_2.11.2019!C666","v":39},0.93169999999999997,23,25]
[{"$f":"Dados_2.11.2019!A667","v":"2019-11-20"},{"$f":"Dados_2.11.2019!B667","v":"23:25:30"},{"$f":"Dados_2.11.2019!C667","v":8},2.3399999999999997E-2,23,25]
[{"$f":"Dados_2.11.2019!A668","v":"2019-11-20"},{"$f":"Dados_2.11.2019!B668","v":"23:25:30"},{"$f":"Dados_2.11.2019!C668","v":20},0.26100000000000001,23,25]
[{"$f":"Dados_2.11.2019!A669","v":"2019-11-20"},{"$f":"Dados_2.11.2019!B669","v":"23:25:30"},{"$f":"Dados_2.11.2019!C669","v":20},0.26100000000000001,23,25]
[{"$f":"Dados_2.11.2019!A670","v":"2019-11-20"},{"$f":"Dados_2.11.2019!B670","v":"23:25:31"},{"$f":"Dados_2.11.2019!C670","v":28},0.49940000000000001,23,25]
[{"$f":"Dados_2.11.2019!A671","v":"2019-11-20"},{"$f":"Dados_2.11.2019!B671","v":"23:25:31"},{"$f":"Dados_2.11.2019!C671","v":8},2.3399999999999997E-2,23,25]
[{"$f":"Dados_2.11.2019!A672","v":"2019-11-20"},{"$f":"Dados_2.11.2019!B672","v":"23:25:31"},{"$f":"Dados_2.11.2019!C672","v":11},{"$f":"IF((0.0005*(C672^2)+0.0058*(C672)-0.055)<0,0,IF((0.0005*(C672^2)+0.0058*(C672)-0.055)>1,1,(0.0005*(C672^2)+0.0058*(C672)-0.055)))","v":6.93E-2},{"$f":"HOUR(B672)","v":23},{"$f":"MINUTE(B672)","v":25}]
[{"$f":"Dados_2.11.2019!A673","v":"2019-11-20"},{"$f":"Dados_2.11.2019!B673","v":"23:25:31"},{"$f":"Dados_2.11.2019!C673","v":20},0.26100000000000001,23,25]
[{"$f":"Dados_2.11.2019!A674","v":"2019-11-20"},{"$f":"Dados_2.11.2019!B674","v":"23:25:31"},{"$f":"Dados_2.11.2019!C674","v":29},0.53369999999999995,23,25]
[{"$f":"Dados_2.11.2019!A675","v":"2019-11-20"},{"$f":"Dados_2.11.2019!B675","v":"23:25:32"},{"$f":"Dados_2.11.2019!C675","v":22},0.31459999999999999,23,25]
[{"$f":"Dados_2.11.2019!A676","v":"2019-11-20"},{"$f":"Dados_2.11.2019!B676","v":"23:25:32"},{"$f":"Dados_2.11.2019!C676","v":10},5.2999999999999999E-2,23,25]
[{"$f":"Dados_2.11.2019!A677","v":"2019-11-20"},{"$f":"Dados_2.11.2019!B677","v":"23:25:32"},{"$f":"Dados_2.11.2019!C677","v":10},5.2999999999999999E-2,23,25]
[{"$f":"Dados_2.11.2019!A678","v":"2019-11-20"},{"$f":"Dados_2.11.2019!B678","v":"23:25:32"},{"$f":"Dados_2.11.2019!C678","v":33},0.68089999999999995,23,25]
[{"$f":"Dados_2.11.2019!A679","v":"2019-11-20"},{"$f":"Dados_2.11.2019!B679","v":"23:25:32"},{"$f":"Dados_2.11.2019!C679","v":10},5.2999999999999999E-2,23,25]
[{"$f":"Dados_2.11.2019!A680","v":"2019-11-20"},{"$f":"Dados_2.11.2019!B680","v":"23:25:33"},{"$f":"Dados_2.11.2019!C680","v":30},0.56899999999999995,23,25]
[{"$f":"Dados_2.11.2019!A681","v":"2019-11-20"},{"$f":"Dados_2.11.2019!B681","v":"23:25:33"},{"$f":"Dados_2.11.2019!C681","v":25},0.40250000000000002,23,25]
[{"$f":"Dados_2.11.2019!A682","v":"2019-11-20"},{"$f":"Dados_2.11.2019!B682","v":"23:25:33"},{"$f":"Dados_2.11.2019!C682","v":28},0.49940000000000001,23,25]
[{"$f":"Dados_2.11.2019!A683","v":"2019-11-20"},{"$f":"Dados_2.11.2019!B683","v":"23:25:33"},{"$f":"Dados_2.11.2019!C683","v":18},0.21139999999999998,23,25]
[{"$f":"Dados_2.11.2019!A684","v":"2019-11-20"},{"$f":"Dados_2.11.2019!B684","v":"23:25:33"},{"$f":"Dados_2.11.2019!C684","v":17},0.18809999999999999,23,25]
[{"$f":"Dados_2.11.2019!A685","v":"2019-11-20"},{"$f":"Dados_2.11.2019!B685","v":"23:25:34"},{"$f":"Dados_2.11.2019!C685","v":30},0.56899999999999995,23,25]
[{"$f":"Dados_2.11.2019!A686","v":"2019-11-20"},{"$f":"Dados_2.11.2019!B686","v":"23:25:34"},{"$f":"Dados_2.11.2019!C686","v":34},0.72019999999999984,23,25]
[{"$f":"Dados_2.11.2019!A687","v":"2019-11-20"},{"$f":"Dados_2.11.2019!B687","v":"23:25:34"},{"$f":"Dados_2.11.2019!C687","v":30},0.56899999999999995,23,25]
[{"$f":"Dados_2.11.2019!A688","v":"2019-11-20"},{"$f":"Dados_2.11.2019!B688","v":"23:25:34"},{"$f":"Dados_2.11.2019!C688","v":15},0.14450000000000002,23,25]
[{"$f":"Dados_2.11.2019!A689","v":"2019-11-20"},{"$f":"Dados_2.11.2019!B689","v":"23:25:34"},{"$f":"Dados_2.11.2019!C689","v":8},2.3399999999999997E-2,23,25]
[{"$f":"Dados_2.11.2019!A690","v":"2019-11-20"},{"$f":"Dados_2.11.2019!B690","v":"23:25:35"},{"$f":"Dados_2.11.2019!C690","v":35},0.76049999999999995,23,25]
[{"$f":"Dados_2.11.2019!A691","v":"2019-11-20"},{"$f":"Dados_2.11.2019!B691","v":"23:25:35"},{"$f":"Dados_2.11.2019!C691","v":16},0.1658,23,25]
[{"$f":"Dados_2.11.2019!A692","v":"2019-11-20"},{"$f":"Dados_2.11.2019!B692","v":"23:25:35"},{"$f":"Dados_2.11.2019!C692","v":10},5.2999999999999999E-2,23,25]
[{"$f":"Dados_2.11.2019!A693","v":"2019-11-20"},{"$f":"Dados_2.11.2019!B693","v":"23:25:35"},{"$f":"Dados_2.11.2019!C693","v":11},6.93E-2,23,25]
[{"$f":"Dados_2.11.2019!A694","v":"2019-11-20"},{"$f":"Dados_2.11.2019!B694","v":"23:25:35"},{"$f":"Dados_2.11.2019!C694","v":13},0.10489999999999999,23,25]
[{"$f":"Dados_2.11.2019!A695","v":"2019-11-20"},{"$f":"Dados_2.11.2019!B695","v":"23:25:36"},{"$f":"Dados_2.11.2019!C695","v":38},0.88739999999999986,23,25]
[{"$f":"Dados_2.11.2019!A696","v":"2019-11-20"},{"$f":"Dados_2.11.2019!B696","v":"23:25:36"},{"$f":"Dados_2.11.2019!C696","v":19},0.23569999999999997,23,25]
[{"$f":"Dados_2.11.2019!A697","v":"2019-11-20"},{"$f":"Dados_2.11.2019!B697","v":"23:25:36"},{"$f":"Dados_2.11.2019!C697","v":9},3.7700000000000004E-2,23,25]
[{"$f":"Dados_2.11.2019!A698","v":"2019-11-20"},{"$f":"Dados_2.11.2019!B698","v":"23:25:36"},{"$f":"Dados_2.11.2019!C698","v":36},0.80179999999999996,23,25]
[{"$f":"Dados_2.11.2019!A699","v":"2019-11-20"},{"$f":"Dados_2.11.2019!B699","v":"23:25:36"},{"$f":"Dados_2.11.2019!C699","v":7},1.0099999999999991E-2,23,25]
[{"$f":"Dados_2.11.2019!A700","v":"2019-11-20"},{"$f":"Dados_2.11.2019!B700","v":"23:25:37"},{"$f":"Dados_2.11.2019!C700","v":20},0.26100000000000001,23,25]
[{"$f":"Dados_2.11.2019!A701","v":"2019-11-20"},{"$f":"Dados_2.11.2019!B701","v":"23:25:37"},{"$f":"Dados_2.11.2019!C701","v":35},0.76049999999999995,23,25]
[{"$f":"Dados_2.11.2019!A702","v":"2019-11-20"},{"$f":"Dados_2.11.2019!B702","v":"23:25:37"},{"$f":"Dados_2.11.2019!C702","v":14},0.1242,23,25]
[{"$f":"Dados_2.11.2019!A703","v":"2019-11-20"},{"$f":"Dados_2.11.2019!B703","v":"23:25:37"},{"$f":"Dados_2.11.2019!C703","v":28},0.49940000000000001,23,25]
[{"$f":"Dados_2.11.2019!A704","v":"2019-11-20"},{"$f":"Dados_2.11.2019!B704","v":"23:25:37"},{"$f":"Dados_2.11.2019!C704","v":33},0.68089999999999995,23,25]
[{"$f":"Dados_2.11.2019!A705","v":"2019-11-20"},{"$f":"Dados_2.11.2019!B705","v":"23:25:38"},{"$f":"Dados_2.11.2019!C705","v":31},0.60529999999999995,23,25]
[{"$f":"Dados_2.11.2019!A706","v":"2019-11-20"},{"$f":"Dados_2.11.2019!B706","v":"23:25:38"},{"$f":"Dados_2.11.2019!C706","v":19},0.23569999999999997,23,25]
[{"$f":"Dados_2.11.2019!A707","v":"2019-11-20"},{"$f":"Dados_2.11.2019!B707","v":"23:25:38"},{"$f":"Dados_2.11.2019!C707","v":23},0.34290000000000004,23,25]
[{"$f":"Dados_2.11.2019!A708","v":"2019-11-20"},{"$f":"Dados_2.11.2019!B708","v":"23:25:38"},{"$f":"Dados_2.11.2019!C708","v":18},0.21139999999999998,23,25]
[{"$f":"Dados_2.11.2019!A709","v":"2019-11-20"},{"$f":"Dados_2.11.2019!B709","v":"23:25:38"},{"$f":"Dados_2.11.2019!C709","v":13},0.10489999999999999,23,25]
[{"$f":"Dados_2.11.2019!A710","v":"2019-11-20"},{"$f":"Dados_2.11.2019!B710","v":"23:25:39"},{"$f":"Dados_2.11.2019!C710","v":39},0.93169999999999997,23,25]
[{"$f":"Dados_2.11.2019!A711","v":"2019-11-20"},{"$f":"Dados_2.11.2019!B711","v":"23:25:39"},{"$f":"Dados_2.11.2019!C711","v":22},0.31459999999999999,23,25]
[{"$f":"Dados_2.11.2019!A712","v":"2019-11-20"},{"$f":"Dados_2.11.2019!B712","v":"23:25:39"},{"$f":"Dados_2.11.2019!C712","v":12},8.660000000000001E-2,23,25]
[{"$f":"Dados_2.11.2019!A713","v":"2019-11-20"},{"$f":"Dados_2.11.2019!B713","v":"23:25:39"},{"$f":"Dados_2.11.2019!C713","v":12},8.660000000000001E-2,23,25]
[{"$f":"Dados_2.11.2019!A714","v":"2019-11-20"},{"$f":"Dados_2.11.2019!B714","v":"23:25:39"},{"$f":"Dados_2.11.2019!C714","v":20},0.26100000000000001,23,25]
[{"$f":"Dados_2.11.2019!A715","v":"2019-11-20"},{"$f":"Dados_2.11.2019!B715","v":"23:25:40"},{"$f":"Dados_2.11.2019!C715","v":18},0.21139999999999998,23,25]
[{"$f":"Dados_2.11.2019!A716","v":"2019-11-20"},{"$f":"Dados_2.11.2019!B716","v":"23:25:40"},{"$f":"Dados_2.11.2019!C716","v":36},0.80179999999999996,23,25]
[{"$f":"Dados_2.11.2019!A717","v":"2019-11-20"},{"$f":"Dados_2.11.2019!B717","v":"23:25:40"},{"$f":"Dados_2.11.2019!C717","v":16},0.1658,23,25]
[{"$f":"Dados_2.11.2019!A718","v":"2019-11-20"},{"$f":"Dados_2.11.2019!B718","v":"23:25:40"},{"$f":"Dados_2.11.2019!C718","v":39},0.93169999999999997,23,25]
[{"$f":"Dados_2.11.2019!A719","v":"2019-11-20"},{"$f":"Dados_2.11.2019!B719","v":"23:25:40"},{"$f":"Dados_2.11.2019!C719","v":5},0,23,25]
[{"$f":"Dados_2.11.2019!A720","v":"2019-11-20"},{"$f":"Dados_2.11.2019!B720","v":"23:25:41"},{"$f":"Dados_2.11.2019!C720","v":26},0.43380000000000002,23,25]
[{"$f":"Dados_2.11.2019!A721","v":"2019-11-20"},{"$f":"Dados_2.11.2019!B721","v":"23:25:41"},{"$f":"Dados_2.11.2019!C721","v":26},0.43380000000000002,23,25]
[{"$f":"Dados_2.11.2019!A722","v":"2019-11-20"},{"$f":"Dados_2.11.2019!B722","v":"23:25:41"},{"$f":"Dados_2.11.2019!C722","v":9},3.7700000000000004E-2,23,25]
[{"$f":"Dados_2.11.2019!A723","v":"2019-11-20"},{"$f":"Dados_2.11.2019!B723","v":"23:25:41"},{"$f":"Dados_2.11.2019!C723","v":30},0.56899999999999995,23,25]
[{"$f":"Dados_2.11.2019!A724","v":"2019-11-20"},{"$f":"Dados_2.11.2019!B724","v":"23:25:41"},{"$f":"Dados_2.11.2019!C724","v":19},0.23569999999999997,23,25]
[{"$f":"Dados_2.11.2019!A725","v":"2019-11-20"},{"$f":"Dados_2.11.2019!B725","v":"23:25:42"},{"$f":"Dados_2.11.2019!C725","v":33},0.68089999999999995,23,25]
[{"$f":"Dados_2.11.2019!A726","v":"2019-11-20"},{"$f":"Dados_2.11.2019!B726","v":"23:25:42"},{"$f":"Dados_2.11.2019!C726","v":11},6.93E-2,23,25]
[{"$f":"Dados_2.11.2019!A727","v":"2019-11-20"},{"$f":"Dados_2.11.2019!B727","v":"23:25:42"},{"$f":"Dados_2.11.2019!C727","v":34},0.72019999999999984,23,25]
[{"$f":"Dados_2.11.2019!A728","v":"2019-11-20"},{"$f":"Dados_2.11.2019!B728","v":"23:25:42"},{"$f":"Dados_2.11.2019!C728","v":9},3.7700000000000004E-2,23,25]
[{"$f":"Dados_2.11.2019!A729","v":"2019-11-20"},{"$f":"Dados_2.11.2019!B729","v":"23:25:42"},{"$f":"Dados_2.11.2019!C729","v":8},2.3399999999999997E-2,23,25]
[{"$f":"Dados_2.11.2019!A730","v":"2019-11-20"},{"$f":"Dados_2.11.2019!B730","v":"23:25:43"},{"$f":"Dados_2.11.2019!C730","v":22},0.31459999999999999,23,25]
[{"$f":"Dados_2.11.2019!A731","v":"2019-11-20"},{"$f":"Dados_2.11.2019!B731","v":"23:25:43"},{"$f":"Dados_2.11.2019!C731","v":23},0.34290000000000004,23,25]
[{"$f":"Dados_2.11.2019!A732","v":"2019-11-20"},{"$f":"Dados_2.11.2019!B732","v":"23:25:43"},{"$f":"Dados_2.11.2019!C732","v":35},0.76049999999999995,23,25]
[{"$f":"Dados_2.11.2019!A733","v":"2019-11-20"},{"$f":"Dados_2.11.2019!B733","v":"23:25:43"},{"$f":"Dados_2.11.2019!C733","v":5},0,23,25]
[{"$f":"Dados_2.11.2019!A734","v":"2019-11-20"},{"$f":"Dados_2.11.2019!B734","v":"23:25:43"},{"$f":"Dados_2.11.2019!C734","v":14},0.1242,23,25]
[{"$f":"Dados_2.11.2019!A735","v":"2019-11-20"},{"$f":"Dados_2.11.2019!B735","v":"23:25:44"},{"$f":"Dados_2.11.2019!C735","v":13},0.10489999999999999,23,25]
[{"$f":"Dados_2.11.2019!A736","v":"2019-11-20"},{"$f":"Dados_2.11.2019!B736","v":"23:25:44"},{"$f":"Dados_2.11.2019!C736","v":39},{"$f":"IF((0.0005*(C736^2)+0.0058*(C736)-0.055)<0,0,IF((0.0005*(C736^2)+0.0058*(C736)-0.055)>1,1,(0.0005*(C736^2)+0.0058*(C736)-0.055)))","v":0.93169999999999997},{"$f":"HOUR(B736)","v":23},{"$f":"MINUTE(B736)","v":25}]
[{"$f":"Dados_2.11.2019!A737","v":"2019-11-20"},{"$f":"Dados_2.11.2019!B737","v":"23:25:44"},{"$f":"Dados_2.11.2019!C737","v":35},0.76049999999999995,23,25]
[{"$f":"Dados_2.11.2019!A738","v":"2019-11-20"},{"$f":"Dados_2.11.2019!B738","v":"23:25:44"},{"$f":"Dados_2.11.2019!C738","v":27},0.46610000000000001,23,25]
[{"$f":"Dados_2.11.2019!A739","v":"2019-11-20"},{"$f":"Dados_2.11.2019!B739","v":"23:25:44"},{"$f":"Dados_2.11.2019!C739","v":27},0.46610000000000001,23,25]
[{"$f":"Dados_2.11.2019!A740","v":"2019-11-20"},{"$f":"Dados_2.11.2019!B740","v":"23:25:45"},{"$f":"Dados_2.11.2019!C740","v":30},0.56899999999999995,23,25]
[{"$f":"Dados_2.11.2019!A741","v":"2019-11-20"},{"$f":"Dados_2.11.2019!B741","v":"23:25:45"},{"$f":"Dados_2.11.2019!C741","v":12},8.660000000000001E-2,23,25]
[{"$f":"Dados_2.11.2019!A742","v":"2019-11-20"},{"$f":"Dados_2.11.2019!B742","v":"23:25:45"},{"$f":"Dados_2.11.2019!C742","v":33},0.68089999999999995,23,25]
[{"$f":"Dados_2.11.2019!A743","v":"2019-11-20"},{"$f":"Dados_2.11.2019!B743","v":"23:25:45"},{"$f":"Dados_2.11.2019!C743","v":14},0.1242,23,25]
[{"$f":"Dados_2.11.2019!A744","v":"2019-11-20"},{"$f":"Dados_2.11.2019!B744","v":"23:25:45"},{"$f":"Dados_2.11.2019!C744","v":25},0.40250000000000002,23,25]
[{"$f":"Dados_2.11.2019!A745","v":"2019-11-20"},{"$f":"Dados_2.11.2019!B745","v":"23:25:46"},{"$f":"Dados_2.11.2019!C745","v":32},0.64259999999999995,23,25]
[{"$f":"Dados_2.11.2019!A746","v":"2019-11-20"},{"$f":"Dados_2.11.2019!B746","v":"23:25:46"},{"$f":"Dados_2.11.2019!C746","v":22},0.31459999999999999,23,25]
[{"$f":"Dados_2.11.2019!A747","v":"2019-11-20"},{"$f":"Dados_2.11.2019!B747","v":"23:25:46"},{"$f":"Dados_2.11.2019!C747","v":38},0.88739999999999986,23,25]
[{"$f":"Dados_2.11.2019!A748","v":"2019-11-20"},{"$f":"Dados_2.11.2019!B748","v":"23:25:46"},{"$f":"Dados_2.11.2019!C748","v":24},0.37220000000000003,23,25]
[{"$f":"Dados_2.11.2019!A749","v":"2019-11-20"},{"$f":"Dados_2.11.2019!B749","v":"23:25:46"},{"$f":"Dados_2.11.2019!C749","v":37},0.84409999999999996,23,25]
[{"$f":"Dados_2.11.2019!A750","v":"2019-11-20"},{"$f":"Dados_2.11.2019!B750","v":"23:25:47"},{"$f":"Dados_2.11.2019!C750","v":15},0.14450000000000002,23,25]
[{"$f":"Dados_2.11.2019!A751","v":"2019-11-20"},{"$f":"Dados_2.11.2019!B751","v":"23:25:47"},{"$f":"Dados_2.11.2019!C751","v":24},0.37220000000000003,23,25]
[{"$f":"Dados_2.11.2019!A752","v":"2019-11-20"},{"$f":"Dados_2.11.2019!B752","v":"23:25:47"},{"$f":"Dados_2.11.2019!C752","v":12},8.660000000000001E-2,23,25]
[{"$f":"Dados_2.11.2019!A753","v":"2019-11-20"},{"$f":"Dados_2.11.2019!B753","v":"23:25:47"},{"$f":"Dados_2.11.2019!C753","v":29},0.53369999999999995,23,25]
[{"$f":"Dados_2.11.2019!A754","v":"2019-11-20"},{"$f":"Dados_2.11.2019!B754","v":"23:25:47"},{"$f":"Dados_2.11.2019!C754","v":28},0.49940000000000001,23,25]
[{"$f":"Dados_2.11.2019!A755","v":"2019-11-20"},{"$f":"Dados_2.11.2019!B755","v":"23:25:48"},{"$f":"Dados_2.11.2019!C755","v":30},0.56899999999999995,23,25]
[{"$f":"Dados_2.11.2019!A756","v":"2019-11-20"},{"$f":"Dados_2.11.2019!B756","v":"23:25:48"},{"$f":"Dados_2.11.2019!C756","v":33},0.68089999999999995,23,25]
[{"$f":"Dados_2.11.2019!A757","v":"2019-11-20"},{"$f":"Dados_2.11.2019!B757","v":"23:25:48"},{"$f":"Dados_2.11.2019!C757","v":31},0.60529999999999995,23,25]
[{"$f":"Dados_2.11.2019!A758","v":"2019-11-20"},{"$f":"Dados_2.11.2019!B758","v":"23:25:48"},{"$f":"Dados_2.11.2019!C758","v":9},3.7700000000000004E-2,23,25]
[{"$f":"Dados_2.11.2019!A759","v":"2019-11-20"},{"$f":"Dados_2.11.2019!B759","v":"23:25:48"},{"$f":"Dados_2.11.2019!C759","v":39},0.93169999999999997,23,25]
[{"$f":"Dados_2.11.2019!A760","v":"2019-11-20"},{"$f":"Dados_2.11.2019!B760","v":"23:25:49"},{"$f":"Dados_2.11.2019!C760","v":14},0.1242,23,25]
[{"$f":"Dados_2.11.2019!A761","v":"2019-11-20"},{"$f":"Dados_2.11.2019!B761","v":"23:25:49"},{"$f":"Dados_2.11.2019!C761","v":32},0.64259999999999995,23,25]
[{"$f":"Dados_2.11.2019!A762","v":"2019-11-20"},{"$f":"Dados_2.11.2019!B762","v":"23:25:49"},{"$f":"Dados_2.11.2019!C762","v":24},0.37220000000000003,23,25]
[{"$f":"Dados_2.11.2019!A763","v":"2019-11-20"},{"$f":"Dados_2.11.2019!B763","v":"23:25:49"},{"$f":"Dados_2.11.2019!C763","v":19},0.23569999999999997,23,25]
[{"$f":"Dados_2.11.2019!A764","v":"2019-11-20"},{"$f":"Dados_2.11.2019!B764","v":"23:25:49"},{"$f":"Dados_2.11.2019!C764","v":5},0,23,25]
[{"$f":"Dados_2.11.2019!A765","v":"2019-11-20"},{"$f":"Dados_2.11.2019!B765","v":"23:25:50"},{"$f":"Dados_2.11.2019!C765","v":35},0.76049999999999995,23,25]
[{"$f":"Dados_2.11.2019!A766","v":"2019-11-20"},{"$f":"Dados_2.11.2019!B766","v":"23:25:50"},{"$f":"Dados_2.11.2019!C766","v":22},0.31459999999999999,23,25]
[{"$f":"Dados_2.11.2019!A767","v":"2019-11-20"},{"$f":"Dados_2.11.2019!B767","v":"23:25:50"},{"$f":"Dados_2.11.2019!C767","v":27},0.46610000000000001,23,25]
[{"$f":"Dados_2.11.2019!A768","v":"2019-11-20"},{"$f":"Dados_2.11.2019!B768","v":"23:25:50"},{"$f":"Dados_2.11.2019!C768","v":19},0.23569999999999997,23,25]
[{"$f":"Dados_2.11.2019!A769","v":"2019-11-20"},{"$f":"Dados_2.11.2019!B769","v":"23:25:50"},{"$f":"Dados_2.11.2019!C769","v":39},0.93169999999999997,23,25]
[{"$f":"Dados_2.11.2019!A770","v":"2019-11-20"},{"$f":"Dados_2.11.2019!B770","v":"23:25:51"},{"$f":"Dados_2.11.2019!C770","v":26},0.43380000000000002,23,25]
[{"$f":"Dados_2.11.2019!A771","v":"2019-11-20"},{"$f":"Dados_2.11.2019!B771","v":"23:25:51"},{"$f":"Dados_2.11.2019!C771","v":27},0.46610000000000001,23,25]
[{"$f":"Dados_2.11.2019!A772","v":"2019-11-20"},{"$f":"Dados_2.11.2019!B772","v":"23:25:51"},{"$f":"Dados_2.11.2019!C772","v":37},0.84409999999999996,23,25]
[{"$f":"Dados_2.11.2019!A773","v":"2019-11-20"},{"$f":"Dados_2.11.2019!B773","v":"23:25:51"},{"$f":"Dados_2.11.2019!C773","v":14},0.1242,23,25]
[{"$f":"Dados_2.11.2019!A774","v":"2019-11-20"},{"$f":"Dados_2.11.2019!B774","v":"23:25:51"},{"$f":"Dados_2.11.2019!C774","v":31},0.60529999999999995,23,25]
[{"$f":"Dados_2.11.2019!A775","v":"2019-11-20"},{"$f":"Dados_2.11.2019!B775","v":"23:25:52"},{"$f":"Dados_2.11.2019!C775","v":39},0.93169999999999997,23,25]
[{"$f":"Dados_2.11.2019!A776","v":"2019-11-20"},{"$f":"Dados_2.11.2019!B776","v":"23:25:52"},{"$f":"Dados_2.11.2019!C776","v":19},0.23569999999999997,23,25]
[{"$f":"Dados_2.11.2019!A777","v":"2019-11-20"},{"$f":"Dados_2.11.2019!B777","v":"23:25:52"},{"$f":"Dados_2.11.2019!C777","v":12},8.660000000000001E-2,23,25]
[{"$f":"Dados_2.11.2019!A778","v":"2019-11-20"},{"$f":"Dados_2.11.2019!B778","v":"23:25:52"},{"$f":"Dados_2.11.2019!C778","v":12},8.660000000000001E-2,23,25]
[{"$f":"Dados_2.11.2019!A779","v":"2019-11-20"},{"$f":"Dados_2.11.2019!B779","v":"23:25:52"},{"$f":"Dados_2.11.2019!C779","v":27},0.46610000000000001,23,25]
[{"$f":"Dados_2.11.2019!A780","v":"2019-11-20"},{"$f":"Dados_2.11.2019!B780","v":"23:25:53"},{"$f":"Dados_2.11.2019!C780","v":10},5.2999999999999999E-2,23,25]
[{"$f":"Dados_2.11.2019!A781","v":"2019-11-20"},{"$f":"Dados_2.11.2019!B781","v":"23:25:53"},{"$f":"Dados_2.11.2019!C781","v":33},0.68089999999999995,23,25]
[{"$f":"Dados_2.11.2019!A782","v":"2019-11-20"},{"$f":"Dados_2.11.2019!B782","v":"23:25:53"},{"$f":"Dados_2.11.2019!C782","v":7},1.0099999999999991E-2,23,25]
[{"$f":"Dados_2.11.2019!A783","v":"2019-11-20"},{"$f":"Dados_2.11.2019!B783","v":"23:25:53"},{"$f":"Dados_2.11.2019!C783","v":14},0.1242,23,25]
[{"$f":"Dados_2.11.2019!A784","v":"2019-11-20"},{"$f":"Dados_2.11.2019!B784","v":"23:25:53"},{"$f":"Dados_2.11.2019!C784","v":30},0.56899999999999995,23,25]
[{"$f":"Dados_2.11.2019!A785","v":"2019-11-20"},{"$f":"Dados_2.11.2019!B785","v":"23:25:54"},{"$f":"Dados_2.11.2019!C785","v":30},0.56899999999999995,23,25]
[{"$f":"Dados_2.11.2019!A786","v":"2019-11-20"},{"$f":"Dados_2.11.2019!B786","v":"23:25:54"},{"$f":"Dados_2.11.2019!C786","v":9},3.7700000000000004E-2,23,25]
[{"$f":"Dados_2.11.2019!A787","v":"2019-11-20"},{"$f":"Dados_2.11.2019!B787","v":"23:25:54"},{"$f":"Dados_2.11.2019!C787","v":31},0.60529999999999995,23,25]
[{"$f":"Dados_2.11.2019!A788","v":"2019-11-20"},{"$f":"Dados_2.11.2019!B788","v":"23:25:54"},{"$f":"Dados_2.11.2019!C788","v":23},0.34290000000000004,23,25]
[{"$f":"Dados_2.11.2019!A789","v":"2019-11-20"},{"$f":"Dados_2.11.2019!B789","v":"23:25:55"},{"$f":"Dados_2.11.2019!C789","v":5},0,23,25]
[{"$f":"Dados_2.11.2019!A790","v":"2019-11-20"},{"$f":"Dados_2.11.2019!B790","v":"23:25:55"},{"$f":"Dados_2.11.2019!C790","v":32},0.64259999999999995,23,25]
[{"$f":"Dados_2.11.2019!A791","v":"2019-11-20"},{"$f":"Dados_2.11.2019!B791","v":"23:25:55"},{"$f":"Dados_2.11.2019!C791","v":9},3.7700000000000004E-2,23,25]
[{"$f":"Dados_2.11.2019!A792","v":"2019-11-20"},{"$f":"Dados_2.11.2019!B792","v":"23:25:55"},{"$f":"Dados_2.11.2019!C792","v":9},3.7700000000000004E-2,23,25]
[{"$f":"Dados_2.11.2019!A793","v":"2019-11-20"},{"$f":"Dados_2.11.2019!B793","v":"23:25:55"},{"$f":"Dados_2.11.2019!C793","v":26},0.43380000000000002,23,25]
[{"$f":"Dados_2.11.2019!A794","v":"2019-11-20"},{"$f":"Dados_2.11.2019!B794","v":"23:25:55"},{"$f":"Dados_2.11.2019!C794","v":16},0.1658,23,25]
[{"$f":"Dados_2.11.2019!A795","v":"2019-11-20"},{"$f":"Dados_2.11.2019!B795","v":"23:25:56"},{"$f":"Dados_2.11.2019!C795","v":39},0.93169999999999997,23,25]
[{"$f":"Dados_2.11.2019!A796","v":"2019-11-20"},{"$f":"Dados_2.11.2019!B796","v":"23:25:56"},{"$f":"Dados_2.11.2019!C796","v":31},0.60529999999999995,23,25]
[{"$f":"Dados_2.11.2019!A797","v":"2019-11-20"},{"$f":"Dados_2.11.2019!B797","v":"23:25:56"},{"$f":"Dados_2.11.2019!C797","v":39},0.93169999999999997,23,25]
[{"$f":"Dados_2.11.2019!A798","v":"2019-11-20"},{"$f":"Dados_2.11.2019!B798","v":"23:25:56"},{"$f":"Dados_2.11.2019!C798","v":39},0.93169999999999997,23,25]
[{"$f":"Dados_2.11.2019!A799","v":"2019-11-20"},{"$f":"Dados_2.11.2019!B799","v":"23:25:57"},{"$f":"Dados_2.11.2019!C799","v":26},0.43380000000000002,23,25]
[{"$f":"Dados_2.11.2019!A800","v":"2019-11-20"},{"$f":"Dados_2.11.2019!B800","v":"23:25:57"},{"$f":"Dados_2.11.2019!C800","v":20},{"$f":"IF((0.0005*(C800^2)+0.0058*(C800)-0.055)<0,0,IF((0.0005*(C800^2)+0.0058*(C800)-0.055)>1,1,(0.0005*(C800^2)+0.0058*(C800)-0.055)))","v":0.26100000000000001},{"$f":"HOUR(B800)","v":23},{"$f":"MINUTE(B800)","v":25}]
[{"$f":"Dados_2.11.2019!A801","v":"2019-11-20"},{"$f":"Dados_2.11.2019!B801","v":"23:25:57"},{"$f":"Dados_2.11.2019!C801","v":25},0.40250000000000002,23,25]
[{"$f":"Dados_2.11.2019!A802","v":"2019-11-20"},{"$f":"Dados_2.11.2019!B802","v":"23:25:57"},{"$f":"Dados_2.11.2019!C802","v":23},0.34290000000000004,23,25]
[{"$f":"Dados_2.11.2019!A803","v":"2019-11-20"},{"$f":"Dados_2.11.2019!B803","v":"23:25:57"},{"$f":"Dados_2.11.2019!C803","v":12},8.660000000000001E-2,23,25]
[{"$f":"Dados_2.11.2019!A804","v":"2019-11-20"},{"$f":"Dados_2.11.2019!B804","v":"23:25:58"},{"$f":"Dados_2.11.2019!C804","v":26},0.43380000000000002,23,25]
[{"$f":"Dados_2.11.2019!A805","v":"2019-11-20"},{"$f":"Dados_2.11.2019!B805","v":"23:25:58"},{"$f":"Dados_2.11.2019!C805","v":25},0.40250000000000002,23,25]
[{"$f":"Dados_2.11.2019!A806","v":"2019-11-20"},{"$f":"Dados_2.11.2019!B806","v":"23:25:58"},{"$f":"Dados_2.11.2019!C806","v":15},0.14450000000000002,23,25]
[{"$f":"Dados_2.11.2019!A807","v":"2019-11-20"},{"$f":"Dados_2.11.2019!B807","v":"23:25:58"},{"$f":"Dados_2.11.2019!C807","v":22},0.31459999999999999,23,25]
[{"$f":"Dados_2.11.2019!A808","v":"2019-11-20"},{"$f":"Dados_2.11.2019!B808","v":"23:25:58"},{"$f":"Dados_2.11.2019!C808","v":35},0.76049999999999995,23,25]
[{"$f":"Dados_2.11.2019!A809","v":"2019-11-20"},{"$f":"Dados_2.11.2019!B809","v":"23:25:59"},{"$f":"Dados_2.11.2019!C809","v":10},5.2999999999999999E-2,23,25]
[{"$f":"Dados_2.11.2019!A810","v":"2019-11-20"},{"$f":"Dados_2.11.2019!B810","v":"23:25:59"},{"$f":"Dados_2.11.2019!C810","v":34},0.72019999999999984,23,25]
[{"$f":"Dados_2.11.2019!A811","v":"2019-11-20"},{"$f":"Dados_2.11.2019!B811","v":"23:25:59"},{"$f":"Dados_2.11.2019!C811","v":19},0.23569999999999997,23,25]
[{"$f":"Dados_2.11.2019!A812","v":"2019-11-20"},{"$f":"Dados_2.11.2019!B812","v":"23:25:59"},{"$f":"Dados_2.11.2019!C812","v":30},0.56899999999999995,23,25]
[{"$f":"Dados_2.11.2019!A813","v":"2019-11-20"},{"$f":"Dados_2.11.2019!B813","v":"23:25:59"},{"$f":"Dados_2.11.2019!C813","v":34},0.72019999999999984,23,25]
[{"$f":"Dados_2.11.2019!A814","v":"2019-11-20"},{"$f":"Dados_2.11.2019!B814","v":"23:26:00"},{"$f":"Dados_2.11.2019!C814","v":22},0.31459999999999999,23,26]
[{"$f":"Dados_2.11.2019!A815","v":"2019-11-20"},{"$f":"Dados_2.11.2019!B815","v":"23:26:00"},{"$f":"Dados_2.11.2019!C815","v":21},0.2873,23,26]
[{"$f":"Dados_2.11.2019!A816","v":"2019-11-20"},{"$f":"Dados_2.11.2019!B816","v":"23:26:00"},{"$f":"Dados_2.11.2019!C816","v":15},0.14450000000000002,23,26]
[{"$f":"Dados_2.11.2019!A817","v":"2019-11-20"},{"$f":"Dados_2.11.2019!B817","v":"23:26:00"},{"$f":"Dados_2.11.2019!C817","v":28},0.49940000000000001,23,26]
[{"$f":"Dados_2.11.2019!A818","v":"2019-11-20"},{"$f":"Dados_2.11.2019!B818","v":"23:26:00"},{"$f":"Dados_2.11.2019!C818","v":38},0.88739999999999986,23,26]
[{"$f":"Dados_2.11.2019!A819","v":"2019-11-20"},{"$f":"Dados_2.11.2019!B819","v":"23:26:01"},{"$f":"Dados_2.11.2019!C819","v":23},0.34290000000000004,23,26]
[{"$f":"Dados_2.11.2019!A820","v":"2019-11-20"},{"$f":"Dados_2.11.2019!B820","v":"23:26:01"},{"$f":"Dados_2.11.2019!C820","v":20},0.26100000000000001,23,26]
[{"$f":"Dados_2.11.2019!A821","v":"2019-11-20"},{"$f":"Dados_2.11.2019!B821","v":"23:26:01"},{"$f":"Dados_2.11.2019!C821","v":28},0.49940000000000001,23,26]
[{"$f":"Dados_2.11.2019!A822","v":"2019-11-20"},{"$f":"Dados_2.11.2019!B822","v":"23:26:01"},{"$f":"Dados_2.11.2019!C822","v":15},0.14450000000000002,23,26]
[{"$f":"Dados_2.11.2019!A823","v":"2019-11-20"},{"$f":"Dados_2.11.2019!B823","v":"23:26:01"},{"$f":"Dados_2.11.2019!C823","v":27},0.46610000000000001,23,26]
[{"$f":"Dados_2.11.2019!A824","v":"2019-11-20"},{"$f":"Dados_2.11.2019!B824","v":"23:26:02"},{"$f":"Dados_2.11.2019!C824","v":37},0.84409999999999996,23,26]
[{"$f":"Dados_2.11.2019!A825","v":"2019-11-20"},{"$f":"Dados_2.11.2019!B825","v":"23:26:02"},{"$f":"Dados_2.11.2019!C825","v":34},0.72019999999999984,23,26]
[{"$f":"Dados_2.11.2019!A826","v":"2019-11-20"},{"$f":"Dados_2.11.2019!B826","v":"23:26:02"},{"$f":"Dados_2.11.2019!C826","v":15},0.14450000000000002,23,26]
[{"$f":"Dados_2.11.2019!A827","v":"2019-11-20"},{"$f":"Dados_2.11.2019!B827","v":"23:26:02"},{"$f":"Dados_2.11.2019!C827","v":36},0.80179999999999996,23,26]
[{"$f":"Dados_2.11.2019!A828","v":"2019-11-20"},{"$f":"Dados_2.11.2019!B828","v":"23:26:02"},{"$f":"Dados_2.11.2019!C828","v":39},0.93169999999999997,23,26]
[{"$f":"Dados_2.11.2019!A829","v":"2019-11-20"},{"$f":"Dados_2.11.2019!B829","v":"23:26:03"},{"$f":"Dados_2.11.2019!C829","v":14},0.1242,23,26]
[{"$f":"Dados_2.11.2019!A830","v":"2019-11-20"},{"$f":"Dados_2.11.2019!B830","v":"23:26:03"},{"$f":"Dados_2.11.2019!C830","v":17},0.18809999999999999,23,26]
[{"$f":"Dados_2.11.2019!A831","v":"2019-11-20"},{"$f":"Dados_2.11.2019!B831","v":"23:26:03"},{"$f":"Dados_2.11.2019!C831","v":17},0.18809999999999999,23,26]
[{"$f":"Dados_2.11.2019!A832","v":"2019-11-20"},{"$f":"Dados_2.11.2019!B832","v":"23:26:03"},{"$f":"Dados_2.11.2019!C832","v":8},2.3399999999999997E-2,23,26]
[{"$f":"Dados_2.11.2019!A833","v":"2019-11-20"},{"$f":"Dados_2.11.2019!B833","v":"23:26:03"},{"$f":"Dados_2.11.2019!C833","v":12},8.660000000000001E-2,23,26]
[{"$f":"Dados_2.11.2019!A834","v":"2019-11-20"},{"$f":"Dados_2.11.2019!B834","v":"23:26:04"},{"$f":"Dados_2.11.2019!C834","v":8},2.3399999999999997E-2,23,26]
[{"$f":"Dados_2.11.2019!A835","v":"2019-11-20"},{"$f":"Dados_2.11.2019!B835","v":"23:26:04"},{"$f":"Dados_2.11.2019!C835","v":26},0.43380000000000002,23,26]
[{"$f":"Dados_2.11.2019!A836","v":"2019-11-20"},{"$f":"Dados_2.11.2019!B836","v":"23:26:04"},{"$f":"Dados_2.11.2019!C836","v":38},0.88739999999999986,23,26]
[{"$f":"Dados_2.11.2019!A837","v":"2019-11-20"},{"$f":"Dados_2.11.2019!B837","v":"23:26:04"},{"$f":"Dados_2.11.2019!C837","v":15},0.14450000000000002,23,26]
[{"$f":"Dados_2.11.2019!A838","v":"2019-11-20"},{"$f":"Dados_2.11.2019!B838","v":"23:26:04"},{"$f":"Dados_2.11.2019!C838","v":13},0.10489999999999999,23,26]
[{"$f":"Dados_2.11.2019!A839","v":"2019-11-20"},{"$f":"Dados_2.11.2019!B839","v":"23:26:05"},{"$f":"Dados_2.11.2019!C839","v":22},0.31459999999999999,23,26]
[{"$f":"Dados_2.11.2019!A840","v":"2019-11-20"},{"$f":"Dados_2.11.2019!B840","v":"23:26:05"},{"$f":"Dados_2.11.2019!C840","v":10},5.2999999999999999E-2,23,26]
[{"$f":"Dados_2.11.2019!A841","v":"2019-11-20"},{"$f":"Dados_2.11.2019!B841","v":"23:26:05"},{"$f":"Dados_2.11.2019!C841","v":22},0.31459999999999999,23,26]
[{"$f":"Dados_2.11.2019!A842","v":"2019-11-20"},{"$f":"Dados_2.11.2019!B842","v":"23:26:05"},{"$f":"Dados_2.11.2019!C842","v":18},0.21139999999999998,23,26]
[{"$f":"Dados_2.11.2019!A843","v":"2019-11-20"},{"$f":"Dados_2.11.2019!B843","v":"23:26:05"},{"$f":"Dados_2.11.2019!C843","v":30},0.56899999999999995,23,26]
[{"$f":"Dados_2.11.2019!A844","v":"2019-11-20"},{"$f":"Dados_2.11.2019!B844","v":"23:26:06"},{"$f":"Dados_2.11.2019!C844","v":10},5.2999999999999999E-2,23,26]
[{"$f":"Dados_2.11.2019!A845","v":"2019-11-20"},{"$f":"Dados_2.11.2019!B845","v":"23:26:06"},{"$f":"Dados_2.11.2019!C845","v":11},6.93E-2,23,26]
[{"$f":"Dados_2.11.2019!A846","v":"2019-11-20"},{"$f":"Dados_2.11.2019!B846","v":"23:26:06"},{"$f":"Dados_2.11.2019!C846","v":39},0.93169999999999997,23,26]
[{"$f":"Dados_2.11.2019!A847","v":"2019-11-20"},{"$f":"Dados_2.11.2019!B847","v":"23:26:06"},{"$f":"Dados_2.11.2019!C847","v":33},0.68089999999999995,23,26]
[{"$f":"Dados_2.11.2019!A848","v":"2019-11-20"},{"$f":"Dados_2.11.2019!B848","v":"23:26:06"},{"$f":"Dados_2.11.2019!C848","v":10},5.2999999999999999E-2,23,26]
[{"$f":"Dados_2.11.2019!A849","v":"2019-11-20"},{"$f":"Dados_2.11.2019!B849","v":"23:26:07"},{"$f":"Dados_2.11.2019!C849","v":12},8.660000000000001E-2,23,26]
[{"$f":"Dados_2.11.2019!A850","v":"2019-11-20"},{"$f":"Dados_2.11.2019!B850","v":"23:26:07"},{"$f":"Dados_2.11.2019!C850","v":31},0.60529999999999995,23,26]
[{"$f":"Dados_2.11.2019!A851","v":"2019-11-20"},{"$f":"Dados_2.11.2019!B851","v":"23:26:07"},{"$f":"Dados_2.11.2019!C851","v":39},0.93169999999999997,23,26]
[{"$f":"Dados_2.11.2019!A852","v":"2019-11-20"},{"$f":"Dados_2.11.2019!B852","v":"23:26:07"},{"$f":"Dados_2.11.2019!C852","v":22},0.31459999999999999,23,26]
[{"$f":"Dados_2.11.2019!A853","v":"2019-11-20"},{"$f":"Dados_2.11.2019!B853","v":"23:26:07"},{"$f":"Dados_2.11.2019!C853","v":23},0.34290000000000004,23,26]
[{"$f":"Dados_2.11.2019!A854","v":"2019-11-20"},{"$f":"Dados_2.11.2019!B854","v":"23:26:08"},{"$f":"Dados_2.11.2019!C854","v":29},0.53369999999999995,23,26]
[{"$f":"Dados_2.11.2019!A855","v":"2019-11-20"},{"$f":"Dados_2.11.2019!B855","v":"23:26:08"},{"$f":"Dados_2.11.2019!C855","v":22},0.31459999999999999,23,26]
[{"$f":"Dados_2.11.2019!A856","v":"2019-11-20"},{"$f":"Dados_2.11.2019!B856","v":"23:26:08"},{"$f":"Dados_2.11.2019!C856","v":26},0.43380000000000002,23,26]
[{"$f":"Dados_2.11.2019!A857","v":"2019-11-20"},{"$f":"Dados_2.11.2019!B857","v":"23:26:08"},{"$f":"Dados_2.11.2019!C857","v":8},2.3399999999999997E-2,23,26]
[{"$f":"Dados_2.11.2019!A858","v":"2019-11-20"},{"$f":"Dados_2.11.2019!B858","v":"23:26:08"},{"$f":"Dados_2.11.2019!C858","v":18},0.21139999999999998,23,26]
[{"$f":"Dados_2.11.2019!A859","v":"2019-11-20"},{"$f":"Dados_2.11.2019!B859","v":"23:26:09"},{"$f":"Dados_2.11.2019!C859","v":20},0.26100000000000001,23,26]
[{"$f":"Dados_2.11.2019!A860","v":"2019-11-20"},{"$f":"Dados_2.11.2019!B860","v":"23:26:09"},{"$f":"Dados_2.11.2019!C860","v":36},0.80179999999999996,23,26]
[{"$f":"Dados_2.11.2019!A861","v":"2019-11-20"},{"$f":"Dados_2.11.2019!B861","v":"23:26:09"},{"$f":"Dados_2.11.2019!C861","v":32},0.64259999999999995,23,26]
[{"$f":"Dados_2.11.2019!A862","v":"2019-11-20"},{"$f":"Dados_2.11.2019!B862","v":"23:26:09"},{"$f":"Dados_2.11.2019!C862","v":16},0.1658,23,26]
[{"$f":"Dados_2.11.2019!A863","v":"2019-11-20"},{"$f":"Dados_2.11.2019!B863","v":"23:26:09"},{"$f":"Dados_2.11.2019!C863","v":18},0.21139999999999998,23,26]
[{"$f":"Dados_2.11.2019!A864","v":"2019-11-20"},{"$f":"Dados_2.11.2019!B864","v":"23:26:10"},{"$f":"Dados_2.11.2019!C864","v":29},{"$f":"IF((0.0005*(C864^2)+0.0058*(C864)-0.055)<0,0,IF((0.0005*(C864^2)+0.0058*(C864)-0.055)>1,1,(0.0005*(C864^2)+0.0058*(C864)-0.055)))","v":0.53369999999999995},{"$f":"HOUR(B864)","v":23},{"$f":"MINUTE(B864)","v":26}]
[{"$f":"Dados_2.11.2019!A865","v":"2019-11-20"},{"$f":"Dados_2.11.2019!B865","v":"23:26:10"},{"$f":"Dados_2.11.2019!C865","v":19},0.23569999999999997,23,26]
[{"$f":"Dados_2.11.2019!A866","v":"2019-11-20"},{"$f":"Dados_2.11.2019!B866","v":"23:26:10"},{"$f":"Dados_2.11.2019!C866","v":23},0.34290000000000004,23,26]
[{"$f":"Dados_2.11.2019!A867","v":"2019-11-20"},{"$f":"Dados_2.11.2019!B867","v":"23:26:11"},{"$f":"Dados_2.11.2019!C867","v":10},5.2999999999999999E-2,23,26]
[{"$f":"Dados_2.11.2019!A868","v":"2019-11-20"},{"$f":"Dados_2.11.2019!B868","v":"23:26:11"},{"$f":"Dados_2.11.2019!C868","v":22},0.31459999999999999,23,26]
[{"$f":"Dados_2.11.2019!A869","v":"2019-11-20"},{"$f":"Dados_2.11.2019!B869","v":"23:26:11"},{"$f":"Dados_2.11.2019!C869","v":11},6.93E-2,23,26]
[{"$f":"Dados_2.11.2019!A870","v":"2019-11-20"},{"$f":"Dados_2.11.2019!B870","v":"23:26:11"},{"$f":"Dados_2.11.2019!C870","v":29},0.53369999999999995,23,26]
[{"$f":"Dados_2.11.2019!A871","v":"2019-11-20"},{"$f":"Dados_2.11.2019!B871","v":"23:26:11"},{"$f":"Dados_2.11.2019!C871","v":34},0.72019999999999984,23,26]
[{"$f":"Dados_2.11.2019!A872","v":"2019-11-20"},{"$f":"Dados_2.11.2019!B872","v":"23:26:11"},{"$f":"Dados_2.11.2019!C872","v":10},5.2999999999999999E-2,23,26]
[{"$f":"Dados_2.11.2019!A873","v":"2019-11-20"},{"$f":"Dados_2.11.2019!B873","v":"23:26:12"},{"$f":"Dados_2.11.2019!C873","v":29},0.53369999999999995,23,26]
[{"$f":"Dados_2.11.2019!A874","v":"2019-11-20"},{"$f":"Dados_2.11.2019!B874","v":"23:26:12"},{"$f":"Dados_2.11.2019!C874","v":37},0.84409999999999996,23,26]
[{"$f":"Dados_2.11.2019!A875","v":"2019-11-20"},{"$f":"Dados_2.11.2019!B875","v":"23:26:12"},{"$f":"Dados_2.11.2019!C875","v":13},0.10489999999999999,23,26]
[{"$f":"Dados_2.11.2019!A876","v":"2019-11-20"},{"$f":"Dados_2.11.2019!B876","v":"23:26:12"},{"$f":"Dados_2.11.2019!C876","v":33},0.68089999999999995,23,26]
[{"$f":"Dados_2.11.2019!A877","v":"2019-11-20"},{"$f":"Dados_2.11.2019!B877","v":"23:26:12"},{"$f":"Dados_2.11.2019!C877","v":24},0.37220000000000003,23,26]
[{"$f":"Dados_2.11.2019!A878","v":"2019-11-20"},{"$f":"Dados_2.11.2019!B878","v":"23:26:12"},{"$f":"Dados_2.11.2019!C878","v":24},0.37220000000000003,23,26]
[{"$f":"Dados_2.11.2019!A879","v":"2019-11-20"},{"$f":"Dados_2.11.2019!B879","v":"23:26:13"},{"$f":"Dados_2.11.2019!C879","v":6},0,23,26]
[{"$f":"Dados_2.11.2019!A880","v":"2019-11-20"},{"$f":"Dados_2.11.2019!B880","v":"23:26:13"},{"$f":"Dados_2.11.2019!C880","v":9},3.7700000000000004E-2,23,26]
[{"$f":"Dados_2.11.2019!A881","v":"2019-11-20"},{"$f":"Dados_2.11.2019!B881","v":"23:26:13"},{"$f":"Dados_2.11.2019!C881","v":9},3.7700000000000004E-2,23,26]
[{"$f":"Dados_2.11.2019!A882","v":"2019-11-20"},{"$f":"Dados_2.11.2019!B882","v":"23:26:13"},{"$f":"Dados_2.11.2019!C882","v":39},0.93169999999999997,23,26]
[{"$f":"Dados_2.11.2019!A883","v":"2019-11-20"},{"$f":"Dados_2.11.2019!B883","v":"23:26:13"},{"$f":"Dados_2.11.2019!C883","v":11},6.93E-2,23,26]
[{"$f":"Dados_2.11.2019!A884","v":"2019-11-20"},{"$f":"Dados_2.11.2019!B884","v":"23:26:14"},{"$f":"Dados_2.11.2019!C884","v":21},0.2873,23,26]
[{"$f":"Dados_2.11.2019!A885","v":"2019-11-20"},{"$f":"Dados_2.11.2019!B885","v":"23:26:14"},{"$f":"Dados_2.11.2019!C885","v":39},0.93169999999999997,23,26]
[{"$f":"Dados_2.11.2019!A886","v":"2019-11-20"},{"$f":"Dados_2.11.2019!B886","v":"23:26:14"},{"$f":"Dados_2.11.2019!C886","v":10},5.2999999999999999E-2,23,26]
[{"$f":"Dados_2.11.2019!A887","v":"2019-11-20"},{"$f":"Dados_2.11.2019!B887","v":"23:26:14"},{"$f":"Dados_2.11.2019!C887","v":16},0.1658,23,26]
[{"$f":"Dados_2.11.2019!A888","v":"2019-11-20"},{"$f":"Dados_2.11.2019!B888","v":"23:26:14"},{"$f":"Dados_2.11.2019!C888","v":9},3.7700000000000004E-2,23,26]
[{"$f":"Dados_2.11.2019!A889","v":"2019-11-20"},{"$f":"Dados_2.11.2019!B889","v":"23:26:15"},{"$f":"Dados_2.11.2019!C889","v":14},0.1242,23,26]
[{"$f":"Dados_2.11.2019!A890","v":"2019-11-20"},{"$f":"Dados_2.11.2019!B890","v":"23:26:15"},{"$f":"Dados_2.11.2019!C890","v":35},0.76049999999999995,23,26]
[{"$f":"Dados_2.11.2019!A891","v":"2019-11-20"},{"$f":"Dados_2.11.2019!B891","v":"23:26:15"},{"$f":"Dados_2.11.2019!C891","v":23},0.34290000000000004,23,26]
[{"$f":"Dados_2.11.2019!A892","v":"2019-11-20"},{"$f":"Dados_2.11.2019!B892","v":"23:26:15"},{"$f":"Dados_2.11.2019!C892","v":6},0,23,26]
[{"$f":"Dados_2.11.2019!A893","v":"2019-11-20"},{"$f":"Dados_2.11.2019!B893","v":"23:26:15"},{"$f":"Dados_2.11.2019!C893","v":34},0.72019999999999984,23,26]
[{"$f":"Dados_2.11.2019!A894","v":"2019-11-20"},{"$f":"Dados_2.11.2019!B894","v":"23:26:16"},{"$f":"Dados_2.11.2019!C894","v":33},0.68089999999999995,23,26]
[{"$f":"Dados_2.11.2019!A895","v":"2019-11-20"},{"$f":"Dados_2.11.2019!B895","v":"23:26:16"},{"$f":"Dados_2.11.2019!C895","v":24},0.37220000000000003,23,26]
[{"$f":"Dados_2.11.2019!A896","v":"2019-11-20"},{"$f":"Dados_2.11.2019!B896","v":"23:26:16"},{"$f":"Dados_2.11.2019!C896","v":9},3.7700000000000004E-2,23,26]
[{"$f":"Dados_2.11.2019!A897","v":"2019-11-20"},{"$f":"Dados_2.11.2019!B897","v":"23:26:16"},{"$f":"Dados_2.11.2019!C897","v":15},0.14450000000000002,23,26]
[{"$f":"Dados_2.11.2019!A898","v":"2019-11-20"},{"$f":"Dados_2.11.2019!B898","v":"23:26:16"},{"$f":"Dados_2.11.2019!C898","v":5},0,23,26]
[{"$f":"Dados_2.11.2019!A899","v":"2019-11-20"},{"$f":"Dados_2.11.2019!B899","v":"23:26:17"},{"$f":"Dados_2.11.2019!C899","v":25},0.40250000000000002,23,26]
[{"$f":"Dados_2.11.2019!A900","v":"2019-11-20"},{"$f":"Dados_2.11.2019!B900","v":"23:26:17"},{"$f":"Dados_2.11.2019!C900","v":10},5.2999999999999999E-2,23,26]
[{"$f":"Dados_2.11.2019!A901","v":"2019-11-20"},{"$f":"Dados_2.11.2019!B901","v":"23:26:17"},{"$f":"Dados_2.11.2019!C901","v":30},0.56899999999999995,23,26]
[{"$f":"Dados_2.11.2019!A902","v":"2019-11-20"},{"$f":"Dados_2.11.2019!B902","v":"23:26:17"},{"$f":"Dados_2.11.2019!C902","v":32},0.64259999999999995,23,26]
[{"$f":"Dados_2.11.2019!A903","v":"2019-11-20"},{"$f":"Dados_2.11.2019!B903","v":"23:26:17"},{"$f":"Dados_2.11.2019!C903","v":8},2.3399999999999997E-2,23,26]
[{"$f":"Dados_2.11.2019!A904","v":"2019-11-20"},{"$f":"Dados_2.11.2019!B904","v":"23:26:18"},{"$f":"Dados_2.11.2019!C904","v":39},0.93169999999999997,23,26]
[{"$f":"Dados_2.11.2019!A905","v":"2019-11-20"},{"$f":"Dados_2.11.2019!B905","v":"23:26:18"},{"$f":"Dados_2.11.2019!C905","v":16},0.1658,23,26]
[{"$f":"Dados_2.11.2019!A906","v":"2019-11-20"},{"$f":"Dados_2.11.2019!B906","v":"23:26:18"},{"$f":"Dados_2.11.2019!C906","v":9},3.7700000000000004E-2,23,26]
[{"$f":"Dados_2.11.2019!A907","v":"2019-11-20"},{"$f":"Dados_2.11.2019!B907","v":"23:26:18"},{"$f":"Dados_2.11.2019!C907","v":20},0.26100000000000001,23,26]
[{"$f":"Dados_2.11.2019!A908","v":"2019-11-20"},{"$f":"Dados_2.11.2019!B908","v":"23:26:18"},{"$f":"Dados_2.11.2019!C908","v":27},0.46610000000000001,23,26]
[{"$f":"Dados_2.11.2019!A909","v":"2019-11-20"},{"$f":"Dados_2.11.2019!B909","v":"23:26:19"},{"$f":"Dados_2.11.2019!C909","v":21},0.2873,23,26]
[{"$f":"Dados_2.11.2019!A910","v":"2019-11-20"},{"$f":"Dados_2.11.2019!B910","v":"23:26:19"},{"$f":"Dados_2.11.2019!C910","v":26},0.43380000000000002,23,26]
[{"$f":"Dados_2.11.2019!A911","v":"2019-11-20"},{"$f":"Dados_2.11.2019!B911","v":"23:26:19"},{"$f":"Dados_2.11.2019!C911","v":26},0.43380000000000002,23,26]
[{"$f":"Dados_2.11.2019!A912","v":"2019-11-20"},{"$f":"Dados_2.11.2019!B912","v":"23:26:19"},{"$f":"Dados_2.11.2019!C912","v":30},0.56899999999999995,23,26]
[{"$f":"Dados_2.11.2019!A913","v":"2019-11-20"},{"$f":"Dados_2.11.2019!B913","v":"23:26:19"},{"$f":"Dados_2.11.2019!C913","v":10},5.2999999999999999E-2,23,26]
[{"$f":"Dados_2.11.2019!A914","v":"2019-11-20"},{"$f":"Dados_2.11.2019!B914","v":"23:26:20"},{"$f":"Dados_2.11.2019!C914","v":22},0.31459999999999999,23,26]
[{"$f":"Dados_2.11.2019!A915","v":"2019-11-20"},{"$f":"Dados_2.11.2019!B915","v":"23:26:20"},{"$f":"Dados_2.11.2019!C915","v":17},0.18809999999999999,23,26]
[{"$f":"Dados_2.11.2019!A916","v":"2019-11-20"},{"$f":"Dados_2.11.2019!B916","v":"23:26:20"},{"$f":"Dados_2.11.2019!C916","v":25},0.40250000000000002,23,26]
[{"$f":"Dados_2.11.2019!A917","v":"2019-11-20"},{"$f":"Dados_2.11.2019!B917","v":"23:26:20"},{"$f":"Dados_2.11.2019!C917","v":34},0.72019999999999984,23,26]
[{"$f":"Dados_2.11.2019!A918","v":"2019-11-20"},{"$f":"Dados_2.11.2019!B918","v":"23:26:20"},{"$f":"Dados_2.11.2019!C918","v":7},1.0099999999999991E-2,23,26]
[{"$f":"Dados_2.11.2019!A919","v":"2019-11-20"},{"$f":"Dados_2.11.2019!B919","v":"23:26:21"},{"$f":"Dados_2.11.2019!C919","v":30},0.56899999999999995,23,26]
[{"$f":"Dados_2.11.2019!A920","v":"2019-11-20"},{"$f":"Dados_2.11.2019!B920","v":"23:26:21"},{"$f":"Dados_2.11.2019!C920","v":32},0.64259999999999995,23,26]
[{"$f":"Dados_2.11.2019!A921","v":"2019-11-20"},{"$f":"Dados_2.11.2019!B921","v":"23:26:21"},{"$f":"Dados_2.11.2019!C921","v":31},0.60529999999999995,23,26]
[{"$f":"Dados_2.11.2019!A922","v":"2019-11-20"},{"$f":"Dados_2.11.2019!B922","v":"23:26:21"},{"$f":"Dados_2.11.2019!C922","v":37},0.84409999999999996,23,26]
[{"$f":"Dados_2.11.2019!A923","v":"2019-11-20"},{"$f":"Dados_2.11.2019!B923","v":"23:26:21"},{"$f":"Dados_2.11.2019!C923","v":6},0,23,26]
[{"$f":"Dados_2.11.2019!A924","v":"2019-11-20"},{"$f":"Dados_2.11.2019!B924","v":"23:26:22"},{"$f":"Dados_2.11.2019!C924","v":16},0.1658,23,26]
[{"$f":"Dados_2.11.2019!A925","v":"2019-11-20"},{"$f":"Dados_2.11.2019!B925","v":"23:26:22"},{"$f":"Dados_2.11.2019!C925","v":32},0.64259999999999995,23,26]
[{"$f":"Dados_2.11.2019!A926","v":"2019-11-20"},{"$f":"Dados_2.11.2019!B926","v":"23:26:22"},{"$f":"Dados_2.11.2019!C926","v":13},0.10489999999999999,23,26]
[{"$f":"Dados_2.11.2019!A927","v":"2019-11-20"},{"$f":"Dados_2.11.2019!B927","v":"23:26:22"},{"$f":"Dados_2.11.2019!C927","v":26},0.43380000000000002,23,26]
[{"$f":"Dados_2.11.2019!A928","v":"2019-11-20"},{"$f":"Dados_2.11.2019!B928","v":"23:26:22"},{"$f":"Dados_2.11.2019!C928","v":34},{"$f":"IF((0.0005*(C928^2)+0.0058*(C928)-0.055)<0,0,IF((0.0005*(C928^2)+0.0058*(C928)-0.055)>1,1,(0.0005*(C928^2)+0.0058*(C928)-0.055)))","v":0.72019999999999984},{"$f":"HOUR(B928)","v":23},{"$f":"MINUTE(B928)","v":26}]
[{"$f":"Dados_2.11.2019!A929","v":"2019-11-20"},{"$f":"Dados_2.11.2019!B929","v":"23:26:23"},{"$f":"Dados_2.11.2019!C929","v":29},0.53369999999999995,23,26]
[{"$f":"Dados_2.11.2019!A930","v":"2019-11-20"},{"$f":"Dados_2.11.2019!B930","v":"23:26:23"},{"$f":"Dados_2.11.2019!C930","v":12},8.660000000000001E-2,23,26]
[{"$f":"Dados_2.11.2019!A931","v":"2019-11-20"},{"$f":"Dados_2.11.2019!B931","v":"23:26:23"},{"$f":"Dados_2.11.2019!C931","v":6},0,23,26]
[{"$f":"Dados_2.11.2019!A932","v":"2019-11-20"},{"$f":"Dados_2.11.2019!B932","v":"23:26:24"},{"$f":"Dados_2.11.2019!C932","v":35},0.76049999999999995,23,26]
[{"$f":"Dados_2.11.2019!A933","v":"2019-11-20"},{"$f":"Dados_2.11.2019!B933","v":"23:26:24"},{"$f":"Dados_2.11.2019!C933","v":17},0.18809999999999999,23,26]
[{"$f":"Dados_2.11.2019!A934","v":"2019-11-20"},{"$f":"Dados_2.11.2019!B934","v":"23:26:24"},{"$f":"Dados_2.11.2019!C934","v":11},6.93E-2,23,26]
[{"$f":"Dados_2.11.2019!A935","v":"2019-11-20"},{"$f":"Dados_2.11.2019!B935","v":"23:26:24"},{"$f":"Dados_2.11.2019!C935","v":30},0.56899999999999995,23,26]
[{"$f":"Dados_2.11.2019!A936","v":"2019-11-20"},{"$f":"Dados_2.11.2019!B936","v":"23:26:24"},{"$f":"Dados_2.11.2019!C936","v":6},0,23,26]
[{"$f":"Dados_2.11.2019!A937","v":"2019-11-20"},{"$f":"Dados_2.11.2019!B937","v":"23:26:24"},{"$f":"Dados_2.11.2019!C937","v":17},0.18809999999999999,23,26]
[{"$f":"Dados_2.11.2019!A938","v":"2019-11-20"},{"$f":"Dados_2.11.2019!B938","v":"23:26:24"},{"$f":"Dados_2.11.2019!C938","v":39},0.93169999999999997,23,26]
[{"$f":"Dados_2.11.2019!A939","v":"00:00:00"},{"$f":"Dados_2.11.2019!B939","v":"00:00:00"},{"$f":"Dados_2.11.2019!C939","v":0},0,0,0]
[{"$f":"Dados_2.11.2019!A940","v":"00:00:00"},{"$f":"Dados_2.11.2019!B940","v":"00:00:00"},{"$f":"Dados_2.11.2019!C940","v":0},0,0,0]
[{"$f":"Dados_2.11.2019!A941","v":"00:00:00"},{"$f":"Dados_2.11.2019!B941","v":"00:00:00"},{"$f":"Dados_2.11.2019!C941","v":0},0,0,0]
[{"$f":"Dados_2.11.2019!A942","v":"00:00:00"},{"$f":"Dados_2.11.2019!B942","v":"00:00:00"},{"$f":"Dados_2.11.2019!C942","v":0},0,0,0]
[{"$f":"Dados_2.11.2019!A943","v":"00:00:00"},{"$f":"Dados_2.11.2019!B943","v":"00:00:00"},{"$f":"Dados_2.11.2019!C943","v":0},0,0,0]
[{"$f":"Dados_2.11.2019!A944","v":"00:00:00"},{"$f":"Dados_2.11.2019!B944","v":"00:00:00"},{"$f":"Dados_2.11.2019!C944","v":0},0,0,0]
[{"$f":"Dados_2.11.2019!A945","v":"00:00:00"},{"$f":"Dados_2.11.2019!B945","v":"00:00:00"},{"$f":"Dados_2.11.2019!C945","v":0},0,0,0]
[{"$f":"Dados_2.11.2019!A946","v":"00:00:00"},{"$f":"Dados_2.11.2019!B946","v":"00:00:00"},{"$f":"Dados_2.11.2019!C946","v":0},0,0,0]
[{"$f":"Dados_2.11.2019!A947","v":"00:00:00"},{"$f":"Dados_2.11.2019!B947","v":"00:00:00"},{"$f":"Dados_2.11.2019!C947","v":0},0,0,0]
[{"$f":"Dados_2.11.2019!A948","v":"00:00:00"},{"$f":"Dados_2.11.2019!B948","v":"00:00:00"},{"$f":"Dados_2.11.2019!C948","v":0},0,0,0]
[{"$f":"Dados_2.11.2019!A949","v":"00:00:00"},{"$f":"Dados_2.11.2019!B949","v":"00:00:00"},{"$f":"Dados_2.11.2019!C949","v":0},0,0,0]
[{"$f":"Dados_2.11.2019!A950","v":"00:00:00"},{"$f":"Dados_2.11.2019!B950","v":"00:00:00"},{"$f":"Dados_2.11.2019!C950","v":0},0,0,0]
[{"$f":"Dados_2.11.2019!A951","v":"00:00:00"},{"$f":"Dados_2.11.2019!B951","v":"00:00:00"},{"$f":"Dados_2.11.2019!C951","v":0},0,0,0]
[{"$f":"Dados_2.11.2019!A952","v":"00:00:00"},{"$f":"Dados_2.11.2019!B952","v":"00:00:00"},{"$f":"Dados_2.11.2019!C952","v":0},0,0,0]
[{"$f":"Dados_2.11.2019!A953","v":"00:00:00"},{"$f":"Dados_2.11.2019!B953","v":"00:00:00"},{"$f":"Dados_2.11.2019!C953","v":0},0,0,0]
[{"$f":"Dados_2.11.2019!A954","v":"00:00:00"},{"$f":"Dados_2.11.2019!B954","v":"00:00:00"},{"$f":"Dados_2.11.2019!C954","v":0},0,0,0]
[{"$f":"Dados_2.11.2019!A955","v":"00:00:00"},{"$f":"Dados_2.11.2019!B955","v":"00:00:00"},{"$f":"Dados_2.11.2019!C955","v":0},0,0,0]
[{"$f":"Dados_2.11.2019!A956","v":"00:00:00"},{"$f":"Dados_2.11.2019!B956","v":"00:00:00"},{"$f":"Dados_2.11.2019!C956","v":0},0,0,0]
[{"$f":"Dados_2.11.2019!A957","v":"00:00:00"},{"$f":"Dados_2.11.2019!B957","v":"00:00:00"},{"$f":"Dados_2.11.2019!C957","v":0},0,0,0]
[{"$f":"Dados_2.11.2019!A958","v":"00:00:00"},{"$f":"Dados_2.11.2019!B958","v":"00:00:00"},{"$f":"Dados_2.11.2019!C958","v":0},0,0,0]
[{"$f":"Dados_2.11.2019!A959","v":"00:00:00"},{"$f":"Dados_2.11.2019!B959","v":"00:00:00"},{"$f":"Dados_2.11.2019!C959","v":0},0,0,0]
[{"$f":"Dados_2.11.2019!A960","v":"00:00:00"},{"$f":"Dados_2.11.2019!B960","v":"00:00:00"},{"$f":"Dados_2.11.2019!C960","v":0},0,0,0]
[{"$f":"Dados_2.11.2019!A961","v":"00:00:00"},{"$f":"Dados_2.11.2019!B961","v":"00:00:00"},{"$f":"Dados_2.11.2019!C961","v":0},0,0,0]
[{"$f":"Dados_2.11.2019!A962","v":"00:00:00"},{"$f":"Dados_2.11.2019!B962","v":"00:00:00"},{"$f":"Dados_2.11.2019!C962","v":0},0,0,0]
[{"$f":"Dados_2.11.2019!A963","v":"00:00:00"},{"$f":"Dados_2.11.2019!B963","v":"00:00:00"},{"$f":"Dados_2.11.2019!C963","v":0},0,0,0]
[{"$f":"Dados_2.11.2019!A964","v":"00:00:00"},{"$f":"Dados_2.11.2019!B964","v":"00:00:00"},{"$f":"Dados_2.11.2019!C964","v":0},0,0,0]
[{"$f":"Dados_2.11.2019!A965","v":"00:00:00"},{"$f":"Dados_2.11.2019!B965","v":"00:00:00"},{"$f":"Dados_2.11.2019!C965","v":0},0,0,0]
[{"$f":"Dados_2.11.2019!A966","v":"00:00:00"},{"$f":"Dados_2.11.2019!B966","v":"00:00:00"},{"$f":"Dados_2.11.2019!C966","v":0},0,0,0]
[{"$f":"Dados_2.11.2019!A967","v":"00:00:00"},{"$f":"Dados_2.11.2019!B967","v":"00:00:00"},{"$f":"Dados_2.11.2019!C967","v":0},0,0,0]
[{"$f":"Dados_2.11.2019!A968","v":"00:00:00"},{"$f":"Dados_2.11.2019!B968","v":"00:00:00"},{"$f":"Dados_2.11.2019!C968","v":0},0,0,0]
[{"$f":"Dados_2.11.2019!A969","v":"00:00:00"},{"$f":"Dados_2.11.2019!B969","v":"00:00:00"},{"$f":"Dados_2.11.2019!C969","v":0},0,0,0]
[{"$f":"Dados_2.11.2019!A970","v":"00:00:00"},{"$f":"Dados_2.11.2019!B970","v":"00:00:00"},{"$f":"Dados_2.11.2019!C970","v":0},0,0,0]
[{"$f":"Dados_2.11.2019!A971","v":"00:00:00"},{"$f":"Dados_2.11.2019!B971","v":"00:00:00"},{"$f":"Dados_2.11.2019!C971","v":0},0,0,0]
[{"$f":"Dados_2.11.2019!A972","v":"00:00:00"},{"$f":"Dados_2.11.2019!B972","v":"00:00:00"},{"$f":"Dados_2.11.2019!C972","v":0},0,0,0]
[{"$f":"Dados_2.11.2019!A973","v":"00:00:00"},{"$f":"Dados_2.11.2019!B973","v":"00:00:00"},{"$f":"Dados_2.11.2019!C973","v":0},0,0,0]
[{"$f":"Dados_2.11.2019!A974","v":"00:00:00"},{"$f":"Dados_2.11.2019!B974","v":"00:00:00"},{"$f":"Dados_2.11.2019!C974","v":0},0,0,0]
[{"$f":"Dados_2.11.2019!A975","v":"00:00:00"},{"$f":"Dados_2.11.2019!B975","v":"00:00:00"},{"$f":"Dados_2.11.2019!C975","v":0},0,0,0]
[{"$f":"Dados_2.11.2019!A976","v":"00:00:00"},{"$f":"Dados_2.11.2019!B976","v":"00:00:00"},{"$f":"Dados_2.11.2019!C976","v":0},0,0,0]
[{"$f":"Dados_2.11.2019!A977","v":"00:00:00"},{"$f":"Dados_2.11.2019!B977","v":"00:00:00"},{"$f":"Dados_2.11.2019!C977","v":0},0,0,0]
[{"$f":"Dados_2.11.2019!A978","v":"00:00:00"},{"$f":"Dados_2.11.2019!B978","v":"00:00:00"},{"$f":"Dados_2.11.2019!C978","v":0},0,0,0]
[{"$f":"Dados_2.11.2019!A979","v":"00:00:00"},{"$f":"Dados_2.11.2019!B979","v":"00:00:00"},{"$f":"Dados_2.11.2019!C979","v":0},0,0,0]
[{"$f":"Dados_2.11.2019!A980","v":"00:00:00"},{"$f":"Dados_2.11.2019!B980","v":"00:00:00"},{"$f":"Dados_2.11.2019!C980","v":0},0,0,0]
[{"$f":"Dados_2.11.2019!A981","v":"00:00:00"},{"$f":"Dados_2.11.2019!B981","v":"00:00:00"},{"$f":"Dados_2.11.2019!C981","v":0},0,0,0]
[{"$f":"Dados_2.11.2019!A982","v":"00:00:00"},{"$f":"Dados_2.11.2019!B982","v":"00:00:00"},{"$f":"Dados_2.11.2019!C982","v":0},0,0,0]
[{"$f":"Dados_2.11.2019!A983","v":"00:00:00"},{"$f":"Dados_2.11.2019!B983","v":"00:00:00"},{"$f":"Dados_2.11.2019!C983","v":0},0,0,0]
[{"$f":"Dados_2.11.2019!A984","v":"00:00:00"},{"$f":"Dados_2.11.2019!B984","v":"00:00:00"},{"$f":"Dados_2.11.2019!C984","v":0},0,0,0]
[{"$f":"Dados_2.11.2019!A985","v":"00:00:00"},{"$f":"Dados_2.11.2019!B985","v":"00:00:00"},{"$f":"Dados_2.11.2019!C985","v":0},0,0,0]
[{"$f":"Dados_2.11.2019!A986","v":"00:00:00"},{"$f":"Dados_2.11.2019!B986","v":"00:00:00"},{"$f":"Dados_2.11.2019!C986","v":0},0,0,0]
[{"$f":"Dados_2.11.2019!A987","v":"00:00:00"},{"$f":"Dados_2.11.2019!B987","v":"00:00:00"},{"$f":"Dados_2.11.2019!C987","v":0},0,0,0]
[{"$f":"Dados_2.11.2019!A988","v":"00:00:00"},{"$f":"Dados_2.11.2019!B988","v":"00:00:00"},{"$f":"Dados_2.11.2019!C988","v":0},0,0,0]
[{"$f":"Dados_2.11.2019!A989","v":"00:00:00"},{"$f":"Dados_2.11.2019!B989","v":"00:00:00"},{"$f":"Dados_2.11.2019!C989","v":0},0,0,0]
[{"$f":"Dados_2.11.2019!A990","v":"00:00:00"},{"$f":"Dados_2.11.2019!B990","v":"00:00:00"},{"$f":"Dados_2.11.2019!C990","v":0},0,0,0]
[{"$f":"Dados_2.11.2019!A991","v":"00:00:00"},{"$f":"Dados_2.11.2019!B991","v":"00:00:00"},{"$f":"Dados_2.11.2019!C991","v":0},0,0,0]
[{"$f":"Dados_2.11.2019!A992","v":"00:00:00"},{"$f":"Dados_2.11.2019!B992","v":"00:00:00"},{"$f":"Dados_2.11.2019!C992","v":0},{"$f":"IF((0.0005*(C992^2)+0.0058*(C992)-0.055)<0,0,IF((0.0005*(C992^2)+0.0058*(C992)-0.055)>1,1,(0.0005*(C992^2)+0.0058*(C992)-0.055)))","v":0},{"$f":"HOUR(B992)","v":0},{"$f":"MINUTE(B992)","v":0}]
[{"$f":"Dados_2.11.2019!A993","v":"00:00:00"},{"$f":"Dados_2.11.2019!B993","v":"00:00:00"},{"$f":"Dados_2.11.2019!C993","v":0},0,0,0]
[{"$f":"Dados_2.11.2019!A994","v":"00:00:00"},{"$f":"Dados_2.11.2019!B994","v":"00:00:00"},{"$f":"Dados_2.11.2019!C994","v":0},0,0,0]
[{"$f":"Dados_2.11.2019!A995","v":"00:00:00"},{"$f":"Dados_2.11.2019!B995","v":"00:00:00"},{"$f":"Dados_2.11.2019!C995","v":0},0,0,0]
[{"$f":"Dados_2.11.2019!A996","v":"00:00:00"},{"$f":"Dados_2.11.2019!B996","v":"00:00:00"},{"$f":"Dados_2.11.2019!C996","v":0},0,0,0]
[{"$f":"Dados_2.11.2019!A997","v":"00:00:00"},{"$f":"Dados_2.11.2019!B997","v":"00:00:00"},{"$f":"Dados_2.11.2019!C997","v":0},0,0,0]
[{"$f":"Dados_2.11.2019!A998","v":"00:00:00"},{"$f":"Dados_2.11.2019!B998","v":"00:00:00"},{"$f":"Dados_2.11.2019!C998","v":0},0,0,0]
[{"$f":"Dados_2.11.2019!A999","v":"00:00:00"},{"$f":"Dados_2.11.2019!B999","v":"00:00:00"},{"$f":"Dados_2.11.2019!C999","v":0},0,0,0]
[{"$f":"Dados_2.11.2019!A1000","v":"00:00:00"},{"$f":"Dados_2.11.2019!B1000","v":"00:00:00"},{"$f":"Dados_2.11.2019!C1000","v":0},0,0,0]
[{"$f":"Dados_2.11.2019!A1001","v":"00:00:00"},{"$f":"Dados_2.11.2019!B1001","v":"00:00:00"},{"$f":"Dados_2.11.2019!C1001","v":0},0,0,0]
[{"$f":"Dados_2.11.2019!A1002","v":"00:00:00"},{"$f":"Dados_2.11.2019!B1002","v":"00:00:00"},{"$f":"Dados_2.11.2019!C1002","v":0},0,0,0]
[{"$f":"Dados_2.11.2019!A1003","v":"00:00:00"},{"$f":"Dados_2.11.2019!B1003","v":"00:00:00"},{"$f":"Dados_2.11.2019!C1003","v":0},0,0,0]
[{"$f":"Dados_2.11.2019!A1004","v":"00:00:00"},{"$f":"Dados_2.11.2019!B1004","v":"00:00:00"},{"$f":"Dados_2.11.2019!C1004","v":0},0,0,0]
[{"$f":"Dados_2.11.2019!A1005","v":"00:00:00"},{"$f":"Dados_2.11.2019!B1005","v":"00:00:00"},{"$f":"Dados_2.11.2019!C1005","v":0},0,0,0]
[{"$f":"Dados_2.11.2019!A1006","v":"00:00:00"},{"$f":"Dados_2.11.2019!B1006","v":"00:00:00"},{"$f":"Dados_2.11.2019!C1006","v":0},0,0,0]
[{"$f":"Dados_2.11.2019!A1007","v":"00:00:00"},{"$f":"Dados_2.11.2019!B1007","v":"00:00:00"},{"$f":"Dados_2.11.2019!C1007","v":0},0,0,0]
[{"$f":"Dados_2.11.2019!A1008","v":"00:00:00"},{"$f":"Dados_2.11.2019!B1008","v":"00:00:00"},{"$f":"Dados_2.11.2019!C1008","v":0},0,0,0]
[{"$f":"Dados_2.11.2019!A1009","v":"00:00:00"},{"$f":"Dados_2.11.2019!B1009","v":"00:00:00"},{"$f":"Dados_2.11.2019!C1009","v":0},0,0,0]
[{"$f":"Dados_2.11.2019!A1010","v":"00:00:00"},{"$f":"Dados_2.11.2019!B1010","v":"00:00:00"},{"$f":"Dados_2.11.2019!C1010","v":0},0,0,0]
[{"$f":"Dados_2.11.2019!A1011","v":"00:00:00"},{"$f":"Dados_2.11.2019!B1011","v":"00:00:00"},{"$f":"Dados_2.11.2019!C1011","v":0},0,0,0]
[{"$f":"Dados_2.11.2019!A1012","v":"00:00:00"},{"$f":"Dados_2.11.2019!B1012","v":"00:00:00"},{"$f":"Dados_2.11.2019!C1012","v":0},0,0,0]
[{"$f":"Dados_2.11.2019!A1013","v":"00:00:00"},{"$f":"Dados_2.11.2019!B1013","v":"00:00:00"},{"$f":"Dados_2.11.2019!C1013","v":0},0,0,0]
[{"$f":"Dados_2.11.2019!A1014","v":"00:00:00"},{"$f":"Dados_2.11.2019!B1014","v":"00:00:00"},{"$f":"Dados_2.11.2019!C1014","v":0},0,0,0]
[{"$f":"Dados_2.11.2019!A1015","v":"00:00:00"},{"$f":"Dados_2.11.2019!B1015","v":"00:00:00"},{"$f":"Dados_2.11.2019!C1015","v":0},0,0,0]
[{"$f":"Dados_2.11.2019!A1016","v":"00:00:00"},{"$f":"Dados_2.11.2019!B1016","v":"00:00:00"},{"$f":"Dados_2.11.2019!C1016","v":0},0,0,0]
[{"$f":"Dados_2.11.2019!A1017","v":"00:00:00"},{"$f":"Dados_2.11.2019!B1017","v":"00:00:00"},{"$f":"Dados_2.11.2019!C1017","v":0},0,0,0]
[{"$f":"Dados_2.11.2019!A1018","v":"00:00:00"},{"$f":"Dados_2.11.2019!B1018","v":"00:00:00"},{"$f":"Dados_2.11.2019!C1018","v":0},0,0,0]
[{"$f":"Dados_2.11.2019!A1019","v":"00:00:00"},{"$f":"Dados_2.11.2019!B1019","v":"00:00:00"},{"$f":"Dados_2.11.2019!C1019","v":0},0,0,0]
[{"$f":"Dados_2.11.2019!A1020","v":"00:00:00"},{"$f":"Dados_2.11.2019!B1020","v":"00:00:00"},{"$f":"Dados_2.11.2019!C1020","v":0},0,0,0]
[{"$f":"Dados_2.11.2019!A1021","v":"00:00:00"},{"$f":"Dados_2.11.2019!B1021","v":"00:00:00"},{"$f":"Dados_2.11.2019!C1021","v":0},0,0,0]
[{"$f":"Dados_2.11.2019!A1022","v":"00:00:00"},{"$f":"Dados_2.11.2019!B1022","v":"00:00:00"},{"$f":"Dados_2.11.2019!C1022","v":0},0,0,0]
[{"$f":"Dados_2.11.2019!A1023","v":"00:00:00"},{"$f":"Dados_2.11.2019!B1023","v":"00:00:00"},{"$f":"Dados_2.11.2019!C1023","v":0},0,0,0]
[{"$f":"Dados_2.11.2019!A1024","v":"00:00:00"},{"$f":"Dados_2.11.2019!B1024","v":"00:00:00"},{"$f":"Dados_2.11.2019!C1024","v":0},0,0,0]
[{"$f":"Dados_2.11.2019!A1025","v":"00:00:00"},{"$f":"Dados_2.11.2019!B1025","v":"00:00:00"},{"$f":"Dados_2.11.2019!C1025","v":0},0,0,0]
[{"$f":"Dados_2.11.2019!A1026","v":"00:00:00"},{"$f":"Dados_2.11.2019!B1026","v":"00:00:00"},{"$f":"Dados_2.11.2019!C1026","v":0},0,0,0]
[{"$f":"Dados_2.11.2019!A1027","v":"00:00:00"},{"$f":"Dados_2.11.2019!B1027","v":"00:00:00"},{"$f":"Dados_2.11.2019!C1027","v":0},0,0,0]
[{"$f":"Dados_2.11.2019!A1028","v":"00:00:00"},{"$f":"Dados_2.11.2019!B1028","v":"00:00:00"},{"$f":"Dados_2.11.2019!C1028","v":0},0,0,0]
[{"$f":"Dados_2.11.2019!A1029","v":"00:00:00"},{"$f":"Dados_2.11.2019!B1029","v":"00:00:00"},{"$f":"Dados_2.11.2019!C1029","v":0},0,0,0]
[{"$f":"Dados_2.11.2019!A1030","v":"00:00:00"},{"$f":"Dados_2.11.2019!B1030","v":"00:00:00"},{"$f":"Dados_2.11.2019!C1030","v":0},0,0,0]
[{"$f":"Dados_2.11.2019!A1031","v":"00:00:00"},{"$f":"Dados_2.11.2019!B1031","v":"00:00:00"},{"$f":"Dados_2.11.2019!C1031","v":0},0,0,0]
[{"$f":"Dados_2.11.2019!A1032","v":"00:00:00"},{"$f":"Dados_2.11.2019!B1032","v":"00:00:00"},{"$f":"Dados_2.11.2019!C1032","v":0},0,0,0]
[{"$f":"Dados_2.11.2019!A1033","v":"00:00:00"},{"$f":"Dados_2.11.2019!B1033","v":"00:00:00"},{"$f":"Dados_2.11.2019!C1033","v":0},0,0,0]
[{"$f":"Dados_2.11.2019!A1034","v":"00:00:00"},{"$f":"Dados_2.11.2019!B1034","v":"00:00:00"},{"$f":"Dados_2.11.2019!C1034","v":0},0,0,0]
[{"$f":"Dados_2.11.2019!A1035","v":"00:00:00"},{"$f":"Dados_2.11.2019!B1035","v":"00:00:00"},{"$f":"Dados_2.11.2019!C1035","v":0},0,0,0]
[{"$f":"Dados_2.11.2019!A1036","v":"00:00:00"},{"$f":"Dados_2.11.2019!B1036","v":"00:00:00"},{"$f":"Dados_2.11.2019!C1036","v":0},0,0,0]
[{"$f":"Dados_2.11.2019!A1037","v":"00:00:00"},{"$f":"Dados_2.11.2019!B1037","v":"00:00:00"},{"$f":"Dados_2.11.2019!C1037","v":0},0,0,0]
[{"$f":"Dados_2.11.2019!A1038","v":"00:00:00"},{"$f":"Dados_2.11.2019!B1038","v":"00:00:00"},{"$f":"Dados_2.11.2019!C1038","v":0},0,0,0]
[{"$f":"Dados_2.11.2019!A1039","v":"00:00:00"},{"$f":"Dados_2.11.2019!B1039","v":"00:00:00"},{"$f":"Dados_2.11.2019!C1039","v":0},0,0,0]
[{"$f":"Dados_2.11.2019!A1040","v":"00:00:00"},{"$f":"Dados_2.11.2019!B1040","v":"00:00:00"},{"$f":"Dados_2.11.2019!C1040","v":0},0,0,0]
[{"$f":"Dados_2.11.2019!A1041","v":"00:00:00"},{"$f":"Dados_2.11.2019!B1041","v":"00:00:00"},{"$f":"Dados_2.11.2019!C1041","v":0},0,0,0]
[{"$f":"Dados_2.11.2019!A1042","v":"00:00:00"},{"$f":"Dados_2.11.2019!B1042","v":"00:00:00"},{"$f":"Dados_2.11.2019!C1042","v":0},0,0,0]
[{"$f":"Dados_2.11.2019!A1043","v":"00:00:00"},{"$f":"Dados_2.11.2019!B1043","v":"00:00:00"},{"$f":"Dados_2.11.2019!C1043","v":0},0,0,0]
[{"$f":"Dados_2.11.2019!A1044","v":"00:00:00"},{"$f":"Dados_2.11.2019!B1044","v":"00:00:00"},{"$f":"Dados_2.11.2019!C1044","v":0},0,0,0]
[{"$f":"Dados_2.11.2019!A1045","v":"00:00:00"},{"$f":"Dados_2.11.2019!B1045","v":"00:00:00"},{"$f":"Dados_2.11.2019!C1045","v":0},0,0,0]
[{"$f":"Dados_2.11.2019!A1046","v":"00:00:00"},{"$f":"Dados_2.11.2019!B1046","v":"00:00:00"},{"$f":"Dados_2.11.2019!C1046","v":0},0,0,0]
[{"$f":"Dados_2.11.2019!A1047","v":"00:00:00"},{"$f":"Dados_2.11.2019!B1047","v":"00:00:00"},{"$f":"Dados_2.11.2019!C1047","v":0},0,0,0]
[{"$f":"Dados_2.11.2019!A1048","v":"00:00:00"},{"$f":"Dados_2.11.2019!B1048","v":"00:00:00"},{"$f":"Dados_2.11.2019!C1048","v":0},0,0,0]
[{"$f":"Dados_2.11.2019!A1049","v":"00:00:00"},{"$f":"Dados_2.11.2019!B1049","v":"00:00:00"},{"$f":"Dados_2.11.2019!C1049","v":0},0,0,0]
[{"$f":"Dados_2.11.2019!A1050","v":"00:00:00"},{"$f":"Dados_2.11.2019!B1050","v":"00:00:00"},{"$f":"Dados_2.11.2019!C1050","v":0},0,0,0]
[{"$f":"Dados_2.11.2019!A1051","v":"00:00:00"},{"$f":"Dados_2.11.2019!B1051","v":"00:00:00"},{"$f":"Dados_2.11.2019!C1051","v":0},0,0,0]
[{"$f":"Dados_2.11.2019!A1052","v":"00:00:00"},{"$f":"Dados_2.11.2019!B1052","v":"00:00:00"},{"$f":"Dados_2.11.2019!C1052","v":0},0,0,0]
[{"$f":"Dados_2.11.2019!A1053","v":"00:00:00"},{"$f":"Dados_2.11.2019!B1053","v":"00:00:00"},{"$f":"Dados_2.11.2019!C1053","v":0},0,0,0]
[{"$f":"Dados_2.11.2019!A1054","v":"00:00:00"},{"$f":"Dados_2.11.2019!B1054","v":"00:00:00"},{"$f":"Dados_2.11.2019!C1054","v":0},0,0,0]
[{"$f":"Dados_2.11.2019!A1055","v":"00:00:00"},{"$f":"Dados_2.11.2019!B1055","v":"00:00:00"},{"$f":"Dados_2.11.2019!C1055","v":0},0,0,0]
[{"$f":"Dados_2.11.2019!A1056","v":"00:00:00"},{"$f":"Dados_2.11.2019!B1056","v":"00:00:00"},{"$f":"Dados_2.11.2019!C1056","v":0},{"$f":"IF((0.0005*(C1056^2)+0.0058*(C1056)-0.055)<0,0,IF((0.0005*(C1056^2)+0.0058*(C1056)-0.055)>1,1,(0.0005*(C1056^2)+0.0058*(C1056)-0.055)))","v":0},{"$f":"HOUR(B1056)","v":0},{"$f":"MINUTE(B1056)","v":0}]
[{"$f":"Dados_2.11.2019!A1057","v":"00:00:00"},{"$f":"Dados_2.11.2019!B1057","v":"00:00:00"},{"$f":"Dados_2.11.2019!C1057","v":0},0,0,0]
[{"$f":"Dados_2.11.2019!A1058","v":"00:00:00"},{"$f":"Dados_2.11.2019!B1058","v":"00:00:00"},{"$f":"Dados_2.11.2019!C1058","v":0},0,0,0]
[{"$f":"Dados_2.11.2019!A1059","v":"00:00:00"},{"$f":"Dados_2.11.2019!B1059","v":"00:00:00"},{"$f":"Dados_2.11.2019!C1059","v":0},0,0,0]
[{"$f":"Dados_2.11.2019!A1060","v":"00:00:00"},{"$f":"Dados_2.11.2019!B1060","v":"00:00:00"},{"$f":"Dados_2.11.2019!C1060","v":0},0,0,0]
[{"$f":"Dados_2.11.2019!A1061","v":"00:00:00"},{"$f":"Dados_2.11.2019!B1061","v":"00:00:00"},{"$f":"Dados_2.11.2019!C1061","v":0},0,0,0]
[{"$f":"Dados_2.11.2019!A1062","v":"00:00:00"},{"$f":"Dados_2.11.2019!B1062","v":"00:00:00"},{"$f":"Dados_2.11.2019!C1062","v":0},0,0,0]
[{"$f":"Dados_2.11.2019!A1063","v":"00:00:00"},{"$f":"Dados_2.11.2019!B1063","v":"00:00:00"},{"$f":"Dados_2.11.2019!C1063","v":0},0,0,0]
[{"$f":"Dados_2.11.2019!A1064","v":"00:00:00"},{"$f":"Dados_2.11.2019!B1064","v":"00:00:00"},{"$f":"Dados_2.11.2019!C1064","v":0},0,0,0]
[{"$f":"Dados_2.11.2019!A1065","v":"00:00:00"},{"$f":"Dados_2.11.2019!B1065","v":"00:00:00"},{"$f":"Dados_2.11.2019!C1065","v":0},0,0,0]
[{"$f":"Dados_2.11.2019!A1066","v":"00:00:00"},{"$f":"Dados_2.11.2019!B1066","v":"00:00:00"},{"$f":"Dados_2.11.2019!C1066","v":0},0,0,0]
[{"$f":"Dados_2.11.2019!A1067","v":"00:00:00"},{"$f":"Dados_2.11.2019!B1067","v":"00:00:00"},{"$f":"Dados_2.11.2019!C1067","v":0},0,0,0]
[{"$f":"Dados_2.11.2019!A1068","v":"00:00:00"},{"$f":"Dados_2.11.2019!B1068","v":"00:00:00"},{"$f":"Dados_2.11.2019!C1068","v":0},0,0,0]
[{"$f":"Dados_2.11.2019!A1069","v":"00:00:00"},{"$f":"Dados_2.11.2019!B1069","v":"00:00:00"},{"$f":"Dados_2.11.2019!C1069","v":0},0,0,0]
[{"$f":"Dados_2.11.2019!A1070","v":"00:00:00"},{"$f":"Dados_2.11.2019!B1070","v":"00:00:00"},{"$f":"Dados_2.11.2019!C1070","v":0},0,0,0]
[{"$f":"Dados_2.11.2019!A1071","v":"00:00:00"},{"$f":"Dados_2.11.2019!B1071","v":"00:00:00"},{"$f":"Dados_2.11.2019!C1071","v":0},0,0,0]
[{"$f":"Dados_2.11.2019!A1072","v":"00:00:00"},{"$f":"Dados_2.11.2019!B1072","v":"00:00:00"},{"$f":"Dados_2.11.2019!C1072","v":0},0,0,0]
[{"$f":"Dados_2.11.2019!A1073","v":"00:00:00"},{"$f":"Dados_2.11.2019!B1073","v":"00:00:00"},{"$f":"Dados_2.11.2019!C1073","v":0},0,0,0]
[{"$f":"Dados_2.11.2019!A1074","v":"00:00:00"},{"$f":"Dados_2.11.2019!B1074","v":"00:00:00"},{"$f":"Dados_2.11.2019!C1074","v":0},0,0,0]
[{"$f":"Dados_2.11.2019!A1075","v":"00:00:00"},{"$f":"Dados_2.11.2019!B1075","v":"00:00:00"},{"$f":"Dados_2.11.2019!C1075","v":0},0,0,0]
[{"$f":"Dados_2.11.2019!A1076","v":"00:00:00"},{"$f":"Dados_2.11.2019!B1076","v":"00:00:00"},{"$f":"Dados_2.11.2019!C1076","v":0},0,0,0]
[{"$f":"Dados_2.11.2019!A1077","v":"00:00:00"},{"$f":"Dados_2.11.2019!B1077","v":"00:00:00"},{"$f":"Dados_2.11.2019!C1077","v":0},0,0,0]
[{"$f":"Dados_2.11.2019!A1078","v":"00:00:00"},{"$f":"Dados_2.11.2019!B1078","v":"00:00:00"},{"$f":"Dados_2.11.2019!C1078","v":0},0,0,0]
[{"$f":"Dados_2.11.2019!A1079","v":"00:00:00"},{"$f":"Dados_2.11.2019!B1079","v":"00:00:00"},{"$f":"Dados_2.11.2019!C1079","v":0},0,0,0]
[{"$f":"Dados_2.11.2019!A1080","v":"00:00:00"},{"$f":"Dados_2.11.2019!B1080","v":"00:00:00"},{"$f":"Dados_2.11.2019!C1080","v":0},0,0,0]
[{"$f":"Dados_2.11.2019!A1081","v":"00:00:00"},{"$f":"Dados_2.11.2019!B1081","v":"00:00:00"},{"$f":"Dados_2.11.2019!C1081","v":0},0,0,0]
[{"$f":"Dados_2.11.2019!A1082","v":"00:00:00"},{"$f":"Dados_2.11.2019!B1082","v":"00:00:00"},{"$f":"Dados_2.11.2019!C1082","v":0},0,0,0]
[{"$f":"Dados_2.11.2019!A1083","v":"00:00:00"},{"$f":"Dados_2.11.2019!B1083","v":"00:00:00"},{"$f":"Dados_2.11.2019!C1083","v":0},0,0,0]
[{"$f":"Dados_2.11.2019!A1084","v":"00:00:00"},{"$f":"Dados_2.11.2019!B1084","v":"00:00:00"},{"$f":"Dados_2.11.2019!C1084","v":0},0,0,0]
[{"$f":"Dados_2.11.2019!A1085","v":"00:00:00"},{"$f":"Dados_2.11.2019!B1085","v":"00:00:00"},{"$f":"Dados_2.11.2019!C1085","v":0},0,0,0]
[{"$f":"Dados_2.11.2019!A1086","v":"00:00:00"},{"$f":"Dados_2.11.2019!B1086","v":"00:00:00"},{"$f":"Dados_2.11.2019!C1086","v":0},0,0,0]
[{"$f":"Dados_2.11.2019!A1087","v":"00:00:00"},{"$f":"Dados_2.11.2019!B1087","v":"00:00:00"},{"$f":"Dados_2.11.2019!C1087","v":0},0,0,0]
[{"$f":"Dados_2.11.2019!A1088","v":"00:00:00"},{"$f":"Dados_2.11.2019!B1088","v":"00:00:00"},{"$f":"Dados_2.11.2019!C1088","v":0},0,0,0]
[{"$f":"Dados_2.11.2019!A1089","v":"00:00:00"},{"$f":"Dados_2.11.2019!B1089","v":"00:00:00"},{"$f":"Dados_2.11.2019!C1089","v":0},0,0,0]
[{"$f":"Dados_2.11.2019!A1090","v":"00:00:00"},{"$f":"Dados_2.11.2019!B1090","v":"00:00:00"},{"$f":"Dados_2.11.2019!C1090","v":0},0,0,0]
[{"$f":"Dados_2.11.2019!A1091","v":"00:00:00"},{"$f":"Dados_2.11.2019!B1091","v":"00:00:00"},{"$f":"Dados_2.11.2019!C1091","v":0},0,0,0]
[{"$f":"Dados_2.11.2019!A1092","v":"00:00:00"},{"$f":"Dados_2.11.2019!B1092","v":"00:00:00"},{"$f":"Dados_2.11.2019!C1092","v":0},0,0,0]
[{"$f":"Dados_2.11.2019!A1093","v":"00:00:00"},{"$f":"Dados_2.11.2019!B1093","v":"00:00:00"},{"$f":"Dados_2.11.2019!C1093","v":0},0,0,0]
[{"$f":"Dados_2.11.2019!A1094","v":"00:00:00"},{"$f":"Dados_2.11.2019!B1094","v":"00:00:00"},{"$f":"Dados_2.11.2019!C1094","v":0},0,0,0]
[{"$f":"Dados_2.11.2019!A1095","v":"00:00:00"},{"$f":"Dados_2.11.2019!B1095","v":"00:00:00"},{"$f":"Dados_2.11.2019!C1095","v":0},0,0,0]
[{"$f":"Dados_2.11.2019!A1096","v":"00:00:00"},{"$f":"Dados_2.11.2019!B1096","v":"00:00:00"},{"$f":"Dados_2.11.2019!C1096","v":0},0,0,0]
[{"$f":"Dados_2.11.2019!A1097","v":"00:00:00"},{"$f":"Dados_2.11.2019!B1097","v":"00:00:00"},{"$f":"Dados_2.11.2019!C1097","v":0},0,0,0]
[{"$f":"Dados_2.11.2019!A1098","v":"00:00:00"},{"$f":"Dados_2.11.2019!B1098","v":"00:00:00"},{"$f":"Dados_2.11.2019!C1098","v":0},0,0,0]
[{"$f":"Dados_2.11.2019!A1099","v":"00:00:00"},{"$f":"Dados_2.11.2019!B1099","v":"00:00:00"},{"$f":"Dados_2.11.2019!C1099","v":0},0,0,0]
[{"$f":"Dados_2.11.2019!A1100","v":"00:00:00"},{"$f":"Dados_2.11.2019!B1100","v":"00:00:00"},{"$f":"Dados_2.11.2019!C1100","v":0},0,0,0]
[{"$f":"Dados_2.11.2019!A1101","v":"00:00:00"},{"$f":"Dados_2.11.2019!B1101","v":"00:00:00"},{"$f":"Dados_2.11.2019!C1101","v":0},0,0,0]
[{"$f":"Dados_2.11.2019!A1102","v":"00:00:00"},{"$f":"Dados_2.11.2019!B1102","v":"00:00:00"},{"$f":"Dados_2.11.2019!C1102","v":0},0,0,0]
[{"$f":"Dados_2.11.2019!A1103","v":"00:00:00"},{"$f":"Dados_2.11.2019!B1103","v":"00:00:00"},{"$f":"Dados_2.11.2019!C1103","v":0},0,0,0]
[{"$f":"Dados_2.11.2019!A1104","v":"00:00:00"},{"$f":"Dados_2.11.2019!B1104","v":"00:00:00"},{"$f":"Dados_2.11.2019!C1104","v":0},0,0,0]
[{"$f":"Dados_2.11.2019!A1105","v":"00:00:00"},{"$f":"Dados_2.11.2019!B1105","v":"00:00:00"},{"$f":"Dados_2.11.2019!C1105","v":0},0,0,0]
[{"$f":"Dados_2.11.2019!A1106","v":"00:00:00"},{"$f":"Dados_2.11.2019!B1106","v":"00:00:00"},{"$f":"Dados_2.11.2019!C1106","v":0},0,0,0]
[{"$f":"Dados_2.11.2019!A1107","v":"00:00:00"},{"$f":"Dados_2.11.2019!B1107","v":"00:00:00"},{"$f":"Dados_2.11.2019!C1107","v":0},0,0,0]
[{"$f":"Dados_2.11.2019!A1108","v":"00:00:00"},{"$f":"Dados_2.11.2019!B1108","v":"00:00:00"},{"$f":"Dados_2.11.2019!C1108","v":0},0,0,0]
[{"$f":"Dados_2.11.2019!A1109","v":"00:00:00"},{"$f":"Dados_2.11.2019!B1109","v":"00:00:00"},{"$f":"Dados_2.11.2019!C1109","v":0},0,0,0]
[{"$f":"Dados_2.11.2019!A1110","v":"00:00:00"},{"$f":"Dados_2.11.2019!B1110","v":"00:00:00"},{"$f":"Dados_2.11.2019!C1110","v":0},0,0,0]
[{"$f":"Dados_2.11.2019!A1111","v":"00:00:00"},{"$f":"Dados_2.11.2019!B1111","v":"00:00:00"},{"$f":"Dados_2.11.2019!C1111","v":0},0,0,0]
[{"$f":"Dados_2.11.2019!A1112","v":"00:00:00"},{"$f":"Dados_2.11.2019!B1112","v":"00:00:00"},{"$f":"Dados_2.11.2019!C1112","v":0},0,0,0]
[{"$f":"Dados_2.11.2019!A1113","v":"00:00:00"},{"$f":"Dados_2.11.2019!B1113","v":"00:00:00"},{"$f":"Dados_2.11.2019!C1113","v":0},0,0,0]
[{"$f":"Dados_2.11.2019!A1114","v":"00:00:00"},{"$f":"Dados_2.11.2019!B1114","v":"00:00:00"},{"$f":"Dados_2.11.2019!C1114","v":0},0,0,0]
[{"$f":"Dados_2.11.2019!A1115","v":"00:00:00"},{"$f":"Dados_2.11.2019!B1115","v":"00:00:00"},{"$f":"Dados_2.11.2019!C1115","v":0},0,0,0]
[{"$f":"Dados_2.11.2019!A1116","v":"00:00:00"},{"$f":"Dados_2.11.2019!B1116","v":"00:00:00"},{"$f":"Dados_2.11.2019!C1116","v":0},0,0,0]
[{"$f":"Dados_2.11.2019!A1117","v":"00:00:00"},{"$f":"Dados_2.11.2019!B1117","v":"00:00:00"},{"$f":"Dados_2.11.2019!C1117","v":0},0,0,0]
[{"$f":"Dados_2.11.2019!A1118","v":"00:00:00"},{"$f":"Dados_2.11.2019!B1118","v":"00:00:00"},{"$f":"Dados_2.11.2019!C1118","v":0},0,0,0]
[{"$f":"Dados_2.11.2019!A1119","v":"00:00:00"},{"$f":"Dados_2.11.2019!B1119","v":"00:00:00"},{"$f":"Dados_2.11.2019!C1119","v":0},0,0,0]
[{"$f":"Dados_2.11.2019!A1120","v":"00:00:00"},{"$f":"Dados_2.11.2019!B1120","v":"00:00:00"},{"$f":"Dados_2.11.2019!C1120","v":0},{"$f":"IF((0.0005*(C1120^2)+0.0058*(C1120)-0.055)<0,0,IF((0.0005*(C1120^2)+0.0058*(C1120)-0.055)>1,1,(0.0005*(C1120^2)+0.0058*(C1120)-0.055)))","v":0},{"$f":"HOUR(B1120)","v":0},{"$f":"MINUTE(B1120)","v":0}]
[{"$f":"Dados_2.11.2019!A1121","v":"00:00:00"},{"$f":"Dados_2.11.2019!B1121","v":"00:00:00"},{"$f":"Dados_2.11.2019!C1121","v":0},0,0,0]
[{"$f":"Dados_2.11.2019!A1122","v":"00:00:00"},{"$f":"Dados_2.11.2019!B1122","v":"00:00:00"},{"$f":"Dados_2.11.2019!C1122","v":0},0,0,0]
[{"$f":"Dados_2.11.2019!A1123","v":"00:00:00"},{"$f":"Dados_2.11.2019!B1123","v":"00:00:00"},{"$f":"Dados_2.11.2019!C1123","v":0},0,0,0]
[{"$f":"Dados_2.11.2019!A1124","v":"00:00:00"},{"$f":"Dados_2.11.2019!B1124","v":"00:00:00"},{"$f":"Dados_2.11.2019!C1124","v":0},0,0,0]
[{"$f":"Dados_2.11.2019!A1125","v":"00:00:00"},{"$f":"Dados_2.11.2019!B1125","v":"00:00:00"},{"$f":"Dados_2.11.2019!C1125","v":0},0,0,0]
[{"$f":"Dados_2.11.2019!A1126","v":"00:00:00"},{"$f":"Dados_2.11.2019!B1126","v":"00:00:00"},{"$f":"Dados_2.11.2019!C1126","v":0},0,0,0]
[{"$f":"Dados_2.11.2019!A1127","v":"00:00:00"},{"$f":"Dados_2.11.2019!B1127","v":"00:00:00"},{"$f":"Dados_2.11.2019!C1127","v":0},0,0,0]
[{"$f":"Dados_2.11.2019!A1128","v":"00:00:00"},{"$f":"Dados_2.11.2019!B1128","v":"00:00:00"},{"$f":"Dados_2.11.2019!C1128","v":0},0,0,0]
[{"$f":"Dados_2.11.2019!A1129","v":"00:00:00"},{"$f":"Dados_2.11.2019!B1129","v":"00:00:00"},{"$f":"Dados_2.11.2019!C1129","v":0},0,0,0]
[{"$f":"Dados_2.11.2019!A1130","v":"00:00:00"},{"$f":"Dados_2.11.2019!B1130","v":"00:00:00"},{"$f":"Dados_2.11.2019!C1130","v":0},0,0,0]
[{"$f":"Dados_2.11.2019!A1131","v":"00:00:00"},{"$f":"Dados_2.11.2019!B1131","v":"00:00:00"},{"$f":"Dados_2.11.2019!C1131","v":0},0,0,0]
[{"$f":"Dados_2.11.2019!A1132","v":"00:00:00"},{"$f":"Dados_2.11.2019!B1132","v":"00:00:00"},{"$f":"Dados_2.11.2019!C1132","v":0},0,0,0]
[{"$f":"Dados_2.11.2019!A1133","v":"00:00:00"},{"$f":"Dados_2.11.2019!B1133","v":"00:00:00"},{"$f":"Dados_2.11.2019!C1133","v":0},0,0,0]
[{"$f":"Dados_2.11.2019!A1134","v":"00:00:00"},{"$f":"Dados_2.11.2019!B1134","v":"00:00:00"},{"$f":"Dados_2.11.2019!C1134","v":0},0,0,0]
[{"$f":"Dados_2.11.2019!A1135","v":"00:00:00"},{"$f":"Dados_2.11.2019!B1135","v":"00:00:00"},{"$f":"Dados_2.11.2019!C1135","v":0},0,0,0]
[{"$f":"Dados_2.11.2019!A1136","v":"00:00:00"},{"$f":"Dados_2.11.2019!B1136","v":"00:00:00"},{"$f":"Dados_2.11.2019!C1136","v":0},0,0,0]
[{"$f":"Dados_2.11.2019!A1137","v":"00:00:00"},{"$f":"Dados_2.11.2019!B1137","v":"00:00:00"},{"$f":"Dados_2.11.2019!C1137","v":0},0,0,0]
[{"$f":"Dados_2.11.2019!A1138","v":"00:00:00"},{"$f":"Dados_2.11.2019!B1138","v":"00:00:00"},{"$f":"Dados_2.11.2019!C1138","v":0},0,0,0]
[{"$f":"Dados_2.11.2019!A1139","v":"00:00:00"},{"$f":"Dados_2.11.2019!B1139","v":"00:00:00"},{"$f":"Dados_2.11.2019!C1139","v":0},0,0,0]
[{"$f":"Dados_2.11.2019!A1140","v":"00:00:00"},{"$f":"Dados_2.11.2019!B1140","v":"00:00:00"},{"$f":"Dados_2.11.2019!C1140","v":0},0,0,0]
[{"$f":"Dados_2.11.2019!A1141","v":"00:00:00"},{"$f":"Dados_2.11.2019!B1141","v":"00:00:00"},{"$f":"Dados_2.11.2019!C1141","v":0},0,0,0]
[{"$f":"Dados_2.11.2019!A1142","v":"00:00:00"},{"$f":"Dados_2.11.2019!B1142","v":"00:00:00"},{"$f":"Dados_2.11.2019!C1142","v":0},0,0,0]
[{"$f":"Dados_2.11.2019!A1143","v":"00:00:00"},{"$f":"Dados_2.11.2019!B1143","v":"00:00:00"},{"$f":"Dados_2.11.2019!C1143","v":0},0,0,0]
[{"$f":"Dados_2.11.2019!A1144","v":"00:00:00"},{"$f":"Dados_2.11.2019!B1144","v":"00:00:00"},{"$f":"Dados_2.11.2019!C1144","v":0},0,0,0]
[{"$f":"Dados_2.11.2019!A1145","v":"00:00:00"},{"$f":"Dados_2.11.2019!B1145","v":"00:00:00"},{"$f":"Dados_2.11.2019!C1145","v":0},0,0,0]
[{"$f":"Dados_2.11.2019!A1146","v":"00:00:00"},{"$f":"Dados_2.11.2019!B1146","v":"00:00:00"},{"$f":"Dados_2.11.2019!C1146","v":0},0,0,0]
[{"$f":"Dados_2.11.2019!A1147","v":"00:00:00"},{"$f":"Dados_2.11.2019!B1147","v":"00:00:00"},{"$f":"Dados_2.11.2019!C1147","v":0},0,0,0]
[{"$f":"Dados_2.11.2019!A1148","v":"00:00:00"},{"$f":"Dados_2.11.2019!B1148","v":"00:00:00"},{"$f":"Dados_2.11.2019!C1148","v":0},0,0,0]
[{"$f":"Dados_2.11.2019!A1149","v":"00:00:00"},{"$f":"Dados_2.11.2019!B1149","v":"00:00:00"},{"$f":"Dados_2.11.2019!C1149","v":0},0,0,0]
[{"$f":"Dados_2.11.2019!A1150","v":"00:00:00"},{"$f":"Dados_2.11.2019!B1150","v":"00:00:00"},{"$f":"Dados_2.11.2019!C1150","v":0},0,0,0]
[{"$f":"Dados_2.11.2019!A1151","v":"00:00:00"},{"$f":"Dados_2.11.2019!B1151","v":"00:00:00"},{"$f":"Dados_2.11.2019!C1151","v":0},0,0,0]
[{"$f":"Dados_2.11.2019!A1152","v":"00:00:00"},{"$f":"Dados_2.11.2019!B1152","v":"00:00:00"},{"$f":"Dados_2.11.2019!C1152","v":0},0,0,0]
[{"$f":"Dados_2.11.2019!A1153","v":"00:00:00"},{"$f":"Dados_2.11.2019!B1153","v":"00:00:00"},{"$f":"Dados_2.11.2019!C1153","v":0},0,0,0]
[{"$f":"Dados_2.11.2019!A1154","v":"00:00:00"},{"$f":"Dados_2.11.2019!B1154","v":"00:00:00"},{"$f":"Dados_2.11.2019!C1154","v":0},0,0,0]
[{"$f":"Dados_2.11.2019!A1155","v":"00:00:00"},{"$f":"Dados_2.11.2019!B1155","v":"00:00:00"},{"$f":"Dados_2.11.2019!C1155","v":0},0,0,0]
[{"$f":"Dados_2.11.2019!A1156","v":"00:00:00"},{"$f":"Dados_2.11.2019!B1156","v":"00:00:00"},{"$f":"Dados_2.11.2019!C1156","v":0},0,0,0]
[{"$f":"Dados_2.11.2019!A1157","v":"00:00:00"},{"$f":"Dados_2.11.2019!B1157","v":"00:00:00"},{"$f":"Dados_2.11.2019!C1157","v":0},0,0,0]
[{"$f":"Dados_2.11.2019!A1158","v":"00:00:00"},{"$f":"Dados_2.11.2019!B1158","v":"00:00:00"},{"$f":"Dados_2.11.2019!C1158","v":0},0,0,0]
[{"$f":"Dados_2.11.2019!A1159","v":"00:00:00"},{"$f":"Dados_2.11.2019!B1159","v":"00:00:00"},{"$f":"Dados_2.11.2019!C1159","v":0},0,0,0]
[{"$f":"Dados_2.11.2019!A1160","v":"00:00:00"},{"$f":"Dados_2.11.2019!B1160","v":"00:00:00"},{"$f":"Dados_2.11.2019!C1160","v":0},0,0,0]
[{"$f":"Dados_2.11.2019!A1161","v":"00:00:00"},{"$f":"Dados_2.11.2019!B1161","v":"00:00:00"},{"$f":"Dados_2.11.2019!C1161","v":0},0,0,0]
[{"$f":"Dados_2.11.2019!A1162","v":"00:00:00"},{"$f":"Dados_2.11.2019!B1162","v":"00:00:00"},{"$f":"Dados_2.11.2019!C1162","v":0},0,0,0]
[{"$f":"Dados_2.11.2019!A1163","v":"00:00:00"},{"$f":"Dados_2.11.2019!B1163","v":"00:00:00"},{"$f":"Dados_2.11.2019!C1163","v":0},0,0,0]
[{"$f":"Dados_2.11.2019!A1164","v":"00:00:00"},{"$f":"Dados_2.11.2019!B1164","v":"00:00:00"},{"$f":"Dados_2.11.2019!C1164","v":0},0,0,0]
[{"$f":"Dados_2.11.2019!A1165","v":"00:00:00"},{"$f":"Dados_2.11.2019!B1165","v":"00:00:00"},{"$f":"Dados_2.11.2019!C1165","v":0},0,0,0]
[{"$f":"Dados_2.11.2019!A1166","v":"00:00:00"},{"$f":"Dados_2.11.2019!B1166","v":"00:00:00"},{"$f":"Dados_2.11.2019!C1166","v":0},0,0,0]
[{"$f":"Dados_2.11.2019!A1167","v":"00:00:00"},{"$f":"Dados_2.11.2019!B1167","v":"00:00:00"},{"$f":"Dados_2.11.2019!C1167","v":0},0,0,0]
[{"$f":"Dados_2.11.2019!A1168","v":"00:00:00"},{"$f":"Dados_2.11.2019!B1168","v":"00:00:00"},{"$f":"Dados_2.11.2019!C1168","v":0},0,0,0]
[{"$f":"Dados_2.11.2019!A1169","v":"00:00:00"},{"$f":"Dados_2.11.2019!B1169","v":"00:00:00"},{"$f":"Dados_2.11.2019!C1169","v":0},0,0,0]
[{"$f":"Dados_2.11.2019!A1170","v":"00:00:00"},{"$f":"Dados_2.11.2019!B1170","v":"00:00:00"},{"$f":"Dados_2.11.2019!C1170","v":0},0,0,0]
[{"$f":"Dados_2.11.2019!A1171","v":"00:00:00"},{"$f":"Dados_2.11.2019!B1171","v":"00:00:00"},{"$f":"Dados_2.11.2019!C1171","v":0},0,0,0]
[{"$f":"Dados_2.11.2019!A1172","v":"00:00:00"},{"$f":"Dados_2.11.2019!B1172","v":"00:00:00"},{"$f":"Dados_2.11.2019!C1172","v":0},0,0,0]
[{"$f":"Dados_2.11.2019!A1173","v":"00:00:00"},{"$f":"Dados_2.11.2019!B1173","v":"00:00:00"},{"$f":"Dados_2.11.2019!C1173","v":0},0,0,0]
[{"$f":"Dados_2.11.2019!A1174","v":"00:00:00"},{"$f":"Dados_2.11.2019!B1174","v":"00:00:00"},{"$f":"Dados_2.11.2019!C1174","v":0},0,0,0]
[{"$f":"Dados_2.11.2019!A1175","v":"00:00:00"},{"$f":"Dados_2.11.2019!B1175","v":"00:00:00"},{"$f":"Dados_2.11.2019!C1175","v":0},0,0,0]
[{"$f":"Dados_2.11.2019!A1176","v":"00:00:00"},{"$f":"Dados_2.11.2019!B1176","v":"00:00:00"},{"$f":"Dados_2.11.2019!C1176","v":0},0,0,0]
[{"$f":"Dados_2.11.2019!A1177","v":"00:00:00"},{"$f":"Dados_2.11.2019!B1177","v":"00:00:00"},{"$f":"Dados_2.11.2019!C1177","v":0},0,0,0]
[{"$f":"Dados_2.11.2019!A1178","v":"00:00:00"},{"$f":"Dados_2.11.2019!B1178","v":"00:00:00"},{"$f":"Dados_2.11.2019!C1178","v":0},0,0,0]
[{"$f":"Dados_2.11.2019!A1179","v":"00:00:00"},{"$f":"Dados_2.11.2019!B1179","v":"00:00:00"},{"$f":"Dados_2.11.2019!C1179","v":0},0,0,0]
[{"$f":"Dados_2.11.2019!A1180","v":"00:00:00"},{"$f":"Dados_2.11.2019!B1180","v":"00:00:00"},{"$f":"Dados_2.11.2019!C1180","v":0},0,0,0]
[{"$f":"Dados_2.11.2019!A1181","v":"00:00:00"},{"$f":"Dados_2.11.2019!B1181","v":"00:00:00"},{"$f":"Dados_2.11.2019!C1181","v":0},0,0,0]
[{"$f":"Dados_2.11.2019!A1182","v":"00:00:00"},{"$f":"Dados_2.11.2019!B1182","v":"00:00:00"},{"$f":"Dados_2.11.2019!C1182","v":0},0,0,0]
[{"$f":"Dados_2.11.2019!A1183","v":"00:00:00"},{"$f":"Dados_2.11.2019!B1183","v":"00:00:00"},{"$f":"Dados_2.11.2019!C1183","v":0},0,0,0]
[{"$f":"Dados_2.11.2019!A1184","v":"00:00:00"},{"$f":"Dados_2.11.2019!B1184","v":"00:00:00"},{"$f":"Dados_2.11.2019!C1184","v":0},{"$f":"IF((0.0005*(C1184^2)+0.0058*(C1184)-0.055)<0,0,IF((0.0005*(C1184^2)+0.0058*(C1184)-0.055)>1,1,(0.0005*(C1184^2)+0.0058*(C1184)-0.055)))","v":0},{"$f":"HOUR(B1184)","v":0},{"$f":"MINUTE(B1184)","v":0}]
[{"$f":"Dados_2.11.2019!A1185","v":"00:00:00"},{"$f":"Dados_2.11.2019!B1185","v":"00:00:00"},{"$f":"Dados_2.11.2019!C1185","v":0},0,0,0]
[{"$f":"Dados_2.11.2019!A1186","v":"00:00:00"},{"$f":"Dados_2.11.2019!B1186","v":"00:00:00"},{"$f":"Dados_2.11.2019!C1186","v":0},0,0,0]
[{"$f":"Dados_2.11.2019!A1187","v":"00:00:00"},{"$f":"Dados_2.11.2019!B1187","v":"00:00:00"},{"$f":"Dados_2.11.2019!C1187","v":0},0,0,0]
[{"$f":"Dados_2.11.2019!A1188","v":"00:00:00"},{"$f":"Dados_2.11.2019!B1188","v":"00:00:00"},{"$f":"Dados_2.11.2019!C1188","v":0},0,0,0]
[{"$f":"Dados_2.11.2019!A1189","v":"00:00:00"},{"$f":"Dados_2.11.2019!B1189","v":"00:00:00"},{"$f":"Dados_2.11.2019!C1189","v":0},0,0,0]
[{"$f":"Dados_2.11.2019!A1190","v":"00:00:00"},{"$f":"Dados_2.11.2019!B1190","v":"00:00:00"},{"$f":"Dados_2.11.2019!C1190","v":0},0,0,0]
[{"$f":"Dados_2.11.2019!A1191","v":"00:00:00"},{"$f":"Dados_2.11.2019!B1191","v":"00:00:00"},{"$f":"Dados_2.11.2019!C1191","v":0},0,0,0]
[{"$f":"Dados_2.11.2019!A1192","v":"00:00:00"},{"$f":"Dados_2.11.2019!B1192","v":"00:00:00"},{"$f":"Dados_2.11.2019!C1192","v":0},0,0,0]
[{"$f":"Dados_2.11.2019!A1193","v":"00:00:00"},{"$f":"Dados_2.11.2019!B1193","v":"00:00:00"},{"$f":"Dados_2.11.2019!C1193","v":0},0,0,0]
[{"$f":"Dados_2.11.2019!A1194","v":"00:00:00"},{"$f":"Dados_2.11.2019!B1194","v":"00:00:00"},{"$f":"Dados_2.11.2019!C1194","v":0},0,0,0]
[{"$f":"Dados_2.11.2019!A1195","v":"00:00:00"},{"$f":"Dados_2.11.2019!B1195","v":"00:00:00"},{"$f":"Dados_2.11.2019!C1195","v":0},0,0,0]
[{"$f":"Dados_2.11.2019!A1196","v":"00:00:00"},{"$f":"Dados_2.11.2019!B1196","v":"00:00:00"},{"$f":"Dados_2.11.2019!C1196","v":0},0,0,0]
[{"$f":"Dados_2.11.2019!A1197","v":"00:00:00"},{"$f":"Dados_2.11.2019!B1197","v":"00:00:00"},{"$f":"Dados_2.11.2019!C1197","v":0},0,0,0]
[{"$f":"Dados_2.11.2019!A1198","v":"00:00:00"},{"$f":"Dados_2.11.2019!B1198","v":"00:00:00"},{"$f":"Dados_2.11.2019!C1198","v":0},0,0,0]
[{"$f":"Dados_2.11.2019!A1199","v":"00:00:00"},{"$f":"Dados_2.11.2019!B1199","v":"00:00:00"},{"$f":"Dados_2.11.2019!C1199","v":0},0,0,0]
[{"$f":"Dados_2.11.2019!A1200","v":"00:00:00"},{"$f":"Dados_2.11.2019!B1200","v":"00:00:00"},{"$f":"Dados_2.11.2019!C1200","v":0},0,0,0]
[{"$f":"Dados_2.11.2019!A1201","v":"00:00:00"},{"$f":"Dados_2.11.2019!B1201","v":"00:00:00"},{"$f":"Dados_2.11.2019!C1201","v":0},0,0,0]
[{"$f":"Dados_2.11.2019!A1202","v":"00:00:00"},{"$f":"Dados_2.11.2019!B1202","v":"00:00:00"},{"$f":"Dados_2.11.2019!C1202","v":0},0,0,0]
[{"$f":"Dados_2.11.2019!A1203","v":"00:00:00"},{"$f":"Dados_2.11.2019!B1203","v":"00:00:00"},{"$f":"Dados_2.11.2019!C1203","v":0},0,0,0]
[{"$f":"Dados_2.11.2019!A1204","v":"00:00:00"},{"$f":"Dados_2.11.2019!B1204","v":"00:00:00"},{"$f":"Dados_2.11.2019!C1204","v":0},0,0,0]
[{"$f":"Dados_2.11.2019!A1205","v":"00:00:00"},{"$f":"Dados_2.11.2019!B1205","v":"00:00:00"},{"$f":"Dados_2.11.2019!C1205","v":0},0,0,0]
[{"$f":"Dados_2.11.2019!A1206","v":"00:00:00"},{"$f":"Dados_2.11.2019!B1206","v":"00:00:00"},{"$f":"Dados_2.11.2019!C1206","v":0},0,0,0]
[{"$f":"Dados_2.11.2019!A1207","v":"00:00:00"},{"$f":"Dados_2.11.2019!B1207","v":"00:00:00"},{"$f":"Dados_2.11.2019!C1207","v":0},0,0,0]
[{"$f":"Dados_2.11.2019!A1208","v":"00:00:00"},{"$f":"Dados_2.11.2019!B1208","v":"00:00:00"},{"$f":"Dados_2.11.2019!C1208","v":0},0,0,0]
[{"$f":"Dados_2.11.2019!A1209","v":"00:00:00"},{"$f":"Dados_2.11.2019!B1209","v":"00:00:00"},{"$f":"Dados_2.11.2019!C1209","v":0},0,0,0]
[{"$f":"Dados_2.11.2019!A1210","v":"00:00:00"},{"$f":"Dados_2.11.2019!B1210","v":"00:00:00"},{"$f":"Dados_2.11.2019!C1210","v":0},0,0,0]
[{"$f":"Dados_2.11.2019!A1211","v":"00:00:00"},{"$f":"Dados_2.11.2019!B1211","v":"00:00:00"},{"$f":"Dados_2.11.2019!C1211","v":0},0,0,0]
[{"$f":"Dados_2.11.2019!A1212","v":"00:00:00"},{"$f":"Dados_2.11.2019!B1212","v":"00:00:00"},{"$f":"Dados_2.11.2019!C1212","v":0},0,0,0]
[{"$f":"Dados_2.11.2019!A1213","v":"00:00:00"},{"$f":"Dados_2.11.2019!B1213","v":"00:00:00"},{"$f":"Dados_2.11.2019!C1213","v":0},0,0,0]
[{"$f":"Dados_2.11.2019!A1214","v":"00:00:00"},{"$f":"Dados_2.11.2019!B1214","v":"00:00:00"},{"$f":"Dados_2.11.2019!C1214","v":0},0,0,0]
[{"$f":"Dados_2.11.2019!A1215","v":"00:00:00"},{"$f":"Dados_2.11.2019!B1215","v":"00:00:00"},{"$f":"Dados_2.11.2019!C1215","v":0},0,0,0]
[{"$f":"Dados_2.11.2019!A1216","v":"00:00:00"},{"$f":"Dados_2.11.2019!B1216","v":"00:00:00"},{"$f":"Dados_2.11.2019!C1216","v":0},0,0,0]
[{"$f":"Dados_2.11.2019!A1217","v":"00:00:00"},{"$f":"Dados_2.11.2019!B1217","v":"00:00:00"},{"$f":"Dados_2.11.2019!C1217","v":0},0,0,0]
[{"$f":"Dados_2.11.2019!A1218","v":"00:00:00"},{"$f":"Dados_2.11.2019!B1218","v":"00:00:00"},{"$f":"Dados_2.11.2019!C1218","v":0},0,0,0]
[{"$f":"Dados_2.11.2019!A1219","v":"00:00:00"},{"$f":"Dados_2.11.2019!B1219","v":"00:00:00"},{"$f":"Dados_2.11.2019!C1219","v":0},0,0,0]
[{"$f":"Dados_2.11.2019!A1220","v":"00:00:00"},{"$f":"Dados_2.11.2019!B1220","v":"00:00:00"},{"$f":"Dados_2.11.2019!C1220","v":0},0,0,0]
[{"$f":"Dados_2.11.2019!A1221","v":"00:00:00"},{"$f":"Dados_2.11.2019!B1221","v":"00:00:00"},{"$f":"Dados_2.11.2019!C1221","v":0},0,0,0]
[{"$f":"Dados_2.11.2019!A1222","v":"00:00:00"},{"$f":"Dados_2.11.2019!B1222","v":"00:00:00"},{"$f":"Dados_2.11.2019!C1222","v":0},0,0,0]
[{"$f":"Dados_2.11.2019!A1223","v":"00:00:00"},{"$f":"Dados_2.11.2019!B1223","v":"00:00:00"},{"$f":"Dados_2.11.2019!C1223","v":0},0,0,0]
[{"$f":"Dados_2.11.2019!A1224","v":"00:00:00"},{"$f":"Dados_2.11.2019!B1224","v":"00:00:00"},{"$f":"Dados_2.11.2019!C1224","v":0},0,0,0]
[{"$f":"Dados_2.11.2019!A1225","v":"00:00:00"},{"$f":"Dados_2.11.2019!B1225","v":"00:00:00"},{"$f":"Dados_2.11.2019!C1225","v":0},0,0,0]
[{"$f":"Dados_2.11.2019!A1226","v":"00:00:00"},{"$f":"Dados_2.11.2019!B1226","v":"00:00:00"},{"$f":"Dados_2.11.2019!C1226","v":0},0,0,0]
[{"$f":"Dados_2.11.2019!A1227","v":"00:00:00"},{"$f":"Dados_2.11.2019!B1227","v":"00:00:00"},{"$f":"Dados_2.11.2019!C1227","v":0},0,0,0]
[{"$f":"Dados_2.11.2019!A1228","v":"00:00:00"},{"$f":"Dados_2.11.2019!B1228","v":"00:00:00"},{"$f":"Dados_2.11.2019!C1228","v":0},0,0,0]
[{"$f":"Dados_2.11.2019!A1229","v":"00:00:00"},{"$f":"Dados_2.11.2019!B1229","v":"00:00:00"},{"$f":"Dados_2.11.2019!C1229","v":0},0,0,0]
[{"$f":"Dados_2.11.2019!A1230","v":"00:00:00"},{"$f":"Dados_2.11.2019!B1230","v":"00:00:00"},{"$f":"Dados_2.11.2019!C1230","v":0},0,0,0]
[{"$f":"Dados_2.11.2019!A1231","v":"00:00:00"},{"$f":"Dados_2.11.2019!B1231","v":"00:00:00"},{"$f":"Dados_2.11.2019!C1231","v":0},0,0,0]
[{"$f":"Dados_2.11.2019!A1232","v":"00:00:00"},{"$f":"Dados_2.11.2019!B1232","v":"00:00:00"},{"$f":"Dados_2.11.2019!C1232","v":0},0,0,0]
[{"$f":"Dados_2.11.2019!A1233","v":"00:00:00"},{"$f":"Dados_2.11.2019!B1233","v":"00:00:00"},{"$f":"Dados_2.11.2019!C1233","v":0},0,0,0]
[{"$f":"Dados_2.11.2019!A1234","v":"00:00:00"},{"$f":"Dados_2.11.2019!B1234","v":"00:00:00"},{"$f":"Dados_2.11.2019!C1234","v":0},0,0,0]
[{"$f":"Dados_2.11.2019!A1235","v":"00:00:00"},{"$f":"Dados_2.11.2019!B1235","v":"00:00:00"},{"$f":"Dados_2.11.2019!C1235","v":0},0,0,0]
[{"$f":"Dados_2.11.2019!A1236","v":"00:00:00"},{"$f":"Dados_2.11.2019!B1236","v":"00:00:00"},{"$f":"Dados_2.11.2019!C1236","v":0},0,0,0]
[{"$f":"Dados_2.11.2019!A1237","v":"00:00:00"},{"$f":"Dados_2.11.2019!B1237","v":"00:00:00"},{"$f":"Dados_2.11.2019!C1237","v":0},0,0,0]
[{"$f":"Dados_2.11.2019!A1238","v":"00:00:00"},{"$f":"Dados_2.11.2019!B1238","v":"00:00:00"},{"$f":"Dados_2.11.2019!C1238","v":0},0,0,0]
[{"$f":"Dados_2.11.2019!A1239","v":"00:00:00"},{"$f":"Dados_2.11.2019!B1239","v":"00:00:00"},{"$f":"Dados_2.11.2019!C1239","v":0},0,0,0]
[{"$f":"Dados_2.11.2019!A1240","v":"00:00:00"},{"$f":"Dados_2.11.2019!B1240","v":"00:00:00"},{"$f":"Dados_2.11.2019!C1240","v":0},0,0,0]
[{"$f":"Dados_2.11.2019!A1241","v":"00:00:00"},{"$f":"Dados_2.11.2019!B1241","v":"00:00:00"},{"$f":"Dados_2.11.2019!C1241","v":0},0,0,0]
[{"$f":"Dados_2.11.2019!A1242","v":"00:00:00"},{"$f":"Dados_2.11.2019!B1242","v":"00:00:00"},{"$f":"Dados_2.11.2019!C1242","v":0},0,0,0]
[{"$f":"Dados_2.11.2019!A1243","v":"00:00:00"},{"$f":"Dados_2.11.2019!B1243","v":"00:00:00"},{"$f":"Dados_2.11.2019!C1243","v":0},0,0,0]
[{"$f":"Dados_2.11.2019!A1244","v":"00:00:00"},{"$f":"Dados_2.11.2019!B1244","v":"00:00:00"},{"$f":"Dados_2.11.2019!C1244","v":0},0,0,0]
[{"$f":"Dados_2.11.2019!A1245","v":"00:00:00"},{"$f":"Dados_2.11.2019!B1245","v":"00:00:00"},{"$f":"Dados_2.11.2019!C1245","v":0},0,0,0]
[{"$f":"Dados_2.11.2019!A1246","v":"00:00:00"},{"$f":"Dados_2.11.2019!B1246","v":"00:00:00"},{"$f":"Dados_2.11.2019!C1246","v":0},0,0,0]
[{"$f":"Dados_2.11.2019!A1247","v":"00:00:00"},{"$f":"Dados_2.11.2019!B1247","v":"00:00:00"},{"$f":"Dados_2.11.2019!C1247","v":0},0,0,0]
[{"$f":"Dados_2.11.2019!A1248","v":"00:00:00"},{"$f":"Dados_2.11.2019!B1248","v":"00:00:00"},{"$f":"Dados_2.11.2019!C1248","v":0},{"$f":"IF((0.0005*(C1248^2)+0.0058*(C1248)-0.055)<0,0,IF((0.0005*(C1248^2)+0.0058*(C1248)-0.055)>1,1,(0.0005*(C1248^2)+0.0058*(C1248)-0.055)))","v":0},{"$f":"HOUR(B1248)","v":0},{"$f":"MINUTE(B1248)","v":0}]
[{"$f":"Dados_2.11.2019!A1249","v":"00:00:00"},{"$f":"Dados_2.11.2019!B1249","v":"00:00:00"},{"$f":"Dados_2.11.2019!C1249","v":0},0,0,0]
[{"$f":"Dados_2.11.2019!A1250","v":"00:00:00"},{"$f":"Dados_2.11.2019!B1250","v":"00:00:00"},{"$f":"Dados_2.11.2019!C1250","v":0},0,0,0]
[{"$f":"Dados_2.11.2019!A1251","v":"00:00:00"},{"$f":"Dados_2.11.2019!B1251","v":"00:00:00"},{"$f":"Dados_2.11.2019!C1251","v":0},0,0,0]
[{"$f":"Dados_2.11.2019!A1252","v":"00:00:00"},{"$f":"Dados_2.11.2019!B1252","v":"00:00:00"},{"$f":"Dados_2.11.2019!C1252","v":0},0,0,0]
[{"$f":"Dados_2.11.2019!A1253","v":"00:00:00"},{"$f":"Dados_2.11.2019!B1253","v":"00:00:00"},{"$f":"Dados_2.11.2019!C1253","v":0},0,0,0]
[{"$f":"Dados_2.11.2019!A1254","v":"00:00:00"},{"$f":"Dados_2.11.2019!B1254","v":"00:00:00"},{"$f":"Dados_2.11.2019!C1254","v":0},0,0,0]
[{"$f":"Dados_2.11.2019!A1255","v":"00:00:00"},{"$f":"Dados_2.11.2019!B1255","v":"00:00:00"},{"$f":"Dados_2.11.2019!C1255","v":0},0,0,0]
[{"$f":"Dados_2.11.2019!A1256","v":"00:00:00"},{"$f":"Dados_2.11.2019!B1256","v":"00:00:00"},{"$f":"Dados_2.11.2019!C1256","v":0},0,0,0]
[{"$f":"Dados_2.11.2019!A1257","v":"00:00:00"},{"$f":"Dados_2.11.2019!B1257","v":"00:00:00"},{"$f":"Dados_2.11.2019!C1257","v":0},0,0,0]
[{"$f":"Dados_2.11.2019!A1258","v":"00:00:00"},{"$f":"Dados_2.11.2019!B1258","v":"00:00:00"},{"$f":"Dados_2.11.2019!C1258","v":0},0,0,0]
[{"$f":"Dados_2.11.2019!A1259","v":"00:00:00"},{"$f":"Dados_2.11.2019!B1259","v":"00:00:00"},{"$f":"Dados_2.11.2019!C1259","v":0},0,0,0]
[{"$f":"Dados_2.11.2019!A1260","v":"00:00:00"},{"$f":"Dados_2.11.2019!B1260","v":"00:00:00"},{"$f":"Dados_2.11.2019!C1260","v":0},0,0,0]
[{"$f":"Dados_2.11.2019!A1261","v":"00:00:00"},{"$f":"Dados_2.11.2019!B1261","v":"00:00:00"},{"$f":"Dados_2.11.2019!C1261","v":0},0,0,0]
[{"$f":"Dados_2.11.2019!A1262","v":"00:00:00"},{"$f":"Dados_2.11.2019!B1262","v":"00:00:00"},{"$f":"Dados_2.11.2019!C1262","v":0},0,0,0]
[{"$f":"Dados_2.11.2019!A1263","v":"00:00:00"},{"$f":"Dados_2.11.2019!B1263","v":"00:00:00"},{"$f":"Dados_2.11.2019!C1263","v":0},0,0,0]
[{"$f":"Dados_2.11.2019!A1264","v":"00:00:00"},{"$f":"Dados_2.11.2019!B1264","v":"00:00:00"},{"$f":"Dados_2.11.2019!C1264","v":0},0,0,0]
[{"$f":"Dados_2.11.2019!A1265","v":"00:00:00"},{"$f":"Dados_2.11.2019!B1265","v":"00:00:00"},{"$f":"Dados_2.11.2019!C1265","v":0},0,0,0]
[{"$f":"Dados_2.11.2019!A1266","v":"00:00:00"},{"$f":"Dados_2.11.2019!B1266","v":"00:00:00"},{"$f":"Dados_2.11.2019!C1266","v":0},0,0,0]
[{"$f":"Dados_2.11.2019!A1267","v":"00:00:00"},{"$f":"Dados_2.11.2019!B1267","v":"00:00:00"},{"$f":"Dados_2.11.2019!C1267","v":0},0,0,0]
[{"$f":"Dados_2.11.2019!A1268","v":"00:00:00"},{"$f":"Dados_2.11.2019!B1268","v":"00:00:00"},{"$f":"Dados_2.11.2019!C1268","v":0},0,0,0]
[{"$f":"Dados_2.11.2019!A1269","v":"00:00:00"},{"$f":"Dados_2.11.2019!B1269","v":"00:00:00"},{"$f":"Dados_2.11.2019!C1269","v":0},0,0,0]
[{"$f":"Dados_2.11.2019!A1270","v":"00:00:00"},{"$f":"Dados_2.11.2019!B1270","v":"00:00:00"},{"$f":"Dados_2.11.2019!C1270","v":0},0,0,0]
[{"$f":"Dados_2.11.2019!A1271","v":"00:00:00"},{"$f":"Dados_2.11.2019!B1271","v":"00:00:00"},{"$f":"Dados_2.11.2019!C1271","v":0},0,0,0]
[{"$f":"Dados_2.11.2019!A1272","v":"00:00:00"},{"$f":"Dados_2.11.2019!B1272","v":"00:00:00"},{"$f":"Dados_2.11.2019!C1272","v":0},0,0,0]
[{"$f":"Dados_2.11.2019!A1273","v":"00:00:00"},{"$f":"Dados_2.11.2019!B1273","v":"00:00:00"},{"$f":"Dados_2.11.2019!C1273","v":0},0,0,0]
[{"$f":"Dados_2.11.2019!A1274","v":"00:00:00"},{"$f":"Dados_2.11.2019!B1274","v":"00:00:00"},{"$f":"Dados_2.11.2019!C1274","v":0},0,0,0]
[{"$f":"Dados_2.11.2019!A1275","v":"00:00:00"},{"$f":"Dados_2.11.2019!B1275","v":"00:00:00"},{"$f":"Dados_2.11.2019!C1275","v":0},0,0,0]
[{"$f":"Dados_2.11.2019!A1276","v":"00:00:00"},{"$f":"Dados_2.11.2019!B1276","v":"00:00:00"},{"$f":"Dados_2.11.2019!C1276","v":0},0,0,0]
[{"$f":"Dados_2.11.2019!A1277","v":"00:00:00"},{"$f":"Dados_2.11.2019!B1277","v":"00:00:00"},{"$f":"Dados_2.11.2019!C1277","v":0},0,0,0]
[{"$f":"Dados_2.11.2019!A1278","v":"00:00:00"},{"$f":"Dados_2.11.2019!B1278","v":"00:00:00"},{"$f":"Dados_2.11.2019!C1278","v":0},0,0,0]
[{"$f":"Dados_2.11.2019!A1279","v":"00:00:00"},{"$f":"Dados_2.11.2019!B1279","v":"00:00:00"},{"$f":"Dados_2.11.2019!C1279","v":0},0,0,0]
[{"$f":"Dados_2.11.2019!A1280","v":"00:00:00"},{"$f":"Dados_2.11.2019!B1280","v":"00:00:00"},{"$f":"Dados_2.11.2019!C1280","v":0},0,0,0]
[{"$f":"Dados_2.11.2019!A1281","v":"00:00:00"},{"$f":"Dados_2.11.2019!B1281","v":"00:00:00"},{"$f":"Dados_2.11.2019!C1281","v":0},0,0,0]
[{"$f":"Dados_2.11.2019!A1282","v":"00:00:00"},{"$f":"Dados_2.11.2019!B1282","v":"00:00:00"},{"$f":"Dados_2.11.2019!C1282","v":0},0,0,0]
[{"$f":"Dados_2.11.2019!A1283","v":"00:00:00"},{"$f":"Dados_2.11.2019!B1283","v":"00:00:00"},{"$f":"Dados_2.11.2019!C1283","v":0},0,0,0]
[{"$f":"Dados_2.11.2019!A1284","v":"00:00:00"},{"$f":"Dados_2.11.2019!B1284","v":"00:00:00"},{"$f":"Dados_2.11.2019!C1284","v":0},0,0,0]
[{"$f":"Dados_2.11.2019!A1285","v":"00:00:00"},{"$f":"Dados_2.11.2019!B1285","v":"00:00:00"},{"$f":"Dados_2.11.2019!C1285","v":0},0,0,0]
[{"$f":"Dados_2.11.2019!A1286","v":"00:00:00"},{"$f":"Dados_2.11.2019!B1286","v":"00:00:00"},{"$f":"Dados_2.11.2019!C1286","v":0},0,0,0]
[{"$f":"Dados_2.11.2019!A1287","v":"00:00:00"},{"$f":"Dados_2.11.2019!B1287","v":"00:00:00"},{"$f":"Dados_2.11.2019!C1287","v":0},0,0,0]
[{"$f":"Dados_2.11.2019!A1288","v":"00:00:00"},{"$f":"Dados_2.11.2019!B1288","v":"00:00:00"},{"$f":"Dados_2.11.2019!C1288","v":0},0,0,0]
[{"$f":"Dados_2.11.2019!A1289","v":"00:00:00"},{"$f":"Dados_2.11.2019!B1289","v":"00:00:00"},{"$f":"Dados_2.11.2019!C1289","v":0},0,0,0]
[{"$f":"Dados_2.11.2019!A1290","v":"00:00:00"},{"$f":"Dados_2.11.2019!B1290","v":"00:00:00"},{"$f":"Dados_2.11.2019!C1290","v":0},0,0,0]
[{"$f":"Dados_2.11.2019!A1291","v":"00:00:00"},{"$f":"Dados_2.11.2019!B1291","v":"00:00:00"},{"$f":"Dados_2.11.2019!C1291","v":0},0,0,0]
[{"$f":"Dados_2.11.2019!A1292","v":"00:00:00"},{"$f":"Dados_2.11.2019!B1292","v":"00:00:00"},{"$f":"Dados_2.11.2019!C1292","v":0},0,0,0]
[{"$f":"Dados_2.11.2019!A1293","v":"00:00:00"},{"$f":"Dados_2.11.2019!B1293","v":"00:00:00"},{"$f":"Dados_2.11.2019!C1293","v":0},0,0,0]
[{"$f":"Dados_2.11.2019!A1294","v":"00:00:00"},{"$f":"Dados_2.11.2019!B1294","v":"00:00:00"},{"$f":"Dados_2.11.2019!C1294","v":0},0,0,0]
[{"$f":"Dados_2.11.2019!A1295","v":"00:00:00"},{"$f":"Dados_2.11.2019!B1295","v":"00:00:00"},{"$f":"Dados_2.11.2019!C1295","v":0},0,0,0]
[{"$f":"Dados_2.11.2019!A1296","v":"00:00:00"},{"$f":"Dados_2.11.2019!B1296","v":"00:00:00"},{"$f":"Dados_2.11.2019!C1296","v":0},0,0,0]
[{"$f":"Dados_2.11.2019!A1297","v":"00:00:00"},{"$f":"Dados_2.11.2019!B1297","v":"00:00:00"},{"$f":"Dados_2.11.2019!C1297","v":0},0,0,0]
[{"$f":"Dados_2.11.2019!A1298","v":"00:00:00"},{"$f":"Dados_2.11.2019!B1298","v":"00:00:00"},{"$f":"Dados_2.11.2019!C1298","v":0},0,0,0]
[{"$f":"Dados_2.11.2019!A1299","v":"00:00:00"},{"$f":"Dados_2.11.2019!B1299","v":"00:00:00"},{"$f":"Dados_2.11.2019!C1299","v":0},0,0,0]
[{"$f":"Dados_2.11.2019!A1300","v":"00:00:00"},{"$f":"Dados_2.11.2019!B1300","v":"00:00:00"},{"$f":"Dados_2.11.2019!C1300","v":0},0,0,0]
[{"$f":"Dados_2.11.2019!A1301","v":"00:00:00"},{"$f":"Dados_2.11.2019!B1301","v":"00:00:00"},{"$f":"Dados_2.11.2019!C1301","v":0},0,0,0]
[{"$f":"Dados_2.11.2019!A1302","v":"00:00:00"},{"$f":"Dados_2.11.2019!B1302","v":"00:00:00"},{"$f":"Dados_2.11.2019!C1302","v":0},0,0,0]
[{"$f":"Dados_2.11.2019!A1303","v":"00:00:00"},{"$f":"Dados_2.11.2019!B1303","v":"00:00:00"},{"$f":"Dados_2.11.2019!C1303","v":0},0,0,0]
[{"$f":"Dados_2.11.2019!A1304","v":"00:00:00"},{"$f":"Dados_2.11.2019!B1304","v":"00:00:00"},{"$f":"Dados_2.11.2019!C1304","v":0},0,0,0]
[{"$f":"Dados_2.11.2019!A1305","v":"00:00:00"},{"$f":"Dados_2.11.2019!B1305","v":"00:00:00"},{"$f":"Dados_2.11.2019!C1305","v":0},0,0,0]
[{"$f":"Dados_2.11.2019!A1306","v":"00:00:00"},{"$f":"Dados_2.11.2019!B1306","v":"00:00:00"},{"$f":"Dados_2.11.2019!C1306","v":0},0,0,0]
[{"$f":"Dados_2.11.2019!A1307","v":"00:00:00"},{"$f":"Dados_2.11.2019!B1307","v":"00:00:00"},{"$f":"Dados_2.11.2019!C1307","v":0},0,0,0]
[{"$f":"Dados_2.11.2019!A1308","v":"00:00:00"},{"$f":"Dados_2.11.2019!B1308","v":"00:00:00"},{"$f":"Dados_2.11.2019!C1308","v":0},0,0,0]
[{"$f":"Dados_2.11.2019!A1309","v":"00:00:00"},{"$f":"Dados_2.11.2019!B1309","v":"00:00:00"},{"$f":"Dados_2.11.2019!C1309","v":0},0,0,0]
[{"$f":"Dados_2.11.2019!A1310","v":"00:00:00"},{"$f":"Dados_2.11.2019!B1310","v":"00:00:00"},{"$f":"Dados_2.11.2019!C1310","v":0},0,0,0]
[{"$f":"Dados_2.11.2019!A1311","v":"00:00:00"},{"$f":"Dados_2.11.2019!B1311","v":"00:00:00"},{"$f":"Dados_2.11.2019!C1311","v":0},0,0,0]
[{"$f":"Dados_2.11.2019!A1312","v":"00:00:00"},{"$f":"Dados_2.11.2019!B1312","v":"00:00:00"},{"$f":"Dados_2.11.2019!C1312","v":0},{"$f":"IF((0.0005*(C1312^2)+0.0058*(C1312)-0.055)<0,0,IF((0.0005*(C1312^2)+0.0058*(C1312)-0.055)>1,1,(0.0005*(C1312^2)+0.0058*(C1312)-0.055)))","v":0},{"$f":"HOUR(B1312)","v":0},{"$f":"MINUTE(B1312)","v":0}]
[{"$f":"Dados_2.11.2019!A1313","v":"00:00:00"},{"$f":"Dados_2.11.2019!B1313","v":"00:00:00"},{"$f":"Dados_2.11.2019!C1313","v":0},0,0,0]
[{"$f":"Dados_2.11.2019!A1314","v":"00:00:00"},{"$f":"Dados_2.11.2019!B1314","v":"00:00:00"},{"$f":"Dados_2.11.2019!C1314","v":0},0,0,0]
[{"$f":"Dados_2.11.2019!A1315","v":"00:00:00"},{"$f":"Dados_2.11.2019!B1315","v":"00:00:00"},{"$f":"Dados_2.11.2019!C1315","v":0},0,0,0]
[{"$f":"Dados_2.11.2019!A1316","v":"00:00:00"},{"$f":"Dados_2.11.2019!B1316","v":"00:00:00"},{"$f":"Dados_2.11.2019!C1316","v":0},0,0,0]
[{"$f":"Dados_2.11.2019!A1317","v":"00:00:00"},{"$f":"Dados_2.11.2019!B1317","v":"00:00:00"},{"$f":"Dados_2.11.2019!C1317","v":0},0,0,0]
[{"$f":"Dados_2.11.2019!A1318","v":"00:00:00"},{"$f":"Dados_2.11.2019!B1318","v":"00:00:00"},{"$f":"Dados_2.11.2019!C1318","v":0},0,0,0]
[{"$f":"Dados_2.11.2019!A1319","v":"00:00:00"},{"$f":"Dados_2.11.2019!B1319","v":"00:00:00"},{"$f":"Dados_2.11.2019!C1319","v":0},0,0,0]
[{"$f":"Dados_2.11.2019!A1320","v":"00:00:00"},{"$f":"Dados_2.11.2019!B1320","v":"00:00:00"},{"$f":"Dados_2.11.2019!C1320","v":0},0,0,0]
[{"$f":"Dados_2.11.2019!A1321","v":"00:00:00"},{"$f":"Dados_2.11.2019!B1321","v":"00:00:00"},{"$f":"Dados_2.11.2019!C1321","v":0},0,0,0]
[{"$f":"Dados_2.11.2019!A1322","v":"00:00:00"},{"$f":"Dados_2.11.2019!B1322","v":"00:00:00"},{"$f":"Dados_2.11.2019!C1322","v":0},0,0,0]
[{"$f":"Dados_2.11.2019!A1323","v":"00:00:00"},{"$f":"Dados_2.11.2019!B1323","v":"00:00:00"},{"$f":"Dados_2.11.2019!C1323","v":0},0,0,0]
[{"$f":"Dados_2.11.2019!A1324","v":"00:00:00"},{"$f":"Dados_2.11.2019!B1324","v":"00:00:00"},{"$f":"Dados_2.11.2019!C1324","v":0},0,0,0]
[{"$f":"Dados_2.11.2019!A1325","v":"00:00:00"},{"$f":"Dados_2.11.2019!B1325","v":"00:00:00"},{"$f":"Dados_2.11.2019!C1325","v":0},0,0,0]
[{"$f":"Dados_2.11.2019!A1326","v":"00:00:00"},{"$f":"Dados_2.11.2019!B1326","v":"00:00:00"},{"$f":"Dados_2.11.2019!C1326","v":0},0,0,0]
[{"$f":"Dados_2.11.2019!A1327","v":"00:00:00"},{"$f":"Dados_2.11.2019!B1327","v":"00:00:00"},{"$f":"Dados_2.11.2019!C1327","v":0},0,0,0]
[{"$f":"Dados_2.11.2019!A1328","v":"00:00:00"},{"$f":"Dados_2.11.2019!B1328","v":"00:00:00"},{"$f":"Dados_2.11.2019!C1328","v":0},0,0,0]
[{"$f":"Dados_2.11.2019!A1329","v":"00:00:00"},{"$f":"Dados_2.11.2019!B1329","v":"00:00:00"},{"$f":"Dados_2.11.2019!C1329","v":0},0,0,0]
[{"$f":"Dados_2.11.2019!A1330","v":"00:00:00"},{"$f":"Dados_2.11.2019!B1330","v":"00:00:00"},{"$f":"Dados_2.11.2019!C1330","v":0},0,0,0]
[{"$f":"Dados_2.11.2019!A1331","v":"00:00:00"},{"$f":"Dados_2.11.2019!B1331","v":"00:00:00"},{"$f":"Dados_2.11.2019!C1331","v":0},0,0,0]
[{"$f":"Dados_2.11.2019!A1332","v":"00:00:00"},{"$f":"Dados_2.11.2019!B1332","v":"00:00:00"},{"$f":"Dados_2.11.2019!C1332","v":0},0,0,0]
[{"$f":"Dados_2.11.2019!A1333","v":"00:00:00"},{"$f":"Dados_2.11.2019!B1333","v":"00:00:00"},{"$f":"Dados_2.11.2019!C1333","v":0},0,0,0]
[{"$f":"Dados_2.11.2019!A1334","v":"00:00:00"},{"$f":"Dados_2.11.2019!B1334","v":"00:00:00"},{"$f":"Dados_2.11.2019!C1334","v":0},0,0,0]
[{"$f":"Dados_2.11.2019!A1335","v":"00:00:00"},{"$f":"Dados_2.11.2019!B1335","v":"00:00:00"},{"$f":"Dados_2.11.2019!C1335","v":0},0,0,0]
[{"$f":"Dados_2.11.2019!A1336","v":"00:00:00"},{"$f":"Dados_2.11.2019!B1336","v":"00:00:00"},{"$f":"Dados_2.11.2019!C1336","v":0},0,0,0]
[{"$f":"Dados_2.11.2019!A1337","v":"00:00:00"},{"$f":"Dados_2.11.2019!B1337","v":"00:00:00"},{"$f":"Dados_2.11.2019!C1337","v":0},0,0,0]
[{"$f":"Dados_2.11.2019!A1338","v":"00:00:00"},{"$f":"Dados_2.11.2019!B1338","v":"00:00:00"},{"$f":"Dados_2.11.2019!C1338","v":0},0,0,0]
[{"$f":"Dados_2.11.2019!A1339","v":"00:00:00"},{"$f":"Dados_2.11.2019!B1339","v":"00:00:00"},{"$f":"Dados_2.11.2019!C1339","v":0},0,0,0]
[{"$f":"Dados_2.11.2019!A1340","v":"00:00:00"},{"$f":"Dados_2.11.2019!B1340","v":"00:00:00"},{"$f":"Dados_2.11.2019!C1340","v":0},0,0,0]
[{"$f":"Dados_2.11.2019!A1341","v":"00:00:00"},{"$f":"Dados_2.11.2019!B1341","v":"00:00:00"},{"$f":"Dados_2.11.2019!C1341","v":0},0,0,0]
[{"$f":"Dados_2.11.2019!A1342","v":"00:00:00"},{"$f":"Dados_2.11.2019!B1342","v":"00:00:00"},{"$f":"Dados_2.11.2019!C1342","v":0},0,0,0]
[{"$f":"Dados_2.11.2019!A1343","v":"00:00:00"},{"$f":"Dados_2.11.2019!B1343","v":"00:00:00"},{"$f":"Dados_2.11.2019!C1343","v":0},0,0,0]
[{"$f":"Dados_2.11.2019!A1344","v":"00:00:00"},{"$f":"Dados_2.11.2019!B1344","v":"00:00:00"},{"$f":"Dados_2.11.2019!C1344","v":0},0,0,0]
[{"$f":"Dados_2.11.2019!A1345","v":"00:00:00"},{"$f":"Dados_2.11.2019!B1345","v":"00:00:00"},{"$f":"Dados_2.11.2019!C1345","v":0},0,0,0]
[{"$f":"Dados_2.11.2019!A1346","v":"00:00:00"},{"$f":"Dados_2.11.2019!B1346","v":"00:00:00"},{"$f":"Dados_2.11.2019!C1346","v":0},0,0,0]
[{"$f":"Dados_2.11.2019!A1347","v":"00:00:00"},{"$f":"Dados_2.11.2019!B1347","v":"00:00:00"},{"$f":"Dados_2.11.2019!C1347","v":0},0,0,0]
[{"$f":"Dados_2.11.2019!A1348","v":"00:00:00"},{"$f":"Dados_2.11.2019!B1348","v":"00:00:00"},{"$f":"Dados_2.11.2019!C1348","v":0},0,0,0]
[{"$f":"Dados_2.11.2019!A1349","v":"00:00:00"},{"$f":"Dados_2.11.2019!B1349","v":"00:00:00"},{"$f":"Dados_2.11.2019!C1349","v":0},0,0,0]
[{"$f":"Dados_2.11.2019!A1350","v":"00:00:00"},{"$f":"Dados_2.11.2019!B1350","v":"00:00:00"},{"$f":"Dados_2.11.2019!C1350","v":0},0,0,0]
[{"$f":"Dados_2.11.2019!A1351","v":"00:00:00"},{"$f":"Dados_2.11.2019!B1351","v":"00:00:00"},{"$f":"Dados_2.11.2019!C1351","v":0},0,0,0]
[{"$f":"Dados_2.11.2019!A1352","v":"00:00:00"},{"$f":"Dados_2.11.2019!B1352","v":"00:00:00"},{"$f":"Dados_2.11.2019!C1352","v":0},0,0,0]
[{"$f":"Dados_2.11.2019!A1353","v":"00:00:00"},{"$f":"Dados_2.11.2019!B1353","v":"00:00:00"},{"$f":"Dados_2.11.2019!C1353","v":0},0,0,0]
[{"$f":"Dados_2.11.2019!A1354","v":"00:00:00"},{"$f":"Dados_2.11.2019!B1354","v":"00:00:00"},{"$f":"Dados_2.11.2019!C1354","v":0},0,0,0]
[{"$f":"Dados_2.11.2019!A1355","v":"00:00:00"},{"$f":"Dados_2.11.2019!B1355","v":"00:00:00"},{"$f":"Dados_2.11.2019!C1355","v":0},0,0,0]
[{"$f":"Dados_2.11.2019!A1356","v":"00:00:00"},{"$f":"Dados_2.11.2019!B1356","v":"00:00:00"},{"$f":"Dados_2.11.2019!C1356","v":0},0,0,0]
[{"$f":"Dados_2.11.2019!A1357","v":"00:00:00"},{"$f":"Dados_2.11.2019!B1357","v":"00:00:00"},{"$f":"Dados_2.11.2019!C1357","v":0},0,0,0]
[{"$f":"Dados_2.11.2019!A1358","v":"00:00:00"},{"$f":"Dados_2.11.2019!B1358","v":"00:00:00"},{"$f":"Dados_2.11.2019!C1358","v":0},0,0,0]
[{"$f":"Dados_2.11.2019!A1359","v":"00:00:00"},{"$f":"Dados_2.11.2019!B1359","v":"00:00:00"},{"$f":"Dados_2.11.2019!C1359","v":0},0,0,0]
[{"$f":"Dados_2.11.2019!A1360","v":"00:00:00"},{"$f":"Dados_2.11.2019!B1360","v":"00:00:00"},{"$f":"Dados_2.11.2019!C1360","v":0},0,0,0]
[{"$f":"Dados_2.11.2019!A1361","v":"00:00:00"},{"$f":"Dados_2.11.2019!B1361","v":"00:00:00"},{"$f":"Dados_2.11.2019!C1361","v":0},0,0,0]
[{"$f":"Dados_2.11.2019!A1362","v":"00:00:00"},{"$f":"Dados_2.11.2019!B1362","v":"00:00:00"},{"$f":"Dados_2.11.2019!C1362","v":0},0,0,0]
[{"$f":"Dados_2.11.2019!A1363","v":"00:00:00"},{"$f":"Dados_2.11.2019!B1363","v":"00:00:00"},{"$f":"Dados_2.11.2019!C1363","v":0},0,0,0]
[{"$f":"Dados_2.11.2019!A1364","v":"00:00:00"},{"$f":"Dados_2.11.2019!B1364","v":"00:00:00"},{"$f":"Dados_2.11.2019!C1364","v":0},0,0,0]
[{"$f":"Dados_2.11.2019!A1365","v":"00:00:00"},{"$f":"Dados_2.11.2019!B1365","v":"00:00:00"},{"$f":"Dados_2.11.2019!C1365","v":0},0,0,0]
[{"$f":"Dados_2.11.2019!A1366","v":"00:00:00"},{"$f":"Dados_2.11.2019!B1366","v":"00:00:00"},{"$f":"Dados_2.11.2019!C1366","v":0},0,0,0]
[{"$f":"Dados_2.11.2019!A1367","v":"00:00:00"},{"$f":"Dados_2.11.2019!B1367","v":"00:00:00"},{"$f":"Dados_2.11.2019!C1367","v":0},0,0,0]
[{"$f":"Dados_2.11.2019!A1368","v":"00:00:00"},{"$f":"Dados_2.11.2019!B1368","v":"00:00:00"},{"$f":"Dados_2.11.2019!C1368","v":0},0,0,0]
[{"$f":"Dados_2.11.2019!A1369","v":"00:00:00"},{"$f":"Dados_2.11.2019!B1369","v":"00:00:00"},{"$f":"Dados_2.11.2019!C1369","v":0},0,0,0]
[{"$f":"Dados_2.11.2019!A1370","v":"00:00:00"},{"$f":"Dados_2.11.2019!B1370","v":"00:00:00"},{"$f":"Dados_2.11.2019!C1370","v":0},0,0,0]
[{"$f":"Dados_2.11.2019!A1371","v":"00:00:00"},{"$f":"Dados_2.11.2019!B1371","v":"00:00:00"},{"$f":"Dados_2.11.2019!C1371","v":0},0,0,0]
[{"$f":"Dados_2.11.2019!A1372","v":"00:00:00"},{"$f":"Dados_2.11.2019!B1372","v":"00:00:00"},{"$f":"Dados_2.11.2019!C1372","v":0},0,0,0]
[{"$f":"Dados_2.11.2019!A1373","v":"00:00:00"},{"$f":"Dados_2.11.2019!B1373","v":"00:00:00"},{"$f":"Dados_2.11.2019!C1373","v":0},0,0,0]
[{"$f":"Dados_2.11.2019!A1374","v":"00:00:00"},{"$f":"Dados_2.11.2019!B1374","v":"00:00:00"},{"$f":"Dados_2.11.2019!C1374","v":0},0,0,0]
[{"$f":"Dados_2.11.2019!A1375","v":"00:00:00"},{"$f":"Dados_2.11.2019!B1375","v":"00:00:00"},{"$f":"Dados_2.11.2019!C1375","v":0},0,0,0]
[{"$f":"Dados_2.11.2019!A1376","v":"00:00:00"},{"$f":"Dados_2.11.2019!B1376","v":"00:00:00"},{"$f":"Dados_2.11.2019!C1376","v":0},{"$f":"IF((0.0005*(C1376^2)+0.0058*(C1376)-0.055)<0,0,IF((0.0005*(C1376^2)+0.0058*(C1376)-0.055)>1,1,(0.0005*(C1376^2)+0.0058*(C1376)-0.055)))","v":0},{"$f":"HOUR(B1376)","v":0},{"$f":"MINUTE(B1376)","v":0}]
[{"$f":"Dados_2.11.2019!A1377","v":"00:00:00"},{"$f":"Dados_2.11.2019!B1377","v":"00:00:00"},{"$f":"Dados_2.11.2019!C1377","v":0},0,0,0]
[{"$f":"Dados_2.11.2019!A1378","v":"00:00:00"},{"$f":"Dados_2.11.2019!B1378","v":"00:00:00"},{"$f":"Dados_2.11.2019!C1378","v":0},0,0,0]
[{"$f":"Dados_2.11.2019!A1379","v":"00:00:00"},{"$f":"Dados_2.11.2019!B1379","v":"00:00:00"},{"$f":"Dados_2.11.2019!C1379","v":0},0,0,0]
[{"$f":"Dados_2.11.2019!A1380","v":"00:00:00"},{"$f":"Dados_2.11.2019!B1380","v":"00:00:00"},{"$f":"Dados_2.11.2019!C1380","v":0},0,0,0]
[{"$f":"Dados_2.11.2019!A1381","v":"00:00:00"},{"$f":"Dados_2.11.2019!B1381","v":"00:00:00"},{"$f":"Dados_2.11.2019!C1381","v":0},0,0,0]
[{"$f":"Dados_2.11.2019!A1382","v":"00:00:00"},{"$f":"Dados_2.11.2019!B1382","v":"00:00:00"},{"$f":"Dados_2.11.2019!C1382","v":0},0,0,0]
[{"$f":"Dados_2.11.2019!A1383","v":"00:00:00"},{"$f":"Dados_2.11.2019!B1383","v":"00:00:00"},{"$f":"Dados_2.11.2019!C1383","v":0},0,0,0]
[{"$f":"Dados_2.11.2019!A1384","v":"00:00:00"},{"$f":"Dados_2.11.2019!B1384","v":"00:00:00"},{"$f":"Dados_2.11.2019!C1384","v":0},0,0,0]
[{"$f":"Dados_2.11.2019!A1385","v":"00:00:00"},{"$f":"Dados_2.11.2019!B1385","v":"00:00:00"},{"$f":"Dados_2.11.2019!C1385","v":0},0,0,0]
[{"$f":"Dados_2.11.2019!A1386","v":"00:00:00"},{"$f":"Dados_2.11.2019!B1386","v":"00:00:00"},{"$f":"Dados_2.11.2019!C1386","v":0},0,0,0]
[{"$f":"Dados_2.11.2019!A1387","v":"00:00:00"},{"$f":"Dados_2.11.2019!B1387","v":"00:00:00"},{"$f":"Dados_2.11.2019!C1387","v":0},0,0,0]
[{"$f":"Dados_2.11.2019!A1388","v":"00:00:00"},{"$f":"Dados_2.11.2019!B1388","v":"00:00:00"},{"$f":"Dados_2.11.2019!C1388","v":0},0,0,0]
[{"$f":"Dados_2.11.2019!A1389","v":"00:00:00"},{"$f":"Dados_2.11.2019!B1389","v":"00:00:00"},{"$f":"Dados_2.11.2019!C1389","v":0},0,0,0]
[{"$f":"Dados_2.11.2019!A1390","v":"00:00:00"},{"$f":"Dados_2.11.2019!B1390","v":"00:00:00"},{"$f":"Dados_2.11.2019!C1390","v":0},0,0,0]
[{"$f":"Dados_2.11.2019!A1391","v":"00:00:00"},{"$f":"Dados_2.11.2019!B1391","v":"00:00:00"},{"$f":"Dados_2.11.2019!C1391","v":0},0,0,0]
[{"$f":"Dados_2.11.2019!A1392","v":"00:00:00"},{"$f":"Dados_2.11.2019!B1392","v":"00:00:00"},{"$f":"Dados_2.11.2019!C1392","v":0},0,0,0]
[{"$f":"Dados_2.11.2019!A1393","v":"00:00:00"},{"$f":"Dados_2.11.2019!B1393","v":"00:00:00"},{"$f":"Dados_2.11.2019!C1393","v":0},0,0,0]
[{"$f":"Dados_2.11.2019!A1394","v":"00:00:00"},{"$f":"Dados_2.11.2019!B1394","v":"00:00:00"},{"$f":"Dados_2.11.2019!C1394","v":0},0,0,0]
[{"$f":"Dados_2.11.2019!A1395","v":"00:00:00"},{"$f":"Dados_2.11.2019!B1395","v":"00:00:00"},{"$f":"Dados_2.11.2019!C1395","v":0},0,0,0]
[{"$f":"Dados_2.11.2019!A1396","v":"00:00:00"},{"$f":"Dados_2.11.2019!B1396","v":"00:00:00"},{"$f":"Dados_2.11.2019!C1396","v":0},0,0,0]
[{"$f":"Dados_2.11.2019!A1397","v":"00:00:00"},{"$f":"Dados_2.11.2019!B1397","v":"00:00:00"},{"$f":"Dados_2.11.2019!C1397","v":0},0,0,0]
[{"$f":"Dados_2.11.2019!A1398","v":"00:00:00"},{"$f":"Dados_2.11.2019!B1398","v":"00:00:00"},{"$f":"Dados_2.11.2019!C1398","v":0},0,0,0]
[{"$f":"Dados_2.11.2019!A1399","v":"00:00:00"},{"$f":"Dados_2.11.2019!B1399","v":"00:00:00"},{"$f":"Dados_2.11.2019!C1399","v":0},0,0,0]
[{"$f":"Dados_2.11.2019!A1400","v":"00:00:00"},{"$f":"Dados_2.11.2019!B1400","v":"00:00:00"},{"$f":"Dados_2.11.2019!C1400","v":0},0,0,0]
[{"$f":"Dados_2.11.2019!A1401","v":"00:00:00"},{"$f":"Dados_2.11.2019!B1401","v":"00:00:00"},{"$f":"Dados_2.11.2019!C1401","v":0},0,0,0]
[{"$f":"Dados_2.11.2019!A1402","v":"00:00:00"},{"$f":"Dados_2.11.2019!B1402","v":"00:00:00"},{"$f":"Dados_2.11.2019!C1402","v":0},0,0,0]
[{"$f":"Dados_2.11.2019!A1403","v":"00:00:00"},{"$f":"Dados_2.11.2019!B1403","v":"00:00:00"},{"$f":"Dados_2.11.2019!C1403","v":0},0,0,0]
[{"$f":"Dados_2.11.2019!A1404","v":"00:00:00"},{"$f":"Dados_2.11.2019!B1404","v":"00:00:00"},{"$f":"Dados_2.11.2019!C1404","v":0},0,0,0]
[{"$f":"Dados_2.11.2019!A1405","v":"00:00:00"},{"$f":"Dados_2.11.2019!B1405","v":"00:00:00"},{"$f":"Dados_2.11.2019!C1405","v":0},0,0,0]
[{"$f":"Dados_2.11.2019!A1406","v":"00:00:00"},{"$f":"Dados_2.11.2019!B1406","v":"00:00:00"},{"$f":"Dados_2.11.2019!C1406","v":0},0,0,0]
[{"$f":"Dados_2.11.2019!A1407","v":"00:00:00"},{"$f":"Dados_2.11.2019!B1407","v":"00:00:00"},{"$f":"Dados_2.11.2019!C1407","v":0},0,0,0]
[{"$f":"Dados_2.11.2019!A1408","v":"00:00:00"},{"$f":"Dados_2.11.2019!B1408","v":"00:00:00"},{"$f":"Dados_2.11.2019!C1408","v":0},0,0,0]
[{"$f":"Dados_2.11.2019!A1409","v":"00:00:00"},{"$f":"Dados_2.11.2019!B1409","v":"00:00:00"},{"$f":"Dados_2.11.2019!C1409","v":0},0,0,0]
[{"$f":"Dados_2.11.2019!A1410","v":"00:00:00"},{"$f":"Dados_2.11.2019!B1410","v":"00:00:00"},{"$f":"Dados_2.11.2019!C1410","v":0},0,0,0]
[{"$f":"Dados_2.11.2019!A1411","v":"00:00:00"},{"$f":"Dados_2.11.2019!B1411","v":"00:00:00"},{"$f":"Dados_2.11.2019!C1411","v":0},0,0,0]
[{"$f":"Dados_2.11.2019!A1412","v":"00:00:00"},{"$f":"Dados_2.11.2019!B1412","v":"00:00:00"},{"$f":"Dados_2.11.2019!C1412","v":0},0,0,0]
[{"$f":"Dados_2.11.2019!A1413","v":"00:00:00"},{"$f":"Dados_2.11.2019!B1413","v":"00:00:00"},{"$f":"Dados_2.11.2019!C1413","v":0},0,0,0]
[{"$f":"Dados_2.11.2019!A1414","v":"00:00:00"},{"$f":"Dados_2.11.2019!B1414","v":"00:00:00"},{"$f":"Dados_2.11.2019!C1414","v":0},0,0,0]
[{"$f":"Dados_2.11.2019!A1415","v":"00:00:00"},{"$f":"Dados_2.11.2019!B1415","v":"00:00:00"},{"$f":"Dados_2.11.2019!C1415","v":0},0,0,0]
[{"$f":"Dados_2.11.2019!A1416","v":"00:00:00"},{"$f":"Dados_2.11.2019!B1416","v":"00:00:00"},{"$f":"Dados_2.11.2019!C1416","v":0},0,0,0]
[{"$f":"Dados_2.11.2019!A1417","v":"00:00:00"},{"$f":"Dados_2.11.2019!B1417","v":"00:00:00"},{"$f":"Dados_2.11.2019!C1417","v":0},0,0,0]
[{"$f":"Dados_2.11.2019!A1418","v":"00:00:00"},{"$f":"Dados_2.11.2019!B1418","v":"00:00:00"},{"$f":"Dados_2.11.2019!C1418","v":0},0,0,0]
[{"$f":"Dados_2.11.2019!A1419","v":"00:00:00"},{"$f":"Dados_2.11.2019!B1419","v":"00:00:00"},{"$f":"Dados_2.11.2019!C1419","v":0},0,0,0]
[{"$f":"Dados_2.11.2019!A1420","v":"00:00:00"},{"$f":"Dados_2.11.2019!B1420","v":"00:00:00"},{"$f":"Dados_2.11.2019!C1420","v":0},0,0,0]
[{"$f":"Dados_2.11.2019!A1421","v":"00:00:00"},{"$f":"Dados_2.11.2019!B1421","v":"00:00:00"},{"$f":"Dados_2.11.2019!C1421","v":0},0,0,0]
[{"$f":"Dados_2.11.2019!A1422","v":"00:00:00"},{"$f":"Dados_2.11.2019!B1422","v":"00:00:00"},{"$f":"Dados_2.11.2019!C1422","v":0},0,0,0]
[{"$f":"Dados_2.11.2019!A1423","v":"00:00:00"},{"$f":"Dados_2.11.2019!B1423","v":"00:00:00"},{"$f":"Dados_2.11.2019!C1423","v":0},0,0,0]
[{"$f":"Dados_2.11.2019!A1424","v":"00:00:00"},{"$f":"Dados_2.11.2019!B1424","v":"00:00:00"},{"$f":"Dados_2.11.2019!C1424","v":0},0,0,0]
[{"$f":"Dados_2.11.2019!A1425","v":"00:00:00"},{"$f":"Dados_2.11.2019!B1425","v":"00:00:00"},{"$f":"Dados_2.11.2019!C1425","v":0},0,0,0]
[{"$f":"Dados_2.11.2019!A1426","v":"00:00:00"},{"$f":"Dados_2.11.2019!B1426","v":"00:00:00"},{"$f":"Dados_2.11.2019!C1426","v":0},0,0,0]
[{"$f":"Dados_2.11.2019!A1427","v":"00:00:00"},{"$f":"Dados_2.11.2019!B1427","v":"00:00:00"},{"$f":"Dados_2.11.2019!C1427","v":0},0,0,0]
[{"$f":"Dados_2.11.2019!A1428","v":"00:00:00"},{"$f":"Dados_2.11.2019!B1428","v":"00:00:00"},{"$f":"Dados_2.11.2019!C1428","v":0},0,0,0]
[{"$f":"Dados_2.11.2019!A1429","v":"00:00:00"},{"$f":"Dados_2.11.2019!B1429","v":"00:00:00"},{"$f":"Dados_2.11.2019!C1429","v":0},0,0,0]
[{"$f":"Dados_2.11.2019!A1430","v":"00:00:00"},{"$f":"Dados_2.11.2019!B1430","v":"00:00:00"},{"$f":"Dados_2.11.2019!C1430","v":0},0,0,0]
[{"$f":"Dados_2.11.2019!A1431","v":"00:00:00"},{"$f":"Dados_2.11.2019!B1431","v":"00:00:00"},{"$f":"Dados_2.11.2019!C1431","v":0},0,0,0]
[{"$f":"Dados_2.11.2019!A1432","v":"00:00:00"},{"$f":"Dados_2.11.2019!B1432","v":"00:00:00"},{"$f":"Dados_2.11.2019!C1432","v":0},0,0,0]
[{"$f":"Dados_2.11.2019!A1433","v":"00:00:00"},{"$f":"Dados_2.11.2019!B1433","v":"00:00:00"},{"$f":"Dados_2.11.2019!C1433","v":0},0,0,0]
[{"$f":"Dados_2.11.2019!A1434","v":"00:00:00"},{"$f":"Dados_2.11.2019!B1434","v":"00:00:00"},{"$f":"Dados_2.11.2019!C1434","v":0},0,0,0]
[{"$f":"Dados_2.11.2019!A1435","v":"00:00:00"},{"$f":"Dados_2.11.2019!B1435","v":"00:00:00"},{"$f":"Dados_2.11.2019!C1435","v":0},0,0,0]
[{"$f":"Dados_2.11.2019!A1436","v":"00:00:00"},{"$f":"Dados_2.11.2019!B1436","v":"00:00:00"},{"$f":"Dados_2.11.2019!C1436","v":0},0,0,0]
[{"$f":"Dados_2.11.2019!A1437","v":"00:00:00"},{"$f":"Dados_2.11.2019!B1437","v":"00:00:00"},{"$f":"Dados_2.11.2019!C1437","v":0},0,0,0]
[{"$f":"Dados_2.11.2019!A1438","v":"00:00:00"},{"$f":"Dados_2.11.2019!B1438","v":"00:00:00"},{"$f":"Dados_2.11.2019!C1438","v":0},0,0,0]
[{"$f":"Dados_2.11.2019!A1439","v":"00:00:00"},{"$f":"Dados_2.11.2019!B1439","v":"00:00:00"},{"$f":"Dados_2.11.2019!C1439","v":0},0,0,0]
[{"$f":"Dados_2.11.2019!A1440","v":"00:00:00"},{"$f":"Dados_2.11.2019!B1440","v":"00:00:00"},{"$f":"Dados_2.11.2019!C1440","v":0},{"$f":"IF((0.0005*(C1440^2)+0.0058*(C1440)-0.055)<0,0,IF((0.0005*(C1440^2)+0.0058*(C1440)-0.055)>1,1,(0.0005*(C1440^2)+0.0058*(C1440)-0.055)))","v":0},{"$f":"HOUR(B1440)","v":0},{"$f":"MINUTE(B1440)","v":0}]
[{"$f":"Dados_2.11.2019!A1441","v":"00:00:00"},{"$f":"Dados_2.11.2019!B1441","v":"00:00:00"},{"$f":"Dados_2.11.2019!C1441","v":0},0,0,0]
[{"$f":"Dados_2.11.2019!A1442","v":"00:00:00"},{"$f":"Dados_2.11.2019!B1442","v":"00:00:00"},{"$f":"Dados_2.11.2019!C1442","v":0},0,0,0]
[{"$f":"Dados_2.11.2019!A1443","v":"00:00:00"},{"$f":"Dados_2.11.2019!B1443","v":"00:00:00"},{"$f":"Dados_2.11.2019!C1443","v":0},0,0,0]
[{"$f":"Dados_2.11.2019!A1444","v":"00:00:00"},{"$f":"Dados_2.11.2019!B1444","v":"00:00:00"},{"$f":"Dados_2.11.2019!C1444","v":0},0,0,0]
[{"$f":"Dados_2.11.2019!A1445","v":"00:00:00"},{"$f":"Dados_2.11.2019!B1445","v":"00:00:00"},{"$f":"Dados_2.11.2019!C1445","v":0},0,0,0]
[{"$f":"Dados_2.11.2019!A1446","v":"00:00:00"},{"$f":"Dados_2.11.2019!B1446","v":"00:00:00"},{"$f":"Dados_2.11.2019!C1446","v":0},0,0,0]
[{"$f":"Dados_2.11.2019!A1447","v":"00:00:00"},{"$f":"Dados_2.11.2019!B1447","v":"00:00:00"},{"$f":"Dados_2.11.2019!C1447","v":0},0,0,0]
[{"$f":"Dados_2.11.2019!A1448","v":"00:00:00"},{"$f":"Dados_2.11.2019!B1448","v":"00:00:00"},{"$f":"Dados_2.11.2019!C1448","v":0},0,0,0]
[{"$f":"Dados_2.11.2019!A1449","v":"00:00:00"},{"$f":"Dados_2.11.2019!B1449","v":"00:00:00"},{"$f":"Dados_2.11.2019!C1449","v":0},0,0,0]
[{"$f":"Dados_2.11.2019!A1450","v":"00:00:00"},{"$f":"Dados_2.11.2019!B1450","v":"00:00:00"},{"$f":"Dados_2.11.2019!C1450","v":0},0,0,0]
[{"$f":"Dados_2.11.2019!A1451","v":"00:00:00"},{"$f":"Dados_2.11.2019!B1451","v":"00:00:00"},{"$f":"Dados_2.11.2019!C1451","v":0},0,0,0]
[{"$f":"Dados_2.11.2019!A1452","v":"00:00:00"},{"$f":"Dados_2.11.2019!B1452","v":"00:00:00"},{"$f":"Dados_2.11.2019!C1452","v":0},0,0,0]
[{"$f":"Dados_2.11.2019!A1453","v":"00:00:00"},{"$f":"Dados_2.11.2019!B1453","v":"00:00:00"},{"$f":"Dados_2.11.2019!C1453","v":0},0,0,0]
[{"$f":"Dados_2.11.2019!A1454","v":"00:00:00"},{"$f":"Dados_2.11.2019!B1454","v":"00:00:00"},{"$f":"Dados_2.11.2019!C1454","v":0},0,0,0]
[{"$f":"Dados_2.11.2019!A1455","v":"00:00:00"},{"$f":"Dados_2.11.2019!B1455","v":"00:00:00"},{"$f":"Dados_2.11.2019!C1455","v":0},0,0,0]
[{"$f":"Dados_2.11.2019!A1456","v":"00:00:00"},{"$f":"Dados_2.11.2019!B1456","v":"00:00:00"},{"$f":"Dados_2.11.2019!C1456","v":0},0,0,0]
[{"$f":"Dados_2.11.2019!A1457","v":"00:00:00"},{"$f":"Dados_2.11.2019!B1457","v":"00:00:00"},{"$f":"Dados_2.11.2019!C1457","v":0},0,0,0]
[{"$f":"Dados_2.11.2019!A1458","v":"00:00:00"},{"$f":"Dados_2.11.2019!B1458","v":"00:00:00"},{"$f":"Dados_2.11.2019!C1458","v":0},0,0,0]
[{"$f":"Dados_2.11.2019!A1459","v":"00:00:00"},{"$f":"Dados_2.11.2019!B1459","v":"00:00:00"},{"$f":"Dados_2.11.2019!C1459","v":0},0,0,0]
[{"$f":"Dados_2.11.2019!A1460","v":"00:00:00"},{"$f":"Dados_2.11.2019!B1460","v":"00:00:00"},{"$f":"Dados_2.11.2019!C1460","v":0},0,0,0]
[{"$f":"Dados_2.11.2019!A1461","v":"00:00:00"},{"$f":"Dados_2.11.2019!B1461","v":"00:00:00"},{"$f":"Dados_2.11.2019!C1461","v":0},0,0,0]
[{"$f":"Dados_2.11.2019!A1462","v":"00:00:00"},{"$f":"Dados_2.11.2019!B1462","v":"00:00:00"},{"$f":"Dados_2.11.2019!C1462","v":0},0,0,0]
[{"$f":"Dados_2.11.2019!A1463","v":"00:00:00"},{"$f":"Dados_2.11.2019!B1463","v":"00:00:00"},{"$f":"Dados_2.11.2019!C1463","v":0},0,0,0]
[{"$f":"Dados_2.11.2019!A1464","v":"00:00:00"},{"$f":"Dados_2.11.2019!B1464","v":"00:00:00"},{"$f":"Dados_2.11.2019!C1464","v":0},0,0,0]
[{"$f":"Dados_2.11.2019!A1465","v":"00:00:00"},{"$f":"Dados_2.11.2019!B1465","v":"00:00:00"},{"$f":"Dados_2.11.2019!C1465","v":0},0,0,0]
[{"$f":"Dados_2.11.2019!A1466","v":"00:00:00"},{"$f":"Dados_2.11.2019!B1466","v":"00:00:00"},{"$f":"Dados_2.11.2019!C1466","v":0},0,0,0]
[{"$f":"Dados_2.11.2019!A1467","v":"00:00:00"},{"$f":"Dados_2.11.2019!B1467","v":"00:00:00"},{"$f":"Dados_2.11.2019!C1467","v":0},0,0,0]
[{"$f":"Dados_2.11.2019!A1468","v":"00:00:00"},{"$f":"Dados_2.11.2019!B1468","v":"00:00:00"},{"$f":"Dados_2.11.2019!C1468","v":0},0,0,0]
[{"$f":"Dados_2.11.2019!A1469","v":"00:00:00"},{"$f":"Dados_2.11.2019!B1469","v":"00:00:00"},{"$f":"Dados_2.11.2019!C1469","v":0},0,0,0]
[{"$f":"Dados_2.11.2019!A1470","v":"00:00:00"},{"$f":"Dados_2.11.2019!B1470","v":"00:00:00"},{"$f":"Dados_2.11.2019!C1470","v":0},0,0,0]
[{"$f":"Dados_2.11.2019!A1471","v":"00:00:00"},{"$f":"Dados_2.11.2019!B1471","v":"00:00:00"},{"$f":"Dados_2.11.2019!C1471","v":0},0,0,0]
[{"$f":"Dados_2.11.2019!A1472","v":"00:00:00"},{"$f":"Dados_2.11.2019!B1472","v":"00:00:00"},{"$f":"Dados_2.11.2019!C1472","v":0},0,0,0]
[{"$f":"Dados_2.11.2019!A1473","v":"00:00:00"},{"$f":"Dados_2.11.2019!B1473","v":"00:00:00"},{"$f":"Dados_2.11.2019!C1473","v":0},0,0,0]
[{"$f":"Dados_2.11.2019!A1474","v":"00:00:00"},{"$f":"Dados_2.11.2019!B1474","v":"00:00:00"},{"$f":"Dados_2.11.2019!C1474","v":0},0,0,0]
[{"$f":"Dados_2.11.2019!A1475","v":"00:00:00"},{"$f":"Dados_2.11.2019!B1475","v":"00:00:00"},{"$f":"Dados_2.11.2019!C1475","v":0},0,0,0]
[{"$f":"Dados_2.11.2019!A1476","v":"00:00:00"},{"$f":"Dados_2.11.2019!B1476","v":"00:00:00"},{"$f":"Dados_2.11.2019!C1476","v":0},0,0,0]
[{"$f":"Dados_2.11.2019!A1477","v":"00:00:00"},{"$f":"Dados_2.11.2019!B1477","v":"00:00:00"},{"$f":"Dados_2.11.2019!C1477","v":0},0,0,0]
[{"$f":"Dados_2.11.2019!A1478","v":"00:00:00"},{"$f":"Dados_2.11.2019!B1478","v":"00:00:00"},{"$f":"Dados_2.11.2019!C1478","v":0},0,0,0]
[{"$f":"Dados_2.11.2019!A1479","v":"00:00:00"},{"$f":"Dados_2.11.2019!B1479","v":"00:00:00"},{"$f":"Dados_2.11.2019!C1479","v":0},0,0,0]
[{"$f":"Dados_2.11.2019!A1480","v":"00:00:00"},{"$f":"Dados_2.11.2019!B1480","v":"00:00:00"},{"$f":"Dados_2.11.2019!C1480","v":0},0,0,0]
[{"$f":"Dados_2.11.2019!A1481","v":"00:00:00"},{"$f":"Dados_2.11.2019!B1481","v":"00:00:00"},{"$f":"Dados_2.11.2019!C1481","v":0},0,0,0]
[{"$f":"Dados_2.11.2019!A1482","v":"00:00:00"},{"$f":"Dados_2.11.2019!B1482","v":"00:00:00"},{"$f":"Dados_2.11.2019!C1482","v":0},0,0,0]
[{"$f":"Dados_2.11.2019!A1483","v":"00:00:00"},{"$f":"Dados_2.11.2019!B1483","v":"00:00:00"},{"$f":"Dados_2.11.2019!C1483","v":0},0,0,0]
[{"$f":"Dados_2.11.2019!A1484","v":"00:00:00"},{"$f":"Dados_2.11.2019!B1484","v":"00:00:00"},{"$f":"Dados_2.11.2019!C1484","v":0},0,0,0]
[{"$f":"Dados_2.11.2019!A1485","v":"00:00:00"},{"$f":"Dados_2.11.2019!B1485","v":"00:00:00"},{"$f":"Dados_2.11.2019!C1485","v":0},0,0,0]
[{"$f":"Dados_2.11.2019!A1486","v":"00:00:00"},{"$f":"Dados_2.11.2019!B1486","v":"00:00:00"},{"$f":"Dados_2.11.2019!C1486","v":0},0,0,0]
[{"$f":"Dados_2.11.2019!A1487","v":"00:00:00"},{"$f":"Dados_2.11.2019!B1487","v":"00:00:00"},{"$f":"Dados_2.11.2019!C1487","v":0},0,0,0]
[{"$f":"Dados_2.11.2019!A1488","v":"00:00:00"},{"$f":"Dados_2.11.2019!B1488","v":"00:00:00"},{"$f":"Dados_2.11.2019!C1488","v":0},0,0,0]
[{"$f":"Dados_2.11.2019!A1489","v":"00:00:00"},{"$f":"Dados_2.11.2019!B1489","v":"00:00:00"},{"$f":"Dados_2.11.2019!C1489","v":0},0,0,0]
[{"$f":"Dados_2.11.2019!A1490","v":"00:00:00"},{"$f":"Dados_2.11.2019!B1490","v":"00:00:00"},{"$f":"Dados_2.11.2019!C1490","v":0},0,0,0]
[{"$f":"Dados_2.11.2019!A1491","v":"00:00:00"},{"$f":"Dados_2.11.2019!B1491","v":"00:00:00"},{"$f":"Dados_2.11.2019!C1491","v":0},0,0,0]
[{"$f":"Dados_2.11.2019!A1492","v":"00:00:00"},{"$f":"Dados_2.11.2019!B1492","v":"00:00:00"},{"$f":"Dados_2.11.2019!C1492","v":0},0,0,0]
[{"$f":"Dados_2.11.2019!A1493","v":"00:00:00"},{"$f":"Dados_2.11.2019!B1493","v":"00:00:00"},{"$f":"Dados_2.11.2019!C1493","v":0},0,0,0]
[{"$f":"Dados_2.11.2019!A1494","v":"00:00:00"},{"$f":"Dados_2.11.2019!B1494","v":"00:00:00"},{"$f":"Dados_2.11.2019!C1494","v":0},0,0,0]
[{"$f":"Dados_2.11.2019!A1495","v":"00:00:00"},{"$f":"Dados_2.11.2019!B1495","v":"00:00:00"},{"$f":"Dados_2.11.2019!C1495","v":0},0,0,0]
[{"$f":"Dados_2.11.2019!A1496","v":"00:00:00"},{"$f":"Dados_2.11.2019!B1496","v":"00:00:00"},{"$f":"Dados_2.11.2019!C1496","v":0},0,0,0]
[{"$f":"Dados_2.11.2019!A1497","v":"00:00:00"},{"$f":"Dados_2.11.2019!B1497","v":"00:00:00"},{"$f":"Dados_2.11.2019!C1497","v":0},0,0,0]
[{"$f":"Dados_2.11.2019!A1498","v":"00:00:00"},{"$f":"Dados_2.11.2019!B1498","v":"00:00:00"},{"$f":"Dados_2.11.2019!C1498","v":0},0,0,0]
[{"$f":"Dados_2.11.2019!A1499","v":"00:00:00"},{"$f":"Dados_2.11.2019!B1499","v":"00:00:00"},{"$f":"Dados_2.11.2019!C1499","v":0},0,0,0]
[{"$f":"Dados_2.11.2019!A1500","v":"00:00:00"},{"$f":"Dados_2.11.2019!B1500","v":"00:00:00"},{"$f":"Dados_2.11.2019!C1500","v":0},0,0,0]
[{"$f":"Dados_2.11.2019!A1501","v":"00:00:00"},{"$f":"Dados_2.11.2019!B1501","v":"00:00:00"},{"$f":"Dados_2.11.2019!C1501","v":0},0,0,0]
[{"$f":"Dados_2.11.2019!A1502","v":"00:00:00"},{"$f":"Dados_2.11.2019!B1502","v":"00:00:00"},{"$f":"Dados_2.11.2019!C1502","v":0},0,0,0]
[{"$f":"Dados_2.11.2019!A1503","v":"00:00:00"},{"$f":"Dados_2.11.2019!B1503","v":"00:00:00"},{"$f":"Dados_2.11.2019!C1503","v":0},0,0,0]
[{"$f":"Dados_2.11.2019!A1504","v":"00:00:00"},{"$f":"Dados_2.11.2019!B1504","v":"00:00:00"},{"$f":"Dados_2.11.2019!C1504","v":0},{"$f":"IF((0.0005*(C1504^2)+0.0058*(C1504)-0.055)<0,0,IF((0.0005*(C1504^2)+0.0058*(C1504)-0.055)>1,1,(0.0005*(C1504^2)+0.0058*(C1504)-0.055)))","v":0},{"$f":"HOUR(B1504)","v":0},{"$f":"MINUTE(B1504)","v":0}]
[{"$f":"Dados_2.11.2019!A1505","v":"00:00:00"},{"$f":"Dados_2.11.2019!B1505","v":"00:00:00"},{"$f":"Dados_2.11.2019!C1505","v":0},0,0,0]
[{"$f":"Dados_2.11.2019!A1506","v":"00:00:00"},{"$f":"Dados_2.11.2019!B1506","v":"00:00:00"},{"$f":"Dados_2.11.2019!C1506","v":0},0,0,0]
[{"$f":"Dados_2.11.2019!A1507","v":"00:00:00"},{"$f":"Dados_2.11.2019!B1507","v":"00:00:00"},{"$f":"Dados_2.11.2019!C1507","v":0},0,0,0]
[{"$f":"Dados_2.11.2019!A1508","v":"00:00:00"},{"$f":"Dados_2.11.2019!B1508","v":"00:00:00"},{"$f":"Dados_2.11.2019!C1508","v":0},0,0,0]
[{"$f":"Dados_2.11.2019!A1509","v":"00:00:00"},{"$f":"Dados_2.11.2019!B1509","v":"00:00:00"},{"$f":"Dados_2.11.2019!C1509","v":0},0,0,0]
[{"$f":"Dados_2.11.2019!A1510","v":"00:00:00"},{"$f":"Dados_2.11.2019!B1510","v":"00:00:00"},{"$f":"Dados_2.11.2019!C1510","v":0},0,0,0]
[{"$f":"Dados_2.11.2019!A1511","v":"00:00:00"},{"$f":"Dados_2.11.2019!B1511","v":"00:00:00"},{"$f":"Dados_2.11.2019!C1511","v":0},0,0,0]
[{"$f":"Dados_2.11.2019!A1512","v":"00:00:00"},{"$f":"Dados_2.11.2019!B1512","v":"00:00:00"},{"$f":"Dados_2.11.2019!C1512","v":0},0,0,0]
[{"$f":"Dados_2.11.2019!A1513","v":"00:00:00"},{"$f":"Dados_2.11.2019!B1513","v":"00:00:00"},{"$f":"Dados_2.11.2019!C1513","v":0},0,0,0]
[{"$f":"Dados_2.11.2019!A1514","v":"00:00:00"},{"$f":"Dados_2.11.2019!B1514","v":"00:00:00"},{"$f":"Dados_2.11.2019!C1514","v":0},0,0,0]
[{"$f":"Dados_2.11.2019!A1515","v":"00:00:00"},{"$f":"Dados_2.11.2019!B1515","v":"00:00:00"},{"$f":"Dados_2.11.2019!C1515","v":0},0,0,0]
[{"$f":"Dados_2.11.2019!A1516","v":"00:00:00"},{"$f":"Dados_2.11.2019!B1516","v":"00:00:00"},{"$f":"Dados_2.11.2019!C1516","v":0},0,0,0]
[{"$f":"Dados_2.11.2019!A1517","v":"00:00:00"},{"$f":"Dados_2.11.2019!B1517","v":"00:00:00"},{"$f":"Dados_2.11.2019!C1517","v":0},0,0,0]
[{"$f":"Dados_2.11.2019!A1518","v":"00:00:00"},{"$f":"Dados_2.11.2019!B1518","v":"00:00:00"},{"$f":"Dados_2.11.2019!C1518","v":0},0,0,0]
[{"$f":"Dados_2.11.2019!A1519","v":"00:00:00"},{"$f":"Dados_2.11.2019!B1519","v":"00:00:00"},{"$f":"Dados_2.11.2019!C1519","v":0},0,0,0]
[{"$f":"Dados_2.11.2019!A1520","v":"00:00:00"},{"$f":"Dados_2.11.2019!B1520","v":"00:00:00"},{"$f":"Dados_2.11.2019!C1520","v":0},0,0,0]
[{"$f":"Dados_2.11.2019!A1521","v":"00:00:00"},{"$f":"Dados_2.11.2019!B1521","v":"00:00:00"},{"$f":"Dados_2.11.2019!C1521","v":0},0,0,0]
[{"$f":"Dados_2.11.2019!A1522","v":"00:00:00"},{"$f":"Dados_2.11.2019!B1522","v":"00:00:00"},{"$f":"Dados_2.11.2019!C1522","v":0},0,0,0]
[{"$f":"Dados_2.11.2019!A1523","v":"00:00:00"},{"$f":"Dados_2.11.2019!B1523","v":"00:00:00"},{"$f":"Dados_2.11.2019!C1523","v":0},0,0,0]
[{"$f":"Dados_2.11.2019!A1524","v":"00:00:00"},{"$f":"Dados_2.11.2019!B1524","v":"00:00:00"},{"$f":"Dados_2.11.2019!C1524","v":0},0,0,0]
[{"$f":"Dados_2.11.2019!A1525","v":"00:00:00"},{"$f":"Dados_2.11.2019!B1525","v":"00:00:00"},{"$f":"Dados_2.11.2019!C1525","v":0},0,0,0]
[{"$f":"Dados_2.11.2019!A1526","v":"00:00:00"},{"$f":"Dados_2.11.2019!B1526","v":"00:00:00"},{"$f":"Dados_2.11.2019!C1526","v":0},0,0,0]
[{"$f":"Dados_2.11.2019!A1527","v":"00:00:00"},{"$f":"Dados_2.11.2019!B1527","v":"00:00:00"},{"$f":"Dados_2.11.2019!C1527","v":0},0,0,0]
[{"$f":"Dados_2.11.2019!A1528","v":"00:00:00"},{"$f":"Dados_2.11.2019!B1528","v":"00:00:00"},{"$f":"Dados_2.11.2019!C1528","v":0},0,0,0]
[{"$f":"Dados_2.11.2019!A1529","v":"00:00:00"},{"$f":"Dados_2.11.2019!B1529","v":"00:00:00"},{"$f":"Dados_2.11.2019!C1529","v":0},0,0,0]
[{"$f":"Dados_2.11.2019!A1530","v":"00:00:00"},{"$f":"Dados_2.11.2019!B1530","v":"00:00:00"},{"$f":"Dados_2.11.2019!C1530","v":0},0,0,0]
[{"$f":"Dados_2.11.2019!A1531","v":"00:00:00"},{"$f":"Dados_2.11.2019!B1531","v":"00:00:00"},{"$f":"Dados_2.11.2019!C1531","v":0},0,0,0]
[{"$f":"Dados_2.11.2019!A1532","v":"00:00:00"},{"$f":"Dados_2.11.2019!B1532","v":"00:00:00"},{"$f":"Dados_2.11.2019!C1532","v":0},0,0,0]
[{"$f":"Dados_2.11.2019!A1533","v":"00:00:00"},{"$f":"Dados_2.11.2019!B1533","v":"00:00:00"},{"$f":"Dados_2.11.2019!C1533","v":0},0,0,0]
[{"$f":"Dados_2.11.2019!A1534","v":"00:00:00"},{"$f":"Dados_2.11.2019!B1534","v":"00:00:00"},{"$f":"Dados_2.11.2019!C1534","v":0},0,0,0]
[{"$f":"Dados_2.11.2019!A1535","v":"00:00:00"},{"$f":"Dados_2.11.2019!B1535","v":"00:00:00"},{"$f":"Dados_2.11.2019!C1535","v":0},0,0,0]
[{"$f":"Dados_2.11.2019!A1536","v":"00:00:00"},{"$f":"Dados_2.11.2019!B1536","v":"00:00:00"},{"$f":"Dados_2.11.2019!C1536","v":0},0,0,0]
[{"$f":"Dados_2.11.2019!A1537","v":"00:00:00"},{"$f":"Dados_2.11.2019!B1537","v":"00:00:00"},{"$f":"Dados_2.11.2019!C1537","v":0},0,0,0]
[{"$f":"Dados_2.11.2019!A1538","v":"00:00:00"},{"$f":"Dados_2.11.2019!B1538","v":"00:00:00"},{"$f":"Dados_2.11.2019!C1538","v":0},0,0,0]
[{"$f":"Dados_2.11.2019!A1539","v":"00:00:00"},{"$f":"Dados_2.11.2019!B1539","v":"00:00:00"},{"$f":"Dados_2.11.2019!C1539","v":0},0,0,0]
[{"$f":"Dados_2.11.2019!A1540","v":"00:00:00"},{"$f":"Dados_2.11.2019!B1540","v":"00:00:00"},{"$f":"Dados_2.11.2019!C1540","v":0},0,0,0]
[{"$f":"Dados_2.11.2019!A1541","v":"00:00:00"},{"$f":"Dados_2.11.2019!B1541","v":"00:00:00"},{"$f":"Dados_2.11.2019!C1541","v":0},0,0,0]
[{"$f":"Dados_2.11.2019!A1542","v":"00:00:00"},{"$f":"Dados_2.11.2019!B1542","v":"00:00:00"},{"$f":"Dados_2.11.2019!C1542","v":0},0,0,0]
[{"$f":"Dados_2.11.2019!A1543","v":"00:00:00"},{"$f":"Dados_2.11.2019!B1543","v":"00:00:00"},{"$f":"Dados_2.11.2019!C1543","v":0},0,0,0]
[{"$f":"Dados_2.11.2019!A1544","v":"00:00:00"},{"$f":"Dados_2.11.2019!B1544","v":"00:00:00"},{"$f":"Dados_2.11.2019!C1544","v":0},0,0,0]
[{"$f":"Dados_2.11.2019!A1545","v":"00:00:00"},{"$f":"Dados_2.11.2019!B1545","v":"00:00:00"},{"$f":"Dados_2.11.2019!C1545","v":0},0,0,0]
[{"$f":"Dados_2.11.2019!A1546","v":"00:00:00"},{"$f":"Dados_2.11.2019!B1546","v":"00:00:00"},{"$f":"Dados_2.11.2019!C1546","v":0},0,0,0]
[{"$f":"Dados_2.11.2019!A1547","v":"00:00:00"},{"$f":"Dados_2.11.2019!B1547","v":"00:00:00"},{"$f":"Dados_2.11.2019!C1547","v":0},0,0,0]
[{"$f":"Dados_2.11.2019!A1548","v":"00:00:00"},{"$f":"Dados_2.11.2019!B1548","v":"00:00:00"},{"$f":"Dados_2.11.2019!C1548","v":0},0,0,0]
[{"$f":"Dados_2.11.2019!A1549","v":"00:00:00"},{"$f":"Dados_2.11.2019!B1549","v":"00:00:00"},{"$f":"Dados_2.11.2019!C1549","v":0},0,0,0]
[{"$f":"Dados_2.11.2019!A1550","v":"00:00:00"},{"$f":"Dados_2.11.2019!B1550","v":"00:00:00"},{"$f":"Dados_2.11.2019!C1550","v":0},0,0,0]
[{"$f":"Dados_2.11.2019!A1551","v":"00:00:00"},{"$f":"Dados_2.11.2019!B1551","v":"00:00:00"},{"$f":"Dados_2.11.2019!C1551","v":0},0,0,0]
[{"$f":"Dados_2.11.2019!A1552","v":"00:00:00"},{"$f":"Dados_2.11.2019!B1552","v":"00:00:00"},{"$f":"Dados_2.11.2019!C1552","v":0},0,0,0]
[{"$f":"Dados_2.11.2019!A1553","v":"00:00:00"},{"$f":"Dados_2.11.2019!B1553","v":"00:00:00"},{"$f":"Dados_2.11.2019!C1553","v":0},0,0,0]
[{"$f":"Dados_2.11.2019!A1554","v":"00:00:00"},{"$f":"Dados_2.11.2019!B1554","v":"00:00:00"},{"$f":"Dados_2.11.2019!C1554","v":0},0,0,0]
[{"$f":"Dados_2.11.2019!A1555","v":"00:00:00"},{"$f":"Dados_2.11.2019!B1555","v":"00:00:00"},{"$f":"Dados_2.11.2019!C1555","v":0},0,0,0]
[{"$f":"Dados_2.11.2019!A1556","v":"00:00:00"},{"$f":"Dados_2.11.2019!B1556","v":"00:00:00"},{"$f":"Dados_2.11.2019!C1556","v":0},0,0,0]
[{"$f":"Dados_2.11.2019!A1557","v":"00:00:00"},{"$f":"Dados_2.11.2019!B1557","v":"00:00:00"},{"$f":"Dados_2.11.2019!C1557","v":0},0,0,0]
[{"$f":"Dados_2.11.2019!A1558","v":"00:00:00"},{"$f":"Dados_2.11.2019!B1558","v":"00:00:00"},{"$f":"Dados_2.11.2019!C1558","v":0},0,0,0]
[{"$f":"Dados_2.11.2019!A1559","v":"00:00:00"},{"$f":"Dados_2.11.2019!B1559","v":"00:00:00"},{"$f":"Dados_2.11.2019!C1559","v":0},0,0,0]
[{"$f":"Dados_2.11.2019!A1560","v":"00:00:00"},{"$f":"Dados_2.11.2019!B1560","v":"00:00:00"},{"$f":"Dados_2.11.2019!C1560","v":0},0,0,0]
[{"$f":"Dados_2.11.2019!A1561","v":"00:00:00"},{"$f":"Dados_2.11.2019!B1561","v":"00:00:00"},{"$f":"Dados_2.11.2019!C1561","v":0},0,0,0]
[{"$f":"Dados_2.11.2019!A1562","v":"00:00:00"},{"$f":"Dados_2.11.2019!B1562","v":"00:00:00"},{"$f":"Dados_2.11.2019!C1562","v":0},0,0,0]
[{"$f":"Dados_2.11.2019!A1563","v":"00:00:00"},{"$f":"Dados_2.11.2019!B1563","v":"00:00:00"},{"$f":"Dados_2.11.2019!C1563","v":0},0,0,0]
[{"$f":"Dados_2.11.2019!A1564","v":"00:00:00"},{"$f":"Dados_2.11.2019!B1564","v":"00:00:00"},{"$f":"Dados_2.11.2019!C1564","v":0},0,0,0]
[{"$f":"Dados_2.11.2019!A1565","v":"00:00:00"},{"$f":"Dados_2.11.2019!B1565","v":"00:00:00"},{"$f":"Dados_2.11.2019!C1565","v":0},0,0,0]
[{"$f":"Dados_2.11.2019!A1566","v":"00:00:00"},{"$f":"Dados_2.11.2019!B1566","v":"00:00:00"},{"$f":"Dados_2.11.2019!C1566","v":0},0,0,0]
[{"$f":"Dados_2.11.2019!A1567","v":"00:00:00"},{"$f":"Dados_2.11.2019!B1567","v":"00:00:00"},{"$f":"Dados_2.11.2019!C1567","v":0},0,0,0]
[{"$f":"Dados_2.11.2019!A1568","v":"00:00:00"},{"$f":"Dados_2.11.2019!B1568","v":"00:00:00"},{"$f":"Dados_2.11.2019!C1568","v":0},{"$f":"IF((0.0005*(C1568^2)+0.0058*(C1568)-0.055)<0,0,IF((0.0005*(C1568^2)+0.0058*(C1568)-0.055)>1,1,(0.0005*(C1568^2)+0.0058*(C1568)-0.055)))","v":0},{"$f":"HOUR(B1568)","v":0},{"$f":"MINUTE(B1568)","v":0}]
[{"$f":"Dados_2.11.2019!A1569","v":"00:00:00"},{"$f":"Dados_2.11.2019!B1569","v":"00:00:00"},{"$f":"Dados_2.11.2019!C1569","v":0},0,0,0]
[{"$f":"Dados_2.11.2019!A1570","v":"00:00:00"},{"$f":"Dados_2.11.2019!B1570","v":"00:00:00"},{"$f":"Dados_2.11.2019!C1570","v":0},0,0,0]
[{"$f":"Dados_2.11.2019!A1571","v":"00:00:00"},{"$f":"Dados_2.11.2019!B1571","v":"00:00:00"},{"$f":"Dados_2.11.2019!C1571","v":0},0,0,0]
[{"$f":"Dados_2.11.2019!A1572","v":"00:00:00"},{"$f":"Dados_2.11.2019!B1572","v":"00:00:00"},{"$f":"Dados_2.11.2019!C1572","v":0},0,0,0]
[{"$f":"Dados_2.11.2019!A1573","v":"00:00:00"},{"$f":"Dados_2.11.2019!B1573","v":"00:00:00"},{"$f":"Dados_2.11.2019!C1573","v":0},0,0,0]
[{"$f":"Dados_2.11.2019!A1574","v":"00:00:00"},{"$f":"Dados_2.11.2019!B1574","v":"00:00:00"},{"$f":"Dados_2.11.2019!C1574","v":0},0,0,0]
[{"$f":"Dados_2.11.2019!A1575","v":"00:00:00"},{"$f":"Dados_2.11.2019!B1575","v":"00:00:00"},{"$f":"Dados_2.11.2019!C1575","v":0},0,0,0]
[{"$f":"Dados_2.11.2019!A1576","v":"00:00:00"},{"$f":"Dados_2.11.2019!B1576","v":"00:00:00"},{"$f":"Dados_2.11.2019!C1576","v":0},0,0,0]
[{"$f":"Dados_2.11.2019!A1577","v":"00:00:00"},{"$f":"Dados_2.11.2019!B1577","v":"00:00:00"},{"$f":"Dados_2.11.2019!C1577","v":0},0,0,0]
[{"$f":"Dados_2.11.2019!A1578","v":"00:00:00"},{"$f":"Dados_2.11.2019!B1578","v":"00:00:00"},{"$f":"Dados_2.11.2019!C1578","v":0},0,0,0]
[{"$f":"Dados_2.11.2019!A1579","v":"00:00:00"},{"$f":"Dados_2.11.2019!B1579","v":"00:00:00"},{"$f":"Dados_2.11.2019!C1579","v":0},0,0,0]
[{"$f":"Dados_2.11.2019!A1580","v":"00:00:00"},{"$f":"Dados_2.11.2019!B1580","v":"00:00:00"},{"$f":"Dados_2.11.2019!C1580","v":0},0,0,0]
[{"$f":"Dados_2.11.2019!A1581","v":"00:00:00"},{"$f":"Dados_2.11.2019!B1581","v":"00:00:00"},{"$f":"Dados_2.11.2019!C1581","v":0},0,0,0]
[{"$f":"Dados_2.11.2019!A1582","v":"00:00:00"},{"$f":"Dados_2.11.2019!B1582","v":"00:00:00"},{"$f":"Dados_2.11.2019!C1582","v":0},0,0,0]
[{"$f":"Dados_2.11.2019!A1583","v":"00:00:00"},{"$f":"Dados_2.11.2019!B1583","v":"00:00:00"},{"$f":"Dados_2.11.2019!C1583","v":0},0,0,0]
[{"$f":"Dados_2.11.2019!A1584","v":"00:00:00"},{"$f":"Dados_2.11.2019!B1584","v":"00:00:00"},{"$f":"Dados_2.11.2019!C1584","v":0},0,0,0]
[{"$f":"Dados_2.11.2019!A1585","v":"00:00:00"},{"$f":"Dados_2.11.2019!B1585","v":"00:00:00"},{"$f":"Dados_2.11.2019!C1585","v":0},0,0,0]
[{"$f":"Dados_2.11.2019!A1586","v":"00:00:00"},{"$f":"Dados_2.11.2019!B1586","v":"00:00:00"},{"$f":"Dados_2.11.2019!C1586","v":0},0,0,0]
[{"$f":"Dados_2.11.2019!A1587","v":"00:00:00"},{"$f":"Dados_2.11.2019!B1587","v":"00:00:00"},{"$f":"Dados_2.11.2019!C1587","v":0},0,0,0]
[{"$f":"Dados_2.11.2019!A1588","v":"00:00:00"},{"$f":"Dados_2.11.2019!B1588","v":"00:00:00"},{"$f":"Dados_2.11.2019!C1588","v":0},0,0,0]
[{"$f":"Dados_2.11.2019!A1589","v":"00:00:00"},{"$f":"Dados_2.11.2019!B1589","v":"00:00:00"},{"$f":"Dados_2.11.2019!C1589","v":0},0,0,0]
[{"$f":"Dados_2.11.2019!A1590","v":"00:00:00"},{"$f":"Dados_2.11.2019!B1590","v":"00:00:00"},{"$f":"Dados_2.11.2019!C1590","v":0},0,0,0]
[{"$f":"Dados_2.11.2019!A1591","v":"00:00:00"},{"$f":"Dados_2.11.2019!B1591","v":"00:00:00"},{"$f":"Dados_2.11.2019!C1591","v":0},0,0,0]
[{"$f":"Dados_2.11.2019!A1592","v":"00:00:00"},{"$f":"Dados_2.11.2019!B1592","v":"00:00:00"},{"$f":"Dados_2.11.2019!C1592","v":0},0,0,0]
[{"$f":"Dados_2.11.2019!A1593","v":"00:00:00"},{"$f":"Dados_2.11.2019!B1593","v":"00:00:00"},{"$f":"Dados_2.11.2019!C1593","v":0},0,0,0]
[{"$f":"Dados_2.11.2019!A1594","v":"00:00:00"},{"$f":"Dados_2.11.2019!B1594","v":"00:00:00"},{"$f":"Dados_2.11.2019!C1594","v":0},0,0,0]
[{"$f":"Dados_2.11.2019!A1595","v":"00:00:00"},{"$f":"Dados_2.11.2019!B1595","v":"00:00:00"},{"$f":"Dados_2.11.2019!C1595","v":0},0,0,0]
[{"$f":"Dados_2.11.2019!A1596","v":"00:00:00"},{"$f":"Dados_2.11.2019!B1596","v":"00:00:00"},{"$f":"Dados_2.11.2019!C1596","v":0},0,0,0]
[{"$f":"Dados_2.11.2019!A1597","v":"00:00:00"},{"$f":"Dados_2.11.2019!B1597","v":"00:00:00"},{"$f":"Dados_2.11.2019!C1597","v":0},0,0,0]
[{"$f":"Dados_2.11.2019!A1598","v":"00:00:00"},{"$f":"Dados_2.11.2019!B1598","v":"00:00:00"},{"$f":"Dados_2.11.2019!C1598","v":0},0,0,0]
[{"$f":"Dados_2.11.2019!A1599","v":"00:00:00"},{"$f":"Dados_2.11.2019!B1599","v":"00:00:00"},{"$f":"Dados_2.11.2019!C1599","v":0},0,0,0]
[{"$f":"Dados_2.11.2019!A1600","v":"00:00:00"},{"$f":"Dados_2.11.2019!B1600","v":"00:00:00"},{"$f":"Dados_2.11.2019!C1600","v":0},0,0,0]
[{"$f":"Dados_2.11.2019!A1601","v":"00:00:00"},{"$f":"Dados_2.11.2019!B1601","v":"00:00:00"},{"$f":"Dados_2.11.2019!C1601","v":0},0,0,0]
[{"$f":"Dados_2.11.2019!A1602","v":"00:00:00"},{"$f":"Dados_2.11.2019!B1602","v":"00:00:00"},{"$f":"Dados_2.11.2019!C1602","v":0},0,0,0]
[{"$f":"Dados_2.11.2019!A1603","v":"00:00:00"},{"$f":"Dados_2.11.2019!B1603","v":"00:00:00"},{"$f":"Dados_2.11.2019!C1603","v":0},0,0,0]
[{"$f":"Dados_2.11.2019!A1604","v":"00:00:00"},{"$f":"Dados_2.11.2019!B1604","v":"00:00:00"},{"$f":"Dados_2.11.2019!C1604","v":0},0,0,0]
[{"$f":"Dados_2.11.2019!A1605","v":"00:00:00"},{"$f":"Dados_2.11.2019!B1605","v":"00:00:00"},{"$f":"Dados_2.11.2019!C1605","v":0},0,0,0]
[{"$f":"Dados_2.11.2019!A1606","v":"00:00:00"},{"$f":"Dados_2.11.2019!B1606","v":"00:00:00"},{"$f":"Dados_2.11.2019!C1606","v":0},0,0,0]
[{"$f":"Dados_2.11.2019!A1607","v":"00:00:00"},{"$f":"Dados_2.11.2019!B1607","v":"00:00:00"},{"$f":"Dados_2.11.2019!C1607","v":0},0,0,0]
[{"$f":"Dados_2.11.2019!A1608","v":"00:00:00"},{"$f":"Dados_2.11.2019!B1608","v":"00:00:00"},{"$f":"Dados_2.11.2019!C1608","v":0},0,0,0]
[{"$f":"Dados_2.11.2019!A1609","v":"00:00:00"},{"$f":"Dados_2.11.2019!B1609","v":"00:00:00"},{"$f":"Dados_2.11.2019!C1609","v":0},0,0,0]
[{"$f":"Dados_2.11.2019!A1610","v":"00:00:00"},{"$f":"Dados_2.11.2019!B1610","v":"00:00:00"},{"$f":"Dados_2.11.2019!C1610","v":0},0,0,0]
[{"$f":"Dados_2.11.2019!A1611","v":"00:00:00"},{"$f":"Dados_2.11.2019!B1611","v":"00:00:00"},{"$f":"Dados_2.11.2019!C1611","v":0},0,0,0]
[{"$f":"Dados_2.11.2019!A1612","v":"00:00:00"},{"$f":"Dados_2.11.2019!B1612","v":"00:00:00"},{"$f":"Dados_2.11.2019!C1612","v":0},0,0,0]
[{"$f":"Dados_2.11.2019!A1613","v":"00:00:00"},{"$f":"Dados_2.11.2019!B1613","v":"00:00:00"},{"$f":"Dados_2.11.2019!C1613","v":0},0,0,0]
[{"$f":"Dados_2.11.2019!A1614","v":"00:00:00"},{"$f":"Dados_2.11.2019!B1614","v":"00:00:00"},{"$f":"Dados_2.11.2019!C1614","v":0},0,0,0]
[{"$f":"Dados_2.11.2019!A1615","v":"00:00:00"},{"$f":"Dados_2.11.2019!B1615","v":"00:00:00"},{"$f":"Dados_2.11.2019!C1615","v":0},0,0,0]
[{"$f":"Dados_2.11.2019!A1616","v":"00:00:00"},{"$f":"Dados_2.11.2019!B1616","v":"00:00:00"},{"$f":"Dados_2.11.2019!C1616","v":0},0,0,0]
[{"$f":"Dados_2.11.2019!A1617","v":"00:00:00"},{"$f":"Dados_2.11.2019!B1617","v":"00:00:00"},{"$f":"Dados_2.11.2019!C1617","v":0},0,0,0]
[{"$f":"Dados_2.11.2019!A1618","v":"00:00:00"},{"$f":"Dados_2.11.2019!B1618","v":"00:00:00"},{"$f":"Dados_2.11.2019!C1618","v":0},0,0,0]
[{"$f":"Dados_2.11.2019!A1619","v":"00:00:00"},{"$f":"Dados_2.11.2019!B1619","v":"00:00:00"},{"$f":"Dados_2.11.2019!C1619","v":0},0,0,0]
[{"$f":"Dados_2.11.2019!A1620","v":"00:00:00"},{"$f":"Dados_2.11.2019!B1620","v":"00:00:00"},{"$f":"Dados_2.11.2019!C1620","v":0},0,0,0]
[{"$f":"Dados_2.11.2019!A1621","v":"00:00:00"},{"$f":"Dados_2.11.2019!B1621","v":"00:00:00"},{"$f":"Dados_2.11.2019!C1621","v":0},0,0,0]
[{"$f":"Dados_2.11.2019!A1622","v":"00:00:00"},{"$f":"Dados_2.11.2019!B1622","v":"00:00:00"},{"$f":"Dados_2.11.2019!C1622","v":0},0,0,0]
[{"$f":"Dados_2.11.2019!A1623","v":"00:00:00"},{"$f":"Dados_2.11.2019!B1623","v":"00:00:00"},{"$f":"Dados_2.11.2019!C1623","v":0},0,0,0]
[{"$f":"Dados_2.11.2019!A1624","v":"00:00:00"},{"$f":"Dados_2.11.2019!B1624","v":"00:00:00"},{"$f":"Dados_2.11.2019!C1624","v":0},0,0,0]
[{"$f":"Dados_2.11.2019!A1625","v":"00:00:00"},{"$f":"Dados_2.11.2019!B1625","v":"00:00:00"},{"$f":"Dados_2.11.2019!C1625","v":0},0,0,0]
[{"$f":"Dados_2.11.2019!A1626","v":"00:00:00"},{"$f":"Dados_2.11.2019!B1626","v":"00:00:00"},{"$f":"Dados_2.11.2019!C1626","v":0},0,0,0]
[{"$f":"Dados_2.11.2019!A1627","v":"00:00:00"},{"$f":"Dados_2.11.2019!B1627","v":"00:00:00"},{"$f":"Dados_2.11.2019!C1627","v":0},0,0,0]
[{"$f":"Dados_2.11.2019!A1628","v":"00:00:00"},{"$f":"Dados_2.11.2019!B1628","v":"00:00:00"},{"$f":"Dados_2.11.2019!C1628","v":0},0,0,0]
[{"$f":"Dados_2.11.2019!A1629","v":"00:00:00"},{"$f":"Dados_2.11.2019!B1629","v":"00:00:00"},{"$f":"Dados_2.11.2019!C1629","v":0},0,0,0]
[{"$f":"Dados_2.11.2019!A1630","v":"00:00:00"},{"$f":"Dados_2.11.2019!B1630","v":"00:00:00"},{"$f":"Dados_2.11.2019!C1630","v":0},0,0,0]
[{"$f":"Dados_2.11.2019!A1631","v":"00:00:00"},{"$f":"Dados_2.11.2019!B1631","v":"00:00:00"},{"$f":"Dados_2.11.2019!C1631","v":0},0,0,0]
[{"$f":"Dados_2.11.2019!A1632","v":"00:00:00"},{"$f":"Dados_2.11.2019!B1632","v":"00:00:00"},{"$f":"Dados_2.11.2019!C1632","v":0},{"$f":"IF((0.0005*(C1632^2)+0.0058*(C1632)-0.055)<0,0,IF((0.0005*(C1632^2)+0.0058*(C1632)-0.055)>1,1,(0.0005*(C1632^2)+0.0058*(C1632)-0.055)))","v":0},{"$f":"HOUR(B1632)","v":0},{"$f":"MINUTE(B1632)","v":0}]
[{"$f":"Dados_2.11.2019!A1633","v":"00:00:00"},{"$f":"Dados_2.11.2019!B1633","v":"00:00:00"},{"$f":"Dados_2.11.2019!C1633","v":0},0,0,0]
[{"$f":"Dados_2.11.2019!A1634","v":"00:00:00"},{"$f":"Dados_2.11.2019!B1634","v":"00:00:00"},{"$f":"Dados_2.11.2019!C1634","v":0},0,0,0]
[{"$f":"Dados_2.11.2019!A1635","v":"00:00:00"},{"$f":"Dados_2.11.2019!B1635","v":"00:00:00"},{"$f":"Dados_2.11.2019!C1635","v":0},0,0,0]
[{"$f":"Dados_2.11.2019!A1636","v":"00:00:00"},{"$f":"Dados_2.11.2019!B1636","v":"00:00:00"},{"$f":"Dados_2.11.2019!C1636","v":0},0,0,0]
[{"$f":"Dados_2.11.2019!A1637","v":"00:00:00"},{"$f":"Dados_2.11.2019!B1637","v":"00:00:00"},{"$f":"Dados_2.11.2019!C1637","v":0},0,0,0]
[{"$f":"Dados_2.11.2019!A1638","v":"00:00:00"},{"$f":"Dados_2.11.2019!B1638","v":"00:00:00"},{"$f":"Dados_2.11.2019!C1638","v":0},0,0,0]
[{"$f":"Dados_2.11.2019!A1639","v":"00:00:00"},{"$f":"Dados_2.11.2019!B1639","v":"00:00:00"},{"$f":"Dados_2.11.2019!C1639","v":0},0,0,0]
[{"$f":"Dados_2.11.2019!A1640","v":"00:00:00"},{"$f":"Dados_2.11.2019!B1640","v":"00:00:00"},{"$f":"Dados_2.11.2019!C1640","v":0},0,0,0]
[{"$f":"Dados_2.11.2019!A1641","v":"00:00:00"},{"$f":"Dados_2.11.2019!B1641","v":"00:00:00"},{"$f":"Dados_2.11.2019!C1641","v":0},0,0,0]
[{"$f":"Dados_2.11.2019!A1642","v":"00:00:00"},{"$f":"Dados_2.11.2019!B1642","v":"00:00:00"},{"$f":"Dados_2.11.2019!C1642","v":0},0,0,0]
[{"$f":"Dados_2.11.2019!A1643","v":"00:00:00"},{"$f":"Dados_2.11.2019!B1643","v":"00:00:00"},{"$f":"Dados_2.11.2019!C1643","v":0},0,0,0]
[{"$f":"Dados_2.11.2019!A1644","v":"00:00:00"},{"$f":"Dados_2.11.2019!B1644","v":"00:00:00"},{"$f":"Dados_2.11.2019!C1644","v":0},0,0,0]
[{"$f":"Dados_2.11.2019!A1645","v":"00:00:00"},{"$f":"Dados_2.11.2019!B1645","v":"00:00:00"},{"$f":"Dados_2.11.2019!C1645","v":0},0,0,0]
[{"$f":"Dados_2.11.2019!A1646","v":"00:00:00"},{"$f":"Dados_2.11.2019!B1646","v":"00:00:00"},{"$f":"Dados_2.11.2019!C1646","v":0},0,0,0]
[{"$f":"Dados_2.11.2019!A1647","v":"00:00:00"},{"$f":"Dados_2.11.2019!B1647","v":"00:00:00"},{"$f":"Dados_2.11.2019!C1647","v":0},0,0,0]
[{"$f":"Dados_2.11.2019!A1648","v":"00:00:00"},{"$f":"Dados_2.11.2019!B1648","v":"00:00:00"},{"$f":"Dados_2.11.2019!C1648","v":0},0,0,0]
[{"$f":"Dados_2.11.2019!A1649","v":"00:00:00"},{"$f":"Dados_2.11.2019!B1649","v":"00:00:00"},{"$f":"Dados_2.11.2019!C1649","v":0},0,0,0]
[{"$f":"Dados_2.11.2019!A1650","v":"00:00:00"},{"$f":"Dados_2.11.2019!B1650","v":"00:00:00"},{"$f":"Dados_2.11.2019!C1650","v":0},0,0,0]
[{"$f":"Dados_2.11.2019!A1651","v":"00:00:00"},{"$f":"Dados_2.11.2019!B1651","v":"00:00:00"},{"$f":"Dados_2.11.2019!C1651","v":0},0,0,0]
[{"$f":"Dados_2.11.2019!A1652","v":"00:00:00"},{"$f":"Dados_2.11.2019!B1652","v":"00:00:00"},{"$f":"Dados_2.11.2019!C1652","v":0},0,0,0]
[{"$f":"Dados_2.11.2019!A1653","v":"00:00:00"},{"$f":"Dados_2.11.2019!B1653","v":"00:00:00"},{"$f":"Dados_2.11.2019!C1653","v":0},0,0,0]
[{"$f":"Dados_2.11.2019!A1654","v":"00:00:00"},{"$f":"Dados_2.11.2019!B1654","v":"00:00:00"},{"$f":"Dados_2.11.2019!C1654","v":0},0,0,0]
[{"$f":"Dados_2.11.2019!A1655","v":"00:00:00"},{"$f":"Dados_2.11.2019!B1655","v":"00:00:00"},{"$f":"Dados_2.11.2019!C1655","v":0},0,0,0]
[{"$f":"Dados_2.11.2019!A1656","v":"00:00:00"},{"$f":"Dados_2.11.2019!B1656","v":"00:00:00"},{"$f":"Dados_2.11.2019!C1656","v":0},0,0,0]
[{"$f":"Dados_2.11.2019!A1657","v":"00:00:00"},{"$f":"Dados_2.11.2019!B1657","v":"00:00:00"},{"$f":"Dados_2.11.2019!C1657","v":0},0,0,0]
[{"$f":"Dados_2.11.2019!A1658","v":"00:00:00"},{"$f":"Dados_2.11.2019!B1658","v":"00:00:00"},{"$f":"Dados_2.11.2019!C1658","v":0},0,0,0]
[{"$f":"Dados_2.11.2019!A1659","v":"00:00:00"},{"$f":"Dados_2.11.2019!B1659","v":"00:00:00"},{"$f":"Dados_2.11.2019!C1659","v":0},0,0,0]
[{"$f":"Dados_2.11.2019!A1660","v":"00:00:00"},{"$f":"Dados_2.11.2019!B1660","v":"00:00:00"},{"$f":"Dados_2.11.2019!C1660","v":0},0,0,0]
[{"$f":"Dados_2.11.2019!A1661","v":"00:00:00"},{"$f":"Dados_2.11.2019!B1661","v":"00:00:00"},{"$f":"Dados_2.11.2019!C1661","v":0},0,0,0]
[{"$f":"Dados_2.11.2019!A1662","v":"00:00:00"},{"$f":"Dados_2.11.2019!B1662","v":"00:00:00"},{"$f":"Dados_2.11.2019!C1662","v":0},0,0,0]
[{"$f":"Dados_2.11.2019!A1663","v":"00:00:00"},{"$f":"Dados_2.11.2019!B1663","v":"00:00:00"},{"$f":"Dados_2.11.2019!C1663","v":0},0,0,0]
[{"$f":"Dados_2.11.2019!A1664","v":"00:00:00"},{"$f":"Dados_2.11.2019!B1664","v":"00:00:00"},{"$f":"Dados_2.11.2019!C1664","v":0},0,0,0]
[{"$f":"Dados_2.11.2019!A1665","v":"00:00:00"},{"$f":"Dados_2.11.2019!B1665","v":"00:00:00"},{"$f":"Dados_2.11.2019!C1665","v":0},0,0,0]
[{"$f":"Dados_2.11.2019!A1666","v":"00:00:00"},{"$f":"Dados_2.11.2019!B1666","v":"00:00:00"},{"$f":"Dados_2.11.2019!C1666","v":0},0,0,0]
[{"$f":"Dados_2.11.2019!A1667","v":"00:00:00"},{"$f":"Dados_2.11.2019!B1667","v":"00:00:00"},{"$f":"Dados_2.11.2019!C1667","v":0},0,0,0]
[{"$f":"Dados_2.11.2019!A1668","v":"00:00:00"},{"$f":"Dados_2.11.2019!B1668","v":"00:00:00"},{"$f":"Dados_2.11.2019!C1668","v":0},0,0,0]
[{"$f":"Dados_2.11.2019!A1669","v":"00:00:00"},{"$f":"Dados_2.11.2019!B1669","v":"00:00:00"},{"$f":"Dados_2.11.2019!C1669","v":0},0,0,0]
[{"$f":"Dados_2.11.2019!A1670","v":"00:00:00"},{"$f":"Dados_2.11.2019!B1670","v":"00:00:00"},{"$f":"Dados_2.11.2019!C1670","v":0},0,0,0]
[{"$f":"Dados_2.11.2019!A1671","v":"00:00:00"},{"$f":"Dados_2.11.2019!B1671","v":"00:00:00"},{"$f":"Dados_2.11.2019!C1671","v":0},0,0,0]
[{"$f":"Dados_2.11.2019!A1672","v":"00:00:00"},{"$f":"Dados_2.11.2019!B1672","v":"00:00:00"},{"$f":"Dados_2.11.2019!C1672","v":0},0,0,0]
[{"$f":"Dados_2.11.2019!A1673","v":"00:00:00"},{"$f":"Dados_2.11.2019!B1673","v":"00:00:00"},{"$f":"Dados_2.11.2019!C1673","v":0},0,0,0]
[{"$f":"Dados_2.11.2019!A1674","v":"00:00:00"},{"$f":"Dados_2.11.2019!B1674","v":"00:00:00"},{"$f":"Dados_2.11.2019!C1674","v":0},0,0,0]
[{"$f":"Dados_2.11.2019!A1675","v":"00:00:00"},{"$f":"Dados_2.11.2019!B1675","v":"00:00:00"},{"$f":"Dados_2.11.2019!C1675","v":0},0,0,0]
[{"$f":"Dados_2.11.2019!A1676","v":"00:00:00"},{"$f":"Dados_2.11.2019!B1676","v":"00:00:00"},{"$f":"Dados_2.11.2019!C1676","v":0},0,0,0]
[{"$f":"Dados_2.11.2019!A1677","v":"00:00:00"},{"$f":"Dados_2.11.2019!B1677","v":"00:00:00"},{"$f":"Dados_2.11.2019!C1677","v":0},0,0,0]
[{"$f":"Dados_2.11.2019!A1678","v":"00:00:00"},{"$f":"Dados_2.11.2019!B1678","v":"00:00:00"},{"$f":"Dados_2.11.2019!C1678","v":0},0,0,0]
[{"$f":"Dados_2.11.2019!A1679","v":"00:00:00"},{"$f":"Dados_2.11.2019!B1679","v":"00:00:00"},{"$f":"Dados_2.11.2019!C1679","v":0},0,0,0]
[{"$f":"Dados_2.11.2019!A1680","v":"00:00:00"},{"$f":"Dados_2.11.2019!B1680","v":"00:00:00"},{"$f":"Dados_2.11.2019!C1680","v":0},0,0,0]
[{"$f":"Dados_2.11.2019!A1681","v":"00:00:00"},{"$f":"Dados_2.11.2019!B1681","v":"00:00:00"},{"$f":"Dados_2.11.2019!C1681","v":0},0,0,0]
[{"$f":"Dados_2.11.2019!A1682","v":"00:00:00"},{"$f":"Dados_2.11.2019!B1682","v":"00:00:00"},{"$f":"Dados_2.11.2019!C1682","v":0},0,0,0]
[{"$f":"Dados_2.11.2019!A1683","v":"00:00:00"},{"$f":"Dados_2.11.2019!B1683","v":"00:00:00"},{"$f":"Dados_2.11.2019!C1683","v":0},0,0,0]
[{"$f":"Dados_2.11.2019!A1684","v":"00:00:00"},{"$f":"Dados_2.11.2019!B1684","v":"00:00:00"},{"$f":"Dados_2.11.2019!C1684","v":0},0,0,0]
[{"$f":"Dados_2.11.2019!A1685","v":"00:00:00"},{"$f":"Dados_2.11.2019!B1685","v":"00:00:00"},{"$f":"Dados_2.11.2019!C1685","v":0},0,0,0]
[{"$f":"Dados_2.11.2019!A1686","v":"00:00:00"},{"$f":"Dados_2.11.2019!B1686","v":"00:00:00"},{"$f":"Dados_2.11.2019!C1686","v":0},0,0,0]
[{"$f":"Dados_2.11.2019!A1687","v":"00:00:00"},{"$f":"Dados_2.11.2019!B1687","v":"00:00:00"},{"$f":"Dados_2.11.2019!C1687","v":0},0,0,0]
[{"$f":"Dados_2.11.2019!A1688","v":"00:00:00"},{"$f":"Dados_2.11.2019!B1688","v":"00:00:00"},{"$f":"Dados_2.11.2019!C1688","v":0},0,0,0]
[{"$f":"Dados_2.11.2019!A1689","v":"00:00:00"},{"$f":"Dados_2.11.2019!B1689","v":"00:00:00"},{"$f":"Dados_2.11.2019!C1689","v":0},0,0,0]
[{"$f":"Dados_2.11.2019!A1690","v":"00:00:00"},{"$f":"Dados_2.11.2019!B1690","v":"00:00:00"},{"$f":"Dados_2.11.2019!C1690","v":0},0,0,0]
[{"$f":"Dados_2.11.2019!A1691","v":"00:00:00"},{"$f":"Dados_2.11.2019!B1691","v":"00:00:00"},{"$f":"Dados_2.11.2019!C1691","v":0},0,0,0]
[{"$f":"Dados_2.11.2019!A1692","v":"00:00:00"},{"$f":"Dados_2.11.2019!B1692","v":"00:00:00"},{"$f":"Dados_2.11.2019!C1692","v":0},0,0,0]
[{"$f":"Dados_2.11.2019!A1693","v":"00:00:00"},{"$f":"Dados_2.11.2019!B1693","v":"00:00:00"},{"$f":"Dados_2.11.2019!C1693","v":0},0,0,0]
[{"$f":"Dados_2.11.2019!A1694","v":"00:00:00"},{"$f":"Dados_2.11.2019!B1694","v":"00:00:00"},{"$f":"Dados_2.11.2019!C1694","v":0},0,0,0]
[{"$f":"Dados_2.11.2019!A1695","v":"00:00:00"},{"$f":"Dados_2.11.2019!B1695","v":"00:00:00"},{"$f":"Dados_2.11.2019!C1695","v":0},0,0,0]
[{"$f":"Dados_2.11.2019!A1696","v":"00:00:00"},{"$f":"Dados_2.11.2019!B1696","v":"00:00:00"},{"$f":"Dados_2.11.2019!C1696","v":0},{"$f":"IF((0.0005*(C1696^2)+0.0058*(C1696)-0.055)<0,0,IF((0.0005*(C1696^2)+0.0058*(C1696)-0.055)>1,1,(0.0005*(C1696^2)+0.0058*(C1696)-0.055)))","v":0},{"$f":"HOUR(B1696)","v":0},{"$f":"MINUTE(B1696)","v":0}]
[{"$f":"Dados_2.11.2019!A1697","v":"00:00:00"},{"$f":"Dados_2.11.2019!B1697","v":"00:00:00"},{"$f":"Dados_2.11.2019!C1697","v":0},0,0,0]
[{"$f":"Dados_2.11.2019!A1698","v":"00:00:00"},{"$f":"Dados_2.11.2019!B1698","v":"00:00:00"},{"$f":"Dados_2.11.2019!C1698","v":0},0,0,0]
[{"$f":"Dados_2.11.2019!A1699","v":"00:00:00"},{"$f":"Dados_2.11.2019!B1699","v":"00:00:00"},{"$f":"Dados_2.11.2019!C1699","v":0},0,0,0]
[{"$f":"Dados_2.11.2019!A1700","v":"00:00:00"},{"$f":"Dados_2.11.2019!B1700","v":"00:00:00"},{"$f":"Dados_2.11.2019!C1700","v":0},0,0,0]
[{"$f":"Dados_2.11.2019!A1701","v":"00:00:00"},{"$f":"Dados_2.11.2019!B1701","v":"00:00:00"},{"$f":"Dados_2.11.2019!C1701","v":0},0,0,0]
[{"$f":"Dados_2.11.2019!A1702","v":"00:00:00"},{"$f":"Dados_2.11.2019!B1702","v":"00:00:00"},{"$f":"Dados_2.11.2019!C1702","v":0},0,0,0]
[{"$f":"Dados_2.11.2019!A1703","v":"00:00:00"},{"$f":"Dados_2.11.2019!B1703","v":"00:00:00"},{"$f":"Dados_2.11.2019!C1703","v":0},0,0,0]
[{"$f":"Dados_2.11.2019!A1704","v":"00:00:00"},{"$f":"Dados_2.11.2019!B1704","v":"00:00:00"},{"$f":"Dados_2.11.2019!C1704","v":0},0,0,0]
[{"$f":"Dados_2.11.2019!A1705","v":"00:00:00"},{"$f":"Dados_2.11.2019!B1705","v":"00:00:00"},{"$f":"Dados_2.11.2019!C1705","v":0},0,0,0]
[{"$f":"Dados_2.11.2019!A1706","v":"00:00:00"},{"$f":"Dados_2.11.2019!B1706","v":"00:00:00"},{"$f":"Dados_2.11.2019!C1706","v":0},0,0,0]
[{"$f":"Dados_2.11.2019!A1707","v":"00:00:00"},{"$f":"Dados_2.11.2019!B1707","v":"00:00:00"},{"$f":"Dados_2.11.2019!C1707","v":0},0,0,0]
[{"$f":"Dados_2.11.2019!A1708","v":"00:00:00"},{"$f":"Dados_2.11.2019!B1708","v":"00:00:00"},{"$f":"Dados_2.11.2019!C1708","v":0},0,0,0]
[{"$f":"Dados_2.11.2019!A1709","v":"00:00:00"},{"$f":"Dados_2.11.2019!B1709","v":"00:00:00"},{"$f":"Dados_2.11.2019!C1709","v":0},0,0,0]
[{"$f":"Dados_2.11.2019!A1710","v":"00:00:00"},{"$f":"Dados_2.11.2019!B1710","v":"00:00:00"},{"$f":"Dados_2.11.2019!C1710","v":0},0,0,0]
[{"$f":"Dados_2.11.2019!A1711","v":"00:00:00"},{"$f":"Dados_2.11.2019!B1711","v":"00:00:00"},{"$f":"Dados_2.11.2019!C1711","v":0},0,0,0]
[{"$f":"Dados_2.11.2019!A1712","v":"00:00:00"},{"$f":"Dados_2.11.2019!B1712","v":"00:00:00"},{"$f":"Dados_2.11.2019!C1712","v":0},0,0,0]
[{"$f":"Dados_2.11.2019!A1713","v":"00:00:00"},{"$f":"Dados_2.11.2019!B1713","v":"00:00:00"},{"$f":"Dados_2.11.2019!C1713","v":0},0,0,0]
[{"$f":"Dados_2.11.2019!A1714","v":"00:00:00"},{"$f":"Dados_2.11.2019!B1714","v":"00:00:00"},{"$f":"Dados_2.11.2019!C1714","v":0},0,0,0]
[{"$f":"Dados_2.11.2019!A1715","v":"00:00:00"},{"$f":"Dados_2.11.2019!B1715","v":"00:00:00"},{"$f":"Dados_2.11.2019!C1715","v":0},0,0,0]
[{"$f":"Dados_2.11.2019!A1716","v":"00:00:00"},{"$f":"Dados_2.11.2019!B1716","v":"00:00:00"},{"$f":"Dados_2.11.2019!C1716","v":0},0,0,0]
[{"$f":"Dados_2.11.2019!A1717","v":"00:00:00"},{"$f":"Dados_2.11.2019!B1717","v":"00:00:00"},{"$f":"Dados_2.11.2019!C1717","v":0},0,0,0]
[{"$f":"Dados_2.11.2019!A1718","v":"00:00:00"},{"$f":"Dados_2.11.2019!B1718","v":"00:00:00"},{"$f":"Dados_2.11.2019!C1718","v":0},0,0,0]
[{"$f":"Dados_2.11.2019!A1719","v":"00:00:00"},{"$f":"Dados_2.11.2019!B1719","v":"00:00:00"},{"$f":"Dados_2.11.2019!C1719","v":0},0,0,0]
[{"$f":"Dados_2.11.2019!A1720","v":"00:00:00"},{"$f":"Dados_2.11.2019!B1720","v":"00:00:00"},{"$f":"Dados_2.11.2019!C1720","v":0},0,0,0]
[{"$f":"Dados_2.11.2019!A1721","v":"00:00:00"},{"$f":"Dados_2.11.2019!B1721","v":"00:00:00"},{"$f":"Dados_2.11.2019!C1721","v":0},0,0,0]
[{"$f":"Dados_2.11.2019!A1722","v":"00:00:00"},{"$f":"Dados_2.11.2019!B1722","v":"00:00:00"},{"$f":"Dados_2.11.2019!C1722","v":0},0,0,0]
[{"$f":"Dados_2.11.2019!A1723","v":"00:00:00"},{"$f":"Dados_2.11.2019!B1723","v":"00:00:00"},{"$f":"Dados_2.11.2019!C1723","v":0},0,0,0]
[{"$f":"Dados_2.11.2019!A1724","v":"00:00:00"},{"$f":"Dados_2.11.2019!B1724","v":"00:00:00"},{"$f":"Dados_2.11.2019!C1724","v":0},0,0,0]
[{"$f":"Dados_2.11.2019!A1725","v":"00:00:00"},{"$f":"Dados_2.11.2019!B1725","v":"00:00:00"},{"$f":"Dados_2.11.2019!C1725","v":0},0,0,0]
[{"$f":"Dados_2.11.2019!A1726","v":"00:00:00"},{"$f":"Dados_2.11.2019!B1726","v":"00:00:00"},{"$f":"Dados_2.11.2019!C1726","v":0},0,0,0]
[{"$f":"Dados_2.11.2019!A1727","v":"00:00:00"},{"$f":"Dados_2.11.2019!B1727","v":"00:00:00"},{"$f":"Dados_2.11.2019!C1727","v":0},0,0,0]
[{"$f":"Dados_2.11.2019!A1728","v":"00:00:00"},{"$f":"Dados_2.11.2019!B1728","v":"00:00:00"},{"$f":"Dados_2.11.2019!C1728","v":0},0,0,0]
[{"$f":"Dados_2.11.2019!A1729","v":"00:00:00"},{"$f":"Dados_2.11.2019!B1729","v":"00:00:00"},{"$f":"Dados_2.11.2019!C1729","v":0},0,0,0]
[{"$f":"Dados_2.11.2019!A1730","v":"00:00:00"},{"$f":"Dados_2.11.2019!B1730","v":"00:00:00"},{"$f":"Dados_2.11.2019!C1730","v":0},0,0,0]
[{"$f":"Dados_2.11.2019!A1731","v":"00:00:00"},{"$f":"Dados_2.11.2019!B1731","v":"00:00:00"},{"$f":"Dados_2.11.2019!C1731","v":0},0,0,0]
[{"$f":"Dados_2.11.2019!A1732","v":"00:00:00"},{"$f":"Dados_2.11.2019!B1732","v":"00:00:00"},{"$f":"Dados_2.11.2019!C1732","v":0},0,0,0]
[{"$f":"Dados_2.11.2019!A1733","v":"00:00:00"},{"$f":"Dados_2.11.2019!B1733","v":"00:00:00"},{"$f":"Dados_2.11.2019!C1733","v":0},0,0,0]
[{"$f":"Dados_2.11.2019!A1734","v":"00:00:00"},{"$f":"Dados_2.11.2019!B1734","v":"00:00:00"},{"$f":"Dados_2.11.2019!C1734","v":0},0,0,0]
[{"$f":"Dados_2.11.2019!A1735","v":"00:00:00"},{"$f":"Dados_2.11.2019!B1735","v":"00:00:00"},{"$f":"Dados_2.11.2019!C1735","v":0},0,0,0]
[{"$f":"Dados_2.11.2019!A1736","v":"00:00:00"},{"$f":"Dados_2.11.2019!B1736","v":"00:00:00"},{"$f":"Dados_2.11.2019!C1736","v":0},0,0,0]
[{"$f":"Dados_2.11.2019!A1737","v":"00:00:00"},{"$f":"Dados_2.11.2019!B1737","v":"00:00:00"},{"$f":"Dados_2.11.2019!C1737","v":0},0,0,0]
[{"$f":"Dados_2.11.2019!A1738","v":"00:00:00"},{"$f":"Dados_2.11.2019!B1738","v":"00:00:00"},{"$f":"Dados_2.11.2019!C1738","v":0},0,0,0]
[{"$f":"Dados_2.11.2019!A1739","v":"00:00:00"},{"$f":"Dados_2.11.2019!B1739","v":"00:00:00"},{"$f":"Dados_2.11.2019!C1739","v":0},0,0,0]
[{"$f":"Dados_2.11.2019!A1740","v":"00:00:00"},{"$f":"Dados_2.11.2019!B1740","v":"00:00:00"},{"$f":"Dados_2.11.2019!C1740","v":0},0,0,0]
[{"$f":"Dados_2.11.2019!A1741","v":"00:00:00"},{"$f":"Dados_2.11.2019!B1741","v":"00:00:00"},{"$f":"Dados_2.11.2019!C1741","v":0},0,0,0]
[{"$f":"Dados_2.11.2019!A1742","v":"00:00:00"},{"$f":"Dados_2.11.2019!B1742","v":"00:00:00"},{"$f":"Dados_2.11.2019!C1742","v":0},0,0,0]
[{"$f":"Dados_2.11.2019!A1743","v":"00:00:00"},{"$f":"Dados_2.11.2019!B1743","v":"00:00:00"},{"$f":"Dados_2.11.2019!C1743","v":0},0,0,0]
[{"$f":"Dados_2.11.2019!A1744","v":"00:00:00"},{"$f":"Dados_2.11.2019!B1744","v":"00:00:00"},{"$f":"Dados_2.11.2019!C1744","v":0},0,0,0]
[{"$f":"Dados_2.11.2019!A1745","v":"00:00:00"},{"$f":"Dados_2.11.2019!B1745","v":"00:00:00"},{"$f":"Dados_2.11.2019!C1745","v":0},0,0,0]
[{"$f":"Dados_2.11.2019!A1746","v":"00:00:00"},{"$f":"Dados_2.11.2019!B1746","v":"00:00:00"},{"$f":"Dados_2.11.2019!C1746","v":0},0,0,0]
[{"$f":"Dados_2.11.2019!A1747","v":"00:00:00"},{"$f":"Dados_2.11.2019!B1747","v":"00:00:00"},{"$f":"Dados_2.11.2019!C1747","v":0},0,0,0]
[{"$f":"Dados_2.11.2019!A1748","v":"00:00:00"},{"$f":"Dados_2.11.2019!B1748","v":"00:00:00"},{"$f":"Dados_2.11.2019!C1748","v":0},0,0,0]
[{"$f":"Dados_2.11.2019!A1749","v":"00:00:00"},{"$f":"Dados_2.11.2019!B1749","v":"00:00:00"},{"$f":"Dados_2.11.2019!C1749","v":0},0,0,0]
[{"$f":"Dados_2.11.2019!A1750","v":"00:00:00"},{"$f":"Dados_2.11.2019!B1750","v":"00:00:00"},{"$f":"Dados_2.11.2019!C1750","v":0},0,0,0]
[{"$f":"Dados_2.11.2019!A1751","v":"00:00:00"},{"$f":"Dados_2.11.2019!B1751","v":"00:00:00"},{"$f":"Dados_2.11.2019!C1751","v":0},0,0,0]
[{"$f":"Dados_2.11.2019!A1752","v":"00:00:00"},{"$f":"Dados_2.11.2019!B1752","v":"00:00:00"},{"$f":"Dados_2.11.2019!C1752","v":0},0,0,0]
[{"$f":"Dados_2.11.2019!A1753","v":"00:00:00"},{"$f":"Dados_2.11.2019!B1753","v":"00:00:00"},{"$f":"Dados_2.11.2019!C1753","v":0},0,0,0]
[{"$f":"Dados_2.11.2019!A1754","v":"00:00:00"},{"$f":"Dados_2.11.2019!B1754","v":"00:00:00"},{"$f":"Dados_2.11.2019!C1754","v":0},0,0,0]
[{"$f":"Dados_2.11.2019!A1755","v":"00:00:00"},{"$f":"Dados_2.11.2019!B1755","v":"00:00:00"},{"$f":"Dados_2.11.2019!C1755","v":0},0,0,0]
[{"$f":"Dados_2.11.2019!A1756","v":"00:00:00"},{"$f":"Dados_2.11.2019!B1756","v":"00:00:00"},{"$f":"Dados_2.11.2019!C1756","v":0},0,0,0]
[{"$f":"Dados_2.11.2019!A1757","v":"00:00:00"},{"$f":"Dados_2.11.2019!B1757","v":"00:00:00"},{"$f":"Dados_2.11.2019!C1757","v":0},0,0,0]
[{"$f":"Dados_2.11.2019!A1758","v":"00:00:00"},{"$f":"Dados_2.11.2019!B1758","v":"00:00:00"},{"$f":"Dados_2.11.2019!C1758","v":0},0,0,0]
[{"$f":"Dados_2.11.2019!A1759","v":"00:00:00"},{"$f":"Dados_2.11.2019!B1759","v":"00:00:00"},{"$f":"Dados_2.11.2019!C1759","v":0},0,0,0]
[{"$f":"Dados_2.11.2019!A1760","v":"00:00:00"},{"$f":"Dados_2.11.2019!B1760","v":"00:00:00"},{"$f":"Dados_2.11.2019!C1760","v":0},{"$f":"IF((0.0005*(C1760^2)+0.0058*(C1760)-0.055)<0,0,IF((0.0005*(C1760^2)+0.0058*(C1760)-0.055)>1,1,(0.0005*(C1760^2)+0.0058*(C1760)-0.055)))","v":0},{"$f":"HOUR(B1760)","v":0},{"$f":"MINUTE(B1760)","v":0}]
[{"$f":"Dados_2.11.2019!A1761","v":"00:00:00"},{"$f":"Dados_2.11.2019!B1761","v":"00:00:00"},{"$f":"Dados_2.11.2019!C1761","v":0},0,0,0]
[{"$f":"Dados_2.11.2019!A1762","v":"00:00:00"},{"$f":"Dados_2.11.2019!B1762","v":"00:00:00"},{"$f":"Dados_2.11.2019!C1762","v":0},0,0,0]
[{"$f":"Dados_2.11.2019!A1763","v":"00:00:00"},{"$f":"Dados_2.11.2019!B1763","v":"00:00:00"},{"$f":"Dados_2.11.2019!C1763","v":0},0,0,0]
[{"$f":"Dados_2.11.2019!A1764","v":"00:00:00"},{"$f":"Dados_2.11.2019!B1764","v":"00:00:00"},{"$f":"Dados_2.11.2019!C1764","v":0},0,0,0]
[{"$f":"Dados_2.11.2019!A1765","v":"00:00:00"},{"$f":"Dados_2.11.2019!B1765","v":"00:00:00"},{"$f":"Dados_2.11.2019!C1765","v":0},0,0,0]
[{"$f":"Dados_2.11.2019!A1766","v":"00:00:00"},{"$f":"Dados_2.11.2019!B1766","v":"00:00:00"},{"$f":"Dados_2.11.2019!C1766","v":0},0,0,0]
[{"$f":"Dados_2.11.2019!A1767","v":"00:00:00"},{"$f":"Dados_2.11.2019!B1767","v":"00:00:00"},{"$f":"Dados_2.11.2019!C1767","v":0},0,0,0]
[{"$f":"Dados_2.11.2019!A1768","v":"00:00:00"},{"$f":"Dados_2.11.2019!B1768","v":"00:00:00"},{"$f":"Dados_2.11.2019!C1768","v":0},0,0,0]
[{"$f":"Dados_2.11.2019!A1769","v":"00:00:00"},{"$f":"Dados_2.11.2019!B1769","v":"00:00:00"},{"$f":"Dados_2.11.2019!C1769","v":0},0,0,0]
[{"$f":"Dados_2.11.2019!A1770","v":"00:00:00"},{"$f":"Dados_2.11.2019!B1770","v":"00:00:00"},{"$f":"Dados_2.11.2019!C1770","v":0},0,0,0]
[{"$f":"Dados_2.11.2019!A1771","v":"00:00:00"},{"$f":"Dados_2.11.2019!B1771","v":"00:00:00"},{"$f":"Dados_2.11.2019!C1771","v":0},0,0,0]
[{"$f":"Dados_2.11.2019!A1772","v":"00:00:00"},{"$f":"Dados_2.11.2019!B1772","v":"00:00:00"},{"$f":"Dados_2.11.2019!C1772","v":0},0,0,0]
[{"$f":"Dados_2.11.2019!A1773","v":"00:00:00"},{"$f":"Dados_2.11.2019!B1773","v":"00:00:00"},{"$f":"Dados_2.11.2019!C1773","v":0},0,0,0]
[{"$f":"Dados_2.11.2019!A1774","v":"00:00:00"},{"$f":"Dados_2.11.2019!B1774","v":"00:00:00"},{"$f":"Dados_2.11.2019!C1774","v":0},0,0,0]
[{"$f":"Dados_2.11.2019!A1775","v":"00:00:00"},{"$f":"Dados_2.11.2019!B1775","v":"00:00:00"},{"$f":"Dados_2.11.2019!C1775","v":0},0,0,0]
[{"$f":"Dados_2.11.2019!A1776","v":"00:00:00"},{"$f":"Dados_2.11.2019!B1776","v":"00:00:00"},{"$f":"Dados_2.11.2019!C1776","v":0},0,0,0]
[{"$f":"Dados_2.11.2019!A1777","v":"00:00:00"},{"$f":"Dados_2.11.2019!B1777","v":"00:00:00"},{"$f":"Dados_2.11.2019!C1777","v":0},0,0,0]
[{"$f":"Dados_2.11.2019!A1778","v":"00:00:00"},{"$f":"Dados_2.11.2019!B1778","v":"00:00:00"},{"$f":"Dados_2.11.2019!C1778","v":0},0,0,0]
[{"$f":"Dados_2.11.2019!A1779","v":"00:00:00"},{"$f":"Dados_2.11.2019!B1779","v":"00:00:00"},{"$f":"Dados_2.11.2019!C1779","v":0},0,0,0]
[{"$f":"Dados_2.11.2019!A1780","v":"00:00:00"},{"$f":"Dados_2.11.2019!B1780","v":"00:00:00"},{"$f":"Dados_2.11.2019!C1780","v":0},0,0,0]
[{"$f":"Dados_2.11.2019!A1781","v":"00:00:00"},{"$f":"Dados_2.11.2019!B1781","v":"00:00:00"},{"$f":"Dados_2.11.2019!C1781","v":0},0,0,0]
[{"$f":"Dados_2.11.2019!A1782","v":"00:00:00"},{"$f":"Dados_2.11.2019!B1782","v":"00:00:00"},{"$f":"Dados_2.11.2019!C1782","v":0},0,0,0]
[{"$f":"Dados_2.11.2019!A1783","v":"00:00:00"},{"$f":"Dados_2.11.2019!B1783","v":"00:00:00"},{"$f":"Dados_2.11.2019!C1783","v":0},0,0,0]
[{"$f":"Dados_2.11.2019!A1784","v":"00:00:00"},{"$f":"Dados_2.11.2019!B1784","v":"00:00:00"},{"$f":"Dados_2.11.2019!C1784","v":0},0,0,0]
[{"$f":"Dados_2.11.2019!A1785","v":"00:00:00"},{"$f":"Dados_2.11.2019!B1785","v":"00:00:00"},{"$f":"Dados_2.11.2019!C1785","v":0},0,0,0]
[{"$f":"Dados_2.11.2019!A1786","v":"00:00:00"},{"$f":"Dados_2.11.2019!B1786","v":"00:00:00"},{"$f":"Dados_2.11.2019!C1786","v":0},0,0,0]
[{"$f":"Dados_2.11.2019!A1787","v":"00:00:00"},{"$f":"Dados_2.11.2019!B1787","v":"00:00:00"},{"$f":"Dados_2.11.2019!C1787","v":0},0,0,0]
[{"$f":"Dados_2.11.2019!A1788","v":"00:00:00"},{"$f":"Dados_2.11.2019!B1788","v":"00:00:00"},{"$f":"Dados_2.11.2019!C1788","v":0},0,0,0]
[{"$f":"Dados_2.11.2019!A1789","v":"00:00:00"},{"$f":"Dados_2.11.2019!B1789","v":"00:00:00"},{"$f":"Dados_2.11.2019!C1789","v":0},0,0,0]
[{"$f":"Dados_2.11.2019!A1790","v":"00:00:00"},{"$f":"Dados_2.11.2019!B1790","v":"00:00:00"},{"$f":"Dados_2.11.2019!C1790","v":0},0,0,0]
[{"$f":"Dados_2.11.2019!A1791","v":"00:00:00"},{"$f":"Dados_2.11.2019!B1791","v":"00:00:00"},{"$f":"Dados_2.11.2019!C1791","v":0},0,0,0]
[{"$f":"Dados_2.11.2019!A1792","v":"00:00:00"},{"$f":"Dados_2.11.2019!B1792","v":"00:00:00"},{"$f":"Dados_2.11.2019!C1792","v":0},0,0,0]
[{"$f":"Dados_2.11.2019!A1793","v":"00:00:00"},{"$f":"Dados_2.11.2019!B1793","v":"00:00:00"},{"$f":"Dados_2.11.2019!C1793","v":0},0,0,0]
[{"$f":"Dados_2.11.2019!A1794","v":"00:00:00"},{"$f":"Dados_2.11.2019!B1794","v":"00:00:00"},{"$f":"Dados_2.11.2019!C1794","v":0},0,0,0]
[{"$f":"Dados_2.11.2019!A1795","v":"00:00:00"},{"$f":"Dados_2.11.2019!B1795","v":"00:00:00"},{"$f":"Dados_2.11.2019!C1795","v":0},0,0,0]
[{"$f":"Dados_2.11.2019!A1796","v":"00:00:00"},{"$f":"Dados_2.11.2019!B1796","v":"00:00:00"},{"$f":"Dados_2.11.2019!C1796","v":0},0,0,0]
[{"$f":"Dados_2.11.2019!A1797","v":"00:00:00"},{"$f":"Dados_2.11.2019!B1797","v":"00:00:00"},{"$f":"Dados_2.11.2019!C1797","v":0},0,0,0]
[{"$f":"Dados_2.11.2019!A1798","v":"00:00:00"},{"$f":"Dados_2.11.2019!B1798","v":"00:00:00"},{"$f":"Dados_2.11.2019!C1798","v":0},0,0,0]
[{"$f":"Dados_2.11.2019!A1799","v":"00:00:00"},{"$f":"Dados_2.11.2019!B1799","v":"00:00:00"},{"$f":"Dados_2.11.2019!C1799","v":0},0,0,0]
[{"$f":"Dados_2.11.2019!A1800","v":"00:00:00"},{"$f":"Dados_2.11.2019!B1800","v":"00:00:00"},{"$f":"Dados_2.11.2019!C1800","v":0},0,0,0]
[{"$f":"Dados_2.11.2019!A1801","v":"00:00:00"},{"$f":"Dados_2.11.2019!B1801","v":"00:00:00"},{"$f":"Dados_2.11.2019!C1801","v":0},0,0,0]
[{"$f":"Dados_2.11.2019!A1802","v":"00:00:00"},{"$f":"Dados_2.11.2019!B1802","v":"00:00:00"},{"$f":"Dados_2.11.2019!C1802","v":0},0,0,0]
[{"$f":"Dados_2.11.2019!A1803","v":"00:00:00"},{"$f":"Dados_2.11.2019!B1803","v":"00:00:00"},{"$f":"Dados_2.11.2019!C1803","v":0},0,0,0]
[{"$f":"Dados_2.11.2019!A1804","v":"00:00:00"},{"$f":"Dados_2.11.2019!B1804","v":"00:00:00"},{"$f":"Dados_2.11.2019!C1804","v":0},0,0,0]
[{"$f":"Dados_2.11.2019!A1805","v":"00:00:00"},{"$f":"Dados_2.11.2019!B1805","v":"00:00:00"},{"$f":"Dados_2.11.2019!C1805","v":0},0,0,0]
[{"$f":"Dados_2.11.2019!A1806","v":"00:00:00"},{"$f":"Dados_2.11.2019!B1806","v":"00:00:00"},{"$f":"Dados_2.11.2019!C1806","v":0},0,0,0]
[{"$f":"Dados_2.11.2019!A1807","v":"00:00:00"},{"$f":"Dados_2.11.2019!B1807","v":"00:00:00"},{"$f":"Dados_2.11.2019!C1807","v":0},0,0,0]
[{"$f":"Dados_2.11.2019!A1808","v":"00:00:00"},{"$f":"Dados_2.11.2019!B1808","v":"00:00:00"},{"$f":"Dados_2.11.2019!C1808","v":0},0,0,0]
[{"$f":"Dados_2.11.2019!A1809","v":"00:00:00"},{"$f":"Dados_2.11.2019!B1809","v":"00:00:00"},{"$f":"Dados_2.11.2019!C1809","v":0},0,0,0]
[{"$f":"Dados_2.11.2019!A1810","v":"00:00:00"},{"$f":"Dados_2.11.2019!B1810","v":"00:00:00"},{"$f":"Dados_2.11.2019!C1810","v":0},0,0,0]
[{"$f":"Dados_2.11.2019!A1811","v":"00:00:00"},{"$f":"Dados_2.11.2019!B1811","v":"00:00:00"},{"$f":"Dados_2.11.2019!C1811","v":0},0,0,0]
[{"$f":"Dados_2.11.2019!A1812","v":"00:00:00"},{"$f":"Dados_2.11.2019!B1812","v":"00:00:00"},{"$f":"Dados_2.11.2019!C1812","v":0},0,0,0]
[{"$f":"Dados_2.11.2019!A1813","v":"00:00:00"},{"$f":"Dados_2.11.2019!B1813","v":"00:00:00"},{"$f":"Dados_2.11.2019!C1813","v":0},0,0,0]
[{"$f":"Dados_2.11.2019!A1814","v":"00:00:00"},{"$f":"Dados_2.11.2019!B1814","v":"00:00:00"},{"$f":"Dados_2.11.2019!C1814","v":0},0,0,0]
[{"$f":"Dados_2.11.2019!A1815","v":"00:00:00"},{"$f":"Dados_2.11.2019!B1815","v":"00:00:00"},{"$f":"Dados_2.11.2019!C1815","v":0},0,0,0]
[{"$f":"Dados_2.11.2019!A1816","v":"00:00:00"},{"$f":"Dados_2.11.2019!B1816","v":"00:00:00"},{"$f":"Dados_2.11.2019!C1816","v":0},0,0,0]
[{"$f":"Dados_2.11.2019!A1817","v":"00:00:00"},{"$f":"Dados_2.11.2019!B1817","v":"00:00:00"},{"$f":"Dados_2.11.2019!C1817","v":0},0,0,0]
[{"$f":"Dados_2.11.2019!A1818","v":"00:00:00"},{"$f":"Dados_2.11.2019!B1818","v":"00:00:00"},{"$f":"Dados_2.11.2019!C1818","v":0},0,0,0]
[{"$f":"Dados_2.11.2019!A1819","v":"00:00:00"},{"$f":"Dados_2.11.2019!B1819","v":"00:00:00"},{"$f":"Dados_2.11.2019!C1819","v":0},0,0,0]
[{"$f":"Dados_2.11.2019!A1820","v":"00:00:00"},{"$f":"Dados_2.11.2019!B1820","v":"00:00:00"},{"$f":"Dados_2.11.2019!C1820","v":0},0,0,0]
[{"$f":"Dados_2.11.2019!A1821","v":"00:00:00"},{"$f":"Dados_2.11.2019!B1821","v":"00:00:00"},{"$f":"Dados_2.11.2019!C1821","v":0},0,0,0]
[{"$f":"Dados_2.11.2019!A1822","v":"00:00:00"},{"$f":"Dados_2.11.2019!B1822","v":"00:00:00"},{"$f":"Dados_2.11.2019!C1822","v":0},0,0,0]
[{"$f":"Dados_2.11.2019!A1823","v":"00:00:00"},{"$f":"Dados_2.11.2019!B1823","v":"00:00:00"},{"$f":"Dados_2.11.2019!C1823","v":0},0,0,0]
[{"$f":"Dados_2.11.2019!A1824","v":"00:00:00"},{"$f":"Dados_2.11.2019!B1824","v":"00:00:00"},{"$f":"Dados_2.11.2019!C1824","v":0},{"$f":"IF((0.0005*(C1824^2)+0.0058*(C1824)-0.055)<0,0,IF((0.0005*(C1824^2)+0.0058*(C1824)-0.055)>1,1,(0.0005*(C1824^2)+0.0058*(C1824)-0.055)))","v":0},{"$f":"HOUR(B1824)","v":0},{"$f":"MINUTE(B1824)","v":0}]
[{"$f":"Dados_2.11.2019!A1825","v":"00:00:00"},{"$f":"Dados_2.11.2019!B1825","v":"00:00:00"},{"$f":"Dados_2.11.2019!C1825","v":0},0,0,0]
[{"$f":"Dados_2.11.2019!A1826","v":"00:00:00"},{"$f":"Dados_2.11.2019!B1826","v":"00:00:00"},{"$f":"Dados_2.11.2019!C1826","v":0},0,0,0]
[{"$f":"Dados_2.11.2019!A1827","v":"00:00:00"},{"$f":"Dados_2.11.2019!B1827","v":"00:00:00"},{"$f":"Dados_2.11.2019!C1827","v":0},0,0,0]
[{"$f":"Dados_2.11.2019!A1828","v":"00:00:00"},{"$f":"Dados_2.11.2019!B1828","v":"00:00:00"},{"$f":"Dados_2.11.2019!C1828","v":0},0,0,0]
[{"$f":"Dados_2.11.2019!A1829","v":"00:00:00"},{"$f":"Dados_2.11.2019!B1829","v":"00:00:00"},{"$f":"Dados_2.11.2019!C1829","v":0},0,0,0]
[{"$f":"Dados_2.11.2019!A1830","v":"00:00:00"},{"$f":"Dados_2.11.2019!B1830","v":"00:00:00"},{"$f":"Dados_2.11.2019!C1830","v":0},0,0,0]
[{"$f":"Dados_2.11.2019!A1831","v":"00:00:00"},{"$f":"Dados_2.11.2019!B1831","v":"00:00:00"},{"$f":"Dados_2.11.2019!C1831","v":0},0,0,0]
[{"$f":"Dados_2.11.2019!A1832","v":"00:00:00"},{"$f":"Dados_2.11.2019!B1832","v":"00:00:00"},{"$f":"Dados_2.11.2019!C1832","v":0},0,0,0]
[{"$f":"Dados_2.11.2019!A1833","v":"00:00:00"},{"$f":"Dados_2.11.2019!B1833","v":"00:00:00"},{"$f":"Dados_2.11.2019!C1833","v":0},0,0,0]
[{"$f":"Dados_2.11.2019!A1834","v":"00:00:00"},{"$f":"Dados_2.11.2019!B1834","v":"00:00:00"},{"$f":"Dados_2.11.2019!C1834","v":0},0,0,0]
[{"$f":"Dados_2.11.2019!A1835","v":"00:00:00"},{"$f":"Dados_2.11.2019!B1835","v":"00:00:00"},{"$f":"Dados_2.11.2019!C1835","v":0},0,0,0]
[{"$f":"Dados_2.11.2019!A1836","v":"00:00:00"},{"$f":"Dados_2.11.2019!B1836","v":"00:00:00"},{"$f":"Dados_2.11.2019!C1836","v":0},0,0,0]
[{"$f":"Dados_2.11.2019!A1837","v":"00:00:00"},{"$f":"Dados_2.11.2019!B1837","v":"00:00:00"},{"$f":"Dados_2.11.2019!C1837","v":0},0,0,0]
[{"$f":"Dados_2.11.2019!A1838","v":"00:00:00"},{"$f":"Dados_2.11.2019!B1838","v":"00:00:00"},{"$f":"Dados_2.11.2019!C1838","v":0},0,0,0]
[{"$f":"Dados_2.11.2019!A1839","v":"00:00:00"},{"$f":"Dados_2.11.2019!B1839","v":"00:00:00"},{"$f":"Dados_2.11.2019!C1839","v":0},0,0,0]
[{"$f":"Dados_2.11.2019!A1840","v":"00:00:00"},{"$f":"Dados_2.11.2019!B1840","v":"00:00:00"},{"$f":"Dados_2.11.2019!C1840","v":0},0,0,0]

{"sheet":"Configurações","index":2,"n_rows":3337,"n_cols":3,"rows_kept":3337,"cut":false,"hidden":false,"merged":[]}
[]
[null,"Dia",{"$f":"DAY(TODAY())","v":22}]
[null,"Mês",{"$f":"MONTH(TODAY())","v":5}]
[null,"Ano",{"$f":"YEAR(TODAY())","v":2020}]
[]
[]
[]
[]
[]
[]
[]
[]
[]
[]
[]
[]
[]
[]
[]
[]
[]
[]
[]
[]
[]
[]
[]
[]
[]
[]
[]
[]
[]
[]
[]
[]
[]
[]
[]
[]
[]
[]
[]
[]
[]
[]
[]
[]
[]
[]
[]
[]
[]
[]
[]
[]
[]
[]
[]
[]
[]
[]
[]
[]
[]
[]
[]
[]
[]
[]
[]
[]
[]
[]
[]
[]
[]
[]
[]
[]
[]
[]
[]
[]
[]
[]
[]
[]
[]
[]
[]
[]
[]
[]
[]
[]
[]
[]
[]
[]
[]
[]
[]
[]
[]
[]
[]
[]
[]
[]
[]
[]
[]
[]
[]
[]
[]
[]
[]
[]
[]
[]
[]
[]
[]
[]
[]
[]
[]
[]
[]
[]
[]
[]
[]
[]
[]
[]
[]
[]
[]
[]
[]
[]
[]
[]
[]
[]
[]
[]
[]
[]
[]
[]
[]
[]
[]
[]
[]
[]
[]
[]
[]
[]
[]
[]
[]
[]
[]
[]
[]
[]
[]
[]
[]
[]
[]
[]
[]
[]
[]
[]
[]
[]
[]
[]
[]
[]
[]
[]
[]
[]
[]
[]
[]
[]
[]
[]
[]
[]
[]
[]
[]
[]
[]
[]
[]
[]
[]
[]
[]
[]
[]
[]
[]
[]
[]
[]
[]
[]
[]
[]
[]
[]
[]
[]
[]
[]
[]
[]
[]
[]
[]
[]
[]
[]
[]
[]
[]
[]
[]
[]
[]
[]
[]
[]
[]
[]
[]
[]
[]
[]
[]
[]
[]
[]
[]
[]
[]
[]
[]
[]
[]
[]
[]
[]
[]
[]
[]
[]
[]
[]
[]
[]
[]
["2019-11-20","23:06:05",36]
["2019-11-20","23:06:05",10]
["2019-11-20","23:06:05",22]
["2019-11-20","23:06:05",39]
["2019-11-20","23:06:05",15]
["2019-11-20","23:06:05",33]
["2019-11-20","23:06:05",20]
["2019-11-20","23:06:05",7]
["2019-11-20","23:06:06",39]
["2019-11-20","23:06:06",36]
["2019-11-20","23:06:06",14]
["2019-11-20","23:06:06",28]
["2019-11-20","23:06:06",34]
["2019-11-20","23:06:07",19]
["2019-11-20","23:06:07",21]
["2019-11-20","23:06:07",33]
["2019-11-20","23:06:07",18]
["2019-11-20","23:06:07",14]
["2019-11-20","23:06:08",38]
["2019-11-20","23:06:08",28]
[]
[]
[]
[]
[]
[]
[]
[]
[]
[]
[]
[]
[]
[]
[]
[]
[]
[]
[]
[]
[]
[]
[]
[]
[]
[]
[]
[]
[]
[]
[]
[]
[]
[]
[]
[]
[]
[]
[]
[]
[]
[]
[]
[]
[]
[]
[]
[]
[]
[]
[]
[]
[]
[]
[]
[]
[]
[]
[]
[]
[]
[]
[]
[]
[]
[]
[]
[]
[]
[]
[]
[]
[]
[]
[]
[]
[]
[]
[]
[]
[]
[]
[]
[]
[]
[]
[]
[]
[]
[]
[]
[]
[]
[]
[]
[]
[]
[]
[]
[]
[]
[]
[]
[]
[]
[]
[]
[]
[]
[]
[]
[]
[]
[]
[]
[]
[]
[]
[]
[]
[]
[]
[]
[]
[]
[]
[]
[]
[]
[]
[]
[]
[]
[]
[]
[]
[]
[]
[]
[]
[]
[]
[]
[]
[]
[]
[]
[]
[]
[]
[]
[]
[]
[]
[]
[]
[]
[]
[]
[]
[]
[]
[]
[]
[]
[]
[]
[]
[]
[]
[]
[]
[]
[]
[]
[]
[]
[]
[]
[]
[]
[]
[]
[]
[]
[]
[]
[]
[]
[]
[]
[]
[]
[]
[]
[]
[]
[]
[]
[]
[]
[]
[]
[]
[]
[]
[]
[]
[]
[]
[]
[]
[]
[]
[]
[]
[]
[]
[]
[]
[]
[]
[]
[]
[]
[]
[]
[]
[]
[]
[]
[]
[]
[]
[]
[]
[]
[]
[]
[]
[]
[]
[]
[]
[]
[]
[]
[]
[]
[]
[]
[]
[]
[]
[]
[]
[]
[]
[]
[]
[]
[]
[]
[]
[]
[]
[]
[]
[]
[]
[]
[]
[]
[]
[]
[]
[]
[]
[]
[]
[]
[]
[]
[]
[]
[]
[]
[]
[]
[]
[]
[]
[]
[]
[]
[]
[]
[]
[]
[]
[]
[]
[]
[]
[]
[]
[]
[]
[]
[]
[]
[]
[]
[]
[]
[]
[]
[]
[]
[]
[]
[]
[]
[]
[]
[]
[]
[]
[]
[]
[]
[]
[]
[]
[]
[]
[]
[]
[]
[]
[]
[]
[]
[]
[]
[]
[]
[]
[]
[]
[]
[]
[]
[]
[]
[]
[]
[]
[]
[]
[]
[]
[]
[]
[]
[]
[]
[]
[]
[]
[]
[]
[]
[]
[]
[]
[]
[]
[]
[]
[]
[]
[]
[]
[]
[]
[]
[]
[]
[]
[]
[]
[]
[]
[]
[]
[]
[]
[]
[]
[]
[]
[]
[]
[]
[]
[]
[]
[]
[]
[]
[]
[]
[]
[]
[]
[]
[]
[]
[]
[]
[]
[]
[]
[]
[]
[]
[]
[]
[]
[]
[]
[]
[]
[]
[]
[]
[]
[]
[]
[]
[]
[]
[]
[]
[]
[]
[]
[]
[]
[]
[]
[]
[]
[]
[]
[]
[]
[]
[]
[]
[]
[]
[]
[]
[]
[]
[]
[]
[]
[]
[]
[]
[]
[]
[]
[]
[]
[]
[]
[]
[]
[]
[]
[]
[]
[]
[]
[]
[]
[]
[]
[]
[]
[]
[]
[]
[]
[]
[]
[]
[]
[]
[]
[]
[]
[]
[]
[]
[]
[]
[]
[]
[]
[]
[]
[]
[]
[]
[]
[]
[]
[]
[]
[]
[]
[]
[]
[]
[]
[]
[]
[]
[]
[]
[]
[]
[]
[]
[]
[]
[]
[]
[]
[]
[]
[]
[]
[]
[]
[]
[]
[]
[]
[]
[]
[]
[]
[]
[]
[]
[]
[]
[]
[]
[]
[]
[]
[]
[]
[]
[]
[]
[]
[]
[]
[]
[]
[]
[]
[]
[]
[]
[]
[]
[]
[]
[]
[]
[]
[]
[]
[]
[]
[]
[]
[]
[]
[]
[]
[]
[]
[]
[]
[]
[]
[]
[]
[]
[]
[]
[]
[]
[]
[]
[]
[]
[]
[]
[]
[]
[]
[]
[]
[]
[]
[]
[]
[]
[]
[]
[]
[]
[]
[]
[]
[]
[]
[]
[]
[]
[]
[]
[]
[]
[]
[]
[]
[]
[]
[]
[]
[]
[]
[]
[]
[]
[]
[]
[]
[]
[]
[]
[]
[]
[]
[]
[]
[]
[]
[]
[]
[]
[]
[]
[]
[]
[]
[]
[]
[]
[]
[]
[]
[]
[]
[]
[]
[]
[]
[]
[]
[]
[]
[]
[]
[]
[]
[]
[]
[]
[]
[]
[]
[]
[]
[]
[]
[]
[]
[]
[]
[]
[]
[]
[]
[]
[]
[]
[]
[]
[]
[]
[]
[]
[]
[]
[]
[]
[]
[]
[]
[]
[]
[]
[]
[]
[]
[]
[]
[]
[]
[]
[]
[]
[]
[]
[]
[]
[]
[]
[]
[]
[]
[]
[]
[]
[]
[]
[]
[]
[]
[]
[]
[]
[]
[]
[]
[]
[]
[]
[]
[]
[]
[]
[]
[]
[]
[]
[]
[]
[]
[]
[]
[]
[]
[]
[]
[]
[]
[]
[]
[]
[]
[]
[]
[]
[]
[]
[]
[]
[]
[]
[]
[]
[]
[]
[]
[]
[]
[]
[]
[]
[]
[]
[]
[]
[]
[]
[]
[]
[]
[]
[]
[]
[]
[]
[]
[]
[]
[]
[]
[]
[]
[]
[]
[]
[]
[]
[]
[]
[]
[]
[]
[]
[]
[]
[]
[]
[]
[]
[]
[]
[]
[]
[]
[]
[]
[]
[]
[]
[]
[]
[]
[]
[]
[]
[]
[]
[]
[]
[]
[]
[]
[]
[]
[]
[]
[]
[]
[]
[]
[]
[]
[]
[]
[]
[]
[]
[]
[]
[]
[]
[]
[]
[]
[]
[]
[]
[]
[]
[]
[]
[]
[]
[]
[]
[]
[]
[]
[]
[]
[]
[]
[]
[]
[]
[]
[]
[]
[]
[]
[]
[]
[]
[]
[]
[]
[]
[]
[]
[]
[]
[]
[]
[]
[]
[]
[]
[]
[]
[]
[]
[]
[]
[]
[]
[]
[]
[]
[]
[]
[]
[]
[]
[]
[]
[]
[]
[]
[]
[]
[]
[]
[]
[]
[]
[]
[]
[]
[]
[]
[]
[]
[]
[]
[]
[]
[]
[]
[]
[]
[]
[]
[]
[]
[]
[]
[]
[]
[]
[]
[]
[]
[]
[]
[]
[]
[]
[]
[]
[]
[]
[]
[]
[]
[]
[]
[]
[]
[]
[]
[]
[]
[]
[]
[]
[]
[]
[]
[]
[]
[]
[]
[]
[]
[]
[]
[]
[]
[]
[]
[]
[]
[]
[]
[]
[]
[]
[]
[]
[]
[]
[]
[]
[]
[]
[]
[]
[]
[]
[]
[]
[]
[]
[]
[]
[]
[]
[]
[]
[]
[]
[]
[]
[]
[]
[]
[]
[]
[]
[]
[]
[]
[]
[]
[]
[]
[]
[]
[]
[]
[]
[]
[]
[]
[]
[]
[]
[]
[]
[]
[]
[]
[]
[]
[]
[]
[]
[]
[]
[]
[]
[]
[]
[]
[]
[]
[]
[]
[]
[]
[]
[]
[]
[]
[]
[]
[]
[]
[]
[]
[]
[]
[]
[]
[]
[]
[]
[]
[]
[]
[]
[]
[]
[]
[]
[]
[]
[]
[]
[]
[]
[]
[]
[]
[]
[]
[]
[]
[]
[]
[]
[]
[]
[]
[]
[]
[]
[]
[]
[]
[]
[]
[]
[]
[]
[]
[]
[]
[]
[]
[]
[]
[]
[]
[]
[]
[]
[]
[]
[]
[]
[]
[]
[]
[]
[]
[]
[]
[]
[]
[]
[]
[]
[]
[]
[]
[]
[]
[]
[]
[]
[]
[]
[]
[]
[]
[]
[]
[]
[]
[]
[]
[]
[]
[]
[]
[]
[]
[]
[]
[]
[]
[]
[]
[]
[]
[]
[]
[]
[]
[]
[]
[]
[]
[]
[]
[]
[]
[]
[]
[]
[]
[]
[]
[]
[]
[]
[]
[]
[]
[]
[]
[]
[]
[]
[]
[]
[]
[]
[]
[]
[]
[]
[]
[]
[]
[]
[]
[]
[]
[]
[]
[]
[]
[]
[]
[]
[]
[]
[]
[]
[]
[]
[]
[]
[]
[]
[]
[]
[]
[]
[]
[]
[]
[]
[]
[]
[]
[]
[]
[]
[]
[]
[]
[]
[]
[]
[]
[]
[]
[]
[]
[]
[]
[]
[]
[]
[]
[]
[]
[]
[]
[]
[]
[]
[]
[]
[]
[]
[]
[]
[]
[]
[]
[]
[]
[]
[]
[]
[]
[]
[]
[]
[]
[]
[]
[]
[]
[]
[]
[]
[]
[]
[]
[]
[]
[]
[]
[]
[]
[]
[]
[]
[]
[]
[]
[]
[]
[]
[]
[]
[]
[]
[]
[]
[]
[]
[]
[]
[]
[]
[]
[]
[]
[]
[]
[]
[]
[]
[]
[]
[]
[]
[]
[]
[]
[]
[]
[]
[]
[]
[]
[]
[]
[]
[]
[]
[]
[]
[]
[]
[]
[]
[]
[]
[]
[]
[]
[]
[]
[]
[]
[]
[]
[]
[]
[]
[]
[]
[]
[]
[]
[]
[]
[]
[]
[]
[]
[]
[]
[]
[]
[]
[]
[]
[]
[]
[]
[]
[]
[]
[]
[]
[]
[]
[]
[]
[]
[]
[]
[]
[]
[]
[]
[]
[]
[]
[]
[]
[]
[]
[]
[]
[]
[]
[]
[]
[]
[]
[]
[]
[]
[]
[]
[]
[]
[]
[]
[]
[]
[]
[]
[]
[]
[]
[]
[]
[]
[]
[]
[]
[]
[]
[]
[]
[]
[]
[]
[]
[]
[]
[]
[]
[]
[]
[]
[]
[]
[]
[]
[]
[]
[]
[]
[]
[]
[]
[]
[]
[]
[]
[]
[]
[]
[]
[]
[]
[]
[]
[]
[]
[]
[]
[]
[]
[]
[]
[]
[]
[]
[]
[]
[]
[]
[]
[]
[]
[]
[]
[]
[]
[]
[]
[]
[]
[]
[]
[]
[]
[]
[]
[]
[]
[]
[]
[]
[]
[]
[]
[]
[]
[]
[]
[]
[]
[]
[]
[]
[]
[]
[]
[]
[]
[]
[]
[]
[]
[]
[]
[]
[]
[]
[]
[]
[]
[]
[]
[]
[]
[]
[]
[]
[]
[]
[]
[]
[]
[]
[]
[]
[]
[]
[]
[]
[]
[]
[]
[]
[]
[]
[]
[]
[]
[]
[]
[]
[]
[]
[]
[]
[]
[]
[]
[]
[]
[]
[]
[]
[]
[]
[]
[]
[]
[]
[]
[]
[]
[]
[]
[]
[]
[]
[]
[]
[]
[]
[]
[]
[]
[]
[]
[]
[]
[]
[]
[]
[]
[]
[]
[]
[]
[]
[]
[]
[]
[]
[]
[]
[]
[]
[]
[]
[]
[]
[]
[]
[]
[]
[]
[]
[]
[]
[]
[]
[]
[]
[]
[]
[]
[]
[]
[]
[]
[]
[]
[]
[]
[]
[]
[]
[]
[]
[]
[]
[]
[]
[]
[]
[]
[]
[]
[]
[]
[]
[]
[]
[]
[]
[]
[]
[]
[]
[]
[]
[]
[]
[]
[]
[]
[]
[]
[]
[]
[]
[]
[]
[]
[]
[]
[]
[]
[]
[]
[]
[]
[]
[]
[]
[]
[]
[]
[]
[]
[]
[]
[]
[]
[]
[]
[]
[]
[]
[]
[]
[]
[]
[]
[]
[]
[]
[]
[]
[]
[]
[]
[]
[]
[]
[]
[]
[]
[]
[]
[]
[]
[]
[]
[]
[]
[]
[]
[]
[]
[]
[]
[]
[]
[]
[]
[]
[]
[]
[]
[]
[]
[]
[]
[]
[]
[]
[]
[]
[]
[]
[]
[]
[]
[]
[]
[]
[]
[]
[]
[]
[]
[]
[]
[]
[]
[]
[]
[]
[]
[]
[]
[]
[]
[]
[]
[]
[]
[]
[]
[]
[]
[]
[]
[]
[]
[]
[]
[]
[]
[]
[]
[]
[]
[]
[]
[]
[]
[]
[]
[]
[]
[]
[]
[]
[]
[]
[]
[]
[]
[]
[]
[]
[]
[]
[]
[]
[]
[]
[]
[]
[]
[]
[]
[]
[]
[]
[]
[]
[]
[]
[]
[]
[]
[]
[]
[]
[]
[]
[]
[]
[]
[]
[]
[]
[]
[]
[]
[]
[]
[]
[]
[]
[]
[]
[]
[]
[]
[]
[]
[]
[]
[]
[]
[]
[]
[]
[]
[]
[]
[]
[]
[]
[]
[]
[]
[]
[]
[]
[]
[]
[]
[]
[]
[]
[]
[]
[]
[]
[]
[]
[]
[]
[]
[]
[]
[]
[]
[]
[]
[]
[]
[]
[]
[]
[]
[]
[]
[]
[]
[]
[]
[]
[]
[]
[]
[]
[]
[]
[]
[]
[]
[]
[]
[]
[]
[]
[]
[]
[]
[]
[]
[]
[]
[]
[]
[]
[]
[]
[]
[]
[]
[]
[]
[]
[]
[]
[]
[]
[]
[]
[]
[]
[]
[]
[]
[]
[]
[]
[]
[]
[]
[]
[]
[]
[]
[]
[]
[]
[]
[]
[]
[]
[]
[]
[]
[]
[]
[]
[]
[]
[]
[]
[]
[]
[]
[]
[]
[]
[]
[]
[]
[]
[]
[]
[]
[]
[]
[]
[]
[]
[]
[]
[]
[]
[]
[]
[]
[]
[]
[]
[]
[]
[]
[]
[]
[]
[]
[]
[]
[]
[]
[]
[]
[]
[]
[]
[]
[]
[]
[]
[]
[]
[]
[]
[]
[]
[]
[]
[]
[]
[]
[]
[]
[]
[]
[]
[]
[]
[]
[]
[]
[]
[]
[]
[]
[]
[]
[]
[]
[]
[]
[]
[]
[]
[]
[]
[]
[]
[]
[]
[]
[]
[]
[]
[]
[]
[]
[]
[]
[]
[]
[]
[]
[]
[]
[]
[]
[]
[]
[]
[]
[]
[]
[]
[]
[]
[]
[]
[]
[]
[]
[]
[]
[]
[]
[]
[]
[]
[]
[]
[]
[]
[]
[]
[]
[]
[]
[]
[]
[]
[]
[]
[]
[]
[]
[]
[]
[]
[]
[]
[]
[]
[]
[]
[]
[]
[]
[]
[]
[]
[]
[]
[]
[]
[]
[]
[]
[]
[]
[]
[]
[]
[]
[]
[]
[]
[]
[]
[]
[]
[]
[]
[]
[]
[]
[]
[]
[]
[]
[]
[]
[]
[]
[]
[]
[]
[]
[]
[]
[]
[]
[]
[]
[]
[]
[]
[]
[]
[]
[]
[]
[]
[]
[]
[]
[]
[]
[]
[]
[]
[]
[]
[]
[]
[]
[]
[]
[]
[]
[]
[]
[]
[]
[]
[]
[]
[]
[]
[]
[]
[]
[]
[]
[]
[]
[]
[]
[]
[]
[]
[]
[]
[]
[]
[]
[]
[]
[]
[]
[]
[]
[]
[]
[]
[]
[]
[]
[]
[]
[]
[]
[]
[]
[]
[]
[]
[]
[]
[]
[]
[]
[]
[]
[]
[]
[]
[]
[]
[]
[]
[]
[]
[]
[]
[]
[]
[]
[]
[]
[]
[]
[]
[]
[]
[]
[]
[]
[]
[]
[]
[]
[]
[]
[]
[]
[]
[]
[]
[]
[]
[]
[]
[]
[]
[]
[]
[]
[]
[]
[]
[]
[]
[]
[]
[]
[]
[]
[]
[]
[]
[]
[]
[]
[]
[]
[]
[]
[]
[]
[]
[]
[]
[]
[]
[]
[]
[]
[]
[]
[]
[]
[]
[]
[]
[]
[]
[]
[]
[]
[]
[]
[]
[]
[]
[]
[]
[]
[]
[]
[]
[]
[]
[]
[]
[]
[]
[]
[]
[]
[]
[]
[]
[]
[]
[]
[]
[]
[]
[]
[]
[]
[]
[]
[]
[]
[]
[]
[]
[]
[]
[]
[]
[]
[]
[]
[]
[]
[]
[]
[]
[]
[]
[]
[]
[]
[]
[]
[]
[]
[]
[]
[]
[]
[]
[]
[]
[]
[]
[]
[]
[]
[]
[]
[]
[]
[]
[]
[]
[]
[]
[]
[]
[]
[]
[]
[]
[]
[]
[]
[]
[]
[]
[]
[]
[]
[]
[]
[]
[]
[]
[]
[]
[]
[]
[]
[]
[]
[]
[]
[]
[]
[]
[]
[]
[]
[]
[]
[]
[]
[]
[]
[]
[]
[]
[]
[]
[]
[]
[]
[]
[]
[]
[]
[]
[]
[]
[]
[]
[]
[]
[]
[]
[]
[]
[]
[]
[]
[]
[]
[]
[]
[]
[]
[]
[]
[]
[]
[]
[]
[]
[]
[]
[]
[]
[]
[]
[]
[]
[]
[]
[]
[]
[]
[]
[]
[]
[]
[]
[]
[]
[]
[]
[]
[]
[]
[]
[]
[]
[]
[]
[]
[]
[]
[]
[]
[]
[]
[]
[]
[]
[]
[]
[]
[]
[]
[]
[]
[]
[]
[]
[]
[]
[]
[]
[]
[]
[]
[]
[]
[]
[]
[]
[]
[]
[]
[]
[]
[]
[]
[]
[]
[]
[]
[]
[]
[]
[]
[]
[]
[]
[]
[]
[]
[]
[]
[]
[]
[]
[]
[]
[]
[]
[]
[]
[]
[]
[]
[]
[]
[]
[]
[]
[]
[]
[]
[]
[]
[]
[]
[]
[]
[]
[]
[]
[]
[]
[]
[]
[]
[]
[]
[]
[]
[]
[]
[]
[]
[]
[]
[]
[]
[]
[]
[]
[]
[]
[]
[]
[]
[]
[]
[]
[]
[]
[]
[]
[]
[]
[]
[]
[]
[]
[]
[]
[]
[]
[]
[]
[]
[]
[]
[]
[]
[]
[]
[]
[]
[]
[]
[]
[]
[]
[]
[]
[]
[]
[]
[]
[]
[]
[]
[]
[]
[]
[]
[]
[]
[]
[]
[]
[]
[]
[]
[]
[]
[]
[]
[]
[]
[]
[]
[]
[]
[]
[]
[]
[]
[]
[]
[]
[]
[]
[]
[]
[]
[]
[]
[]
[]
[]
[]
[]
[]
[]
[]
[]
[]
[]
[]
[]
[]
[]
[]
[]
[]
[]
[]
[]
[]
[]
[]
[]
[]
[]
[]
[]
[]
[]
[]
[]
[]
[]
[]
[]
[]
[]
[]
[]
[]
[]
[]
[]
[]
[]
[]
[]
[]
[]
[]
[]
[]
[]
[]
[]
[]
[]
[]
[]
[]
[]
[]
[]
[]
[]
[]
[]
[]
[]
[]
[]
[]
[]
[]
[]
[]
[]
[]
[]
[]
[]
[]
[]
[]
[]
[]
[]
[]
[]
[]
[]
[]
[]
[]
[]
[]
[]
[]
[]
[]
[]
[]
[]
[]
[]
[]
[]
[]
[]
[]
[]
[]
[]
[]
[]
[]
[]
[]
[]
[]
[]
[]
[]
[]
[]
[]
[]
[]
[]
[]
[]
[]
[]
[]
[]
[]
[]
[]
[]
[]
[]
[]
[]
[]
[]
[]
[]
[]
[]
[]
[]
[]
[]
[]
[]
[]
[]
[]
[]
[]
[]
[]
[]
[]
[]
[]
[]
[]
[]
[]
[]
[]
[]
[]
[]
[]
[]
[]
[]
[]
[]
[]
[]
[]
[]
[]
[]
[]
[]
[]
[]
[]
[]
[]
[]
[]
[]
[]
[]
[]
[]
[]
[]
[]
[]
[]
[]
[]
[]
["2019-11-20","23:18:04",10]
["2019-11-20","23:18:04",23]
["2019-11-20","23:18:04",34]
["2019-11-20","23:18:05",13]
["2019-11-20","23:18:05",35]
["2019-11-20","23:18:05",17]
["2019-11-20","23:18:05",8]
["2019-11-20","23:18:05",39]
["2019-11-20","23:18:05",31]
["2019-11-20","23:18:05",27]
["2019-11-20","23:18:05",21]
["2019-11-20","23:18:05",15]
["2019-11-20","23:18:05",27]
["2019-11-20","23:18:06",37]
["2019-11-20","23:18:06",31]
["2019-11-20","23:18:06",24]
["2019-11-20","23:18:06",18]
["2019-11-20","23:18:06",33]

{"sheet":"Dados","index":3,"n_rows":1,"n_cols":3,"rows_kept":1,"cut":false,"hidden":false,"merged":[]}
["Data","Hora","Potencia ativa (kW)"]

{"sheet":"Resultados","index":4,"n_rows":756,"n_cols":6,"rows_kept":756,"cut":false,"hidden":false,"merged":[]}
["Data","Horário","Potência ativa","Produtividade","Categoria hora","Categoria minuto"]
[{"$f":"Dados!A2","v":"00:00:00"},{"$f":"Dados!B2","v":"00:00:00"},{"$f":"Dados!C2","v":0},{"$f":"IF((0.0005*(C2^2)+0.0058*(C2)-0.055)<0,0,IF((0.0005*(C2^2)+0.0058*(C2)-0.055)>1,1,(0.0005*(C2^2)+0.0058*(C2)-0.055)))","v":0},{"$f":"HOUR(B2)","v":0},{"$f":"MINUTE(B2)","v":0}]
[{"$f":"Dados!A3","v":"00:00:00"},{"$f":"Dados!B3","v":"00:00:00"},{"$f":"Dados!C3","v":0},{"$f":"IF((0.0005*(C3^2)+0.0058*(C3)-0.055)<0,0,IF((0.0005*(C3^2)+0.0058*(C3)-0.055)>1,1,(0.0005*(C3^2)+0.0058*(C3)-0.055)))","v":0},{"$f":"HOUR(B3)","v":0},{"$f":"MINUTE(B3)","v":0}]
[{"$f":"Dados!A4","v":"00:00:00"},{"$f":"Dados!B4","v":"00:00:00"},{"$f":"Dados!C4","v":0},0,0,0]
[{"$f":"Dados!A5","v":"00:00:00"},{"$f":"Dados!B5","v":"00:00:00"},{"$f":"Dados!C5","v":0},0,0,0]
[{"$f":"Dados!A6","v":"00:00:00"},{"$f":"Dados!B6","v":"00:00:00"},{"$f":"Dados!C6","v":0},0,0,0]
[{"$f":"Dados!A7","v":"00:00:00"},{"$f":"Dados!B7","v":"00:00:00"},{"$f":"Dados!C7","v":0},0,0,0]
[{"$f":"Dados!A8","v":"00:00:00"},{"$f":"Dados!B8","v":"00:00:00"},{"$f":"Dados!C8","v":0},0,0,0]
[{"$f":"Dados!A9","v":"00:00:00"},{"$f":"Dados!B9","v":"00:00:00"},{"$f":"Dados!C9","v":0},0,0,0]
[{"$f":"Dados!A10","v":"00:00:00"},{"$f":"Dados!B10","v":"00:00:00"},{"$f":"Dados!C10","v":0},0,0,0]
[{"$f":"Dados!A11","v":"00:00:00"},{"$f":"Dados!B11","v":"00:00:00"},{"$f":"Dados!C11","v":0},0,0,0]
[{"$f":"Dados!A12","v":"00:00:00"},{"$f":"Dados!B12","v":"00:00:00"},{"$f":"Dados!C12","v":0},0,0,0]
[{"$f":"Dados!A13","v":"00:00:00"},{"$f":"Dados!B13","v":"00:00:00"},{"$f":"Dados!C13","v":0},0,0,0]
[{"$f":"Dados!A14","v":"00:00:00"},{"$f":"Dados!B14","v":"00:00:00"},{"$f":"Dados!C14","v":0},0,0,0]
[{"$f":"Dados!A15","v":"00:00:00"},{"$f":"Dados!B15","v":"00:00:00"},{"$f":"Dados!C15","v":0},0,0,0]
[{"$f":"Dados!A16","v":"00:00:00"},{"$f":"Dados!B16","v":"00:00:00"},{"$f":"Dados!C16","v":0},0,0,0]
[{"$f":"Dados!A17","v":"00:00:00"},{"$f":"Dados!B17","v":"00:00:00"},{"$f":"Dados!C17","v":0},0,0,0]
[{"$f":"Dados!A18","v":"00:00:00"},{"$f":"Dados!B18","v":"00:00:00"},{"$f":"Dados!C18","v":0},0,0,0]
[{"$f":"Dados!A19","v":"00:00:00"},{"$f":"Dados!B19","v":"00:00:00"},{"$f":"Dados!C19","v":0},0,0,0]
[{"$f":"Dados!A20","v":"00:00:00"},{"$f":"Dados!B20","v":"00:00:00"},{"$f":"Dados!C20","v":0},0,0,0]
[{"$f":"Dados!A21","v":"00:00:00"},{"$f":"Dados!B21","v":"00:00:00"},{"$f":"Dados!C21","v":0},0,0,0]
[{"$f":"Dados!A22","v":"00:00:00"},{"$f":"Dados!B22","v":"00:00:00"},{"$f":"Dados!C22","v":0},0,0,0]
[{"$f":"Dados!A23","v":"00:00:00"},{"$f":"Dados!B23","v":"00:00:00"},{"$f":"Dados!C23","v":0},0,0,0]
[{"$f":"Dados!A24","v":"00:00:00"},{"$f":"Dados!B24","v":"00:00:00"},{"$f":"Dados!C24","v":0},0,0,0]
[{"$f":"Dados!A25","v":"00:00:00"},{"$f":"Dados!B25","v":"00:00:00"},{"$f":"Dados!C25","v":0},0,0,0]
[{"$f":"Dados!A26","v":"00:00:00"},{"$f":"Dados!B26","v":"00:00:00"},{"$f":"Dados!C26","v":0},0,0,0]
[{"$f":"Dados!A27","v":"00:00:00"},{"$f":"Dados!B27","v":"00:00:00"},{"$f":"Dados!C27","v":0},0,0,0]
[{"$f":"Dados!A28","v":"00:00:00"},{"$f":"Dados!B28","v":"00:00:00"},{"$f":"Dados!C28","v":0},0,0,0]
[{"$f":"Dados!A29","v":"00:00:00"},{"$f":"Dados!B29","v":"00:00:00"},{"$f":"Dados!C29","v":0},0,0,0]
[{"$f":"Dados!A30","v":"00:00:00"},{"$f":"Dados!B30","v":"00:00:00"},{"$f":"Dados!C30","v":0},0,0,0]
[{"$f":"Dados!A31","v":"00:00:00"},{"$f":"Dados!B31","v":"00:00:00"},{"$f":"Dados!C31","v":0},0,0,0]
[{"$f":"Dados!A32","v":"00:00:00"},{"$f":"Dados!B32","v":"00:00:00"},{"$f":"Dados!C32","v":0},0,{"$f":"HOUR(B32)","v":0},{"$f":"MINUTE(B32)","v":0}]
[{"$f":"Dados!A33","v":"00:00:00"},{"$f":"Dados!B33","v":"00:00:00"},{"$f":"Dados!C33","v":0},0,0,0]
[{"$f":"Dados!A34","v":"00:00:00"},{"$f":"Dados!B34","v":"00:00:00"},{"$f":"Dados!C34","v":0},0,0,0]
[{"$f":"Dados!A35","v":"00:00:00"},{"$f":"Dados!B35","v":"00:00:00"},{"$f":"Dados!C35","v":0},0,0,0]
[{"$f":"Dados!A36","v":"00:00:00"},{"$f":"Dados!B36","v":"00:00:00"},{"$f":"Dados!C36","v":0},0,0,0]
[{"$f":"Dados!A37","v":"00:00:00"},{"$f":"Dados!B37","v":"00:00:00"},{"$f":"Dados!C37","v":0},0,0,0]
[{"$f":"Dados!A38","v":"00:00:00"},{"$f":"Dados!B38","v":"00:00:00"},{"$f":"Dados!C38","v":0},0,0,0]
[{"$f":"Dados!A39","v":"00:00:00"},{"$f":"Dados!B39","v":"00:00:00"},{"$f":"Dados!C39","v":0},0,0,0]
[{"$f":"Dados!A40","v":"00:00:00"},{"$f":"Dados!B40","v":"00:00:00"},{"$f":"Dados!C40","v":0},0,0,0]
[{"$f":"Dados!A41","v":"00:00:00"},{"$f":"Dados!B41","v":"00:00:00"},{"$f":"Dados!C41","v":0},0,0,0]
[{"$f":"Dados!A42","v":"00:00:00"},{"$f":"Dados!B42","v":"00:00:00"},{"$f":"Dados!C42","v":0},0,0,0]
[{"$f":"Dados!A43","v":"00:00:00"},{"$f":"Dados!B43","v":"00:00:00"},{"$f":"Dados!C43","v":0},0,0,0]
[{"$f":"Dados!A44","v":"00:00:00"},{"$f":"Dados!B44","v":"00:00:00"},{"$f":"Dados!C44","v":0},0,0,0]
[{"$f":"Dados!A45","v":"00:00:00"},{"$f":"Dados!B45","v":"00:00:00"},{"$f":"Dados!C45","v":0},0,0,0]
[{"$f":"Dados!A46","v":"00:00:00"},{"$f":"Dados!B46","v":"00:00:00"},{"$f":"Dados!C46","v":0},0,0,0]
[{"$f":"Dados!A47","v":"00:00:00"},{"$f":"Dados!B47","v":"00:00:00"},{"$f":"Dados!C47","v":0},0,0,0]
[{"$f":"Dados!A48","v":"00:00:00"},{"$f":"Dados!B48","v":"00:00:00"},{"$f":"Dados!C48","v":0},0,0,0]
[{"$f":"Dados!A49","v":"00:00:00"},{"$f":"Dados!B49","v":"00:00:00"},{"$f":"Dados!C49","v":0},0,0,0]
[{"$f":"Dados!A50","v":"00:00:00"},{"$f":"Dados!B50","v":"00:00:00"},{"$f":"Dados!C50","v":0},0,0,0]
[{"$f":"Dados!A51","v":"00:00:00"},{"$f":"Dados!B51","v":"00:00:00"},{"$f":"Dados!C51","v":0},0,0,0]
[{"$f":"Dados!A52","v":"00:00:00"},{"$f":"Dados!B52","v":"00:00:00"},{"$f":"Dados!C52","v":0},0,0,0]
[{"$f":"Dados!A53","v":"00:00:00"},{"$f":"Dados!B53","v":"00:00:00"},{"$f":"Dados!C53","v":0},0,{"$f":"HOUR(B53)","v":0},{"$f":"MINUTE(B53)","v":0}]
[{"$f":"Dados!A54","v":"00:00:00"},{"$f":"Dados!B54","v":"00:00:00"},{"$f":"Dados!C54","v":0},0,0,0]
[{"$f":"Dados!A55","v":"00:00:00"},{"$f":"Dados!B55","v":"00:00:00"},{"$f":"Dados!C55","v":0},0,0,0]
[{"$f":"Dados!A56","v":"00:00:00"},{"$f":"Dados!B56","v":"00:00:00"},{"$f":"Dados!C56","v":0},0,0,0]
[{"$f":"Dados!A57","v":"00:00:00"},{"$f":"Dados!B57","v":"00:00:00"},{"$f":"Dados!C57","v":0},0,0,0]
[{"$f":"Dados!A58","v":"00:00:00"},{"$f":"Dados!B58","v":"00:00:00"},{"$f":"Dados!C58","v":0},0,0,0]
[{"$f":"Dados!A59","v":"00:00:00"},{"$f":"Dados!B59","v":"00:00:00"},{"$f":"Dados!C59","v":0},0,0,0]
[{"$f":"Dados!A60","v":"00:00:00"},{"$f":"Dados!B60","v":"00:00:00"},{"$f":"Dados!C60","v":0},0,0,0]
[{"$f":"Dados!A61","v":"00:00:00"},{"$f":"Dados!B61","v":"00:00:00"},{"$f":"Dados!C61","v":0},0,0,0]
[{"$f":"Dados!A62","v":"00:00:00"},{"$f":"Dados!B62","v":"00:00:00"},{"$f":"Dados!C62","v":0},0,0,0]
[{"$f":"Dados!A63","v":"00:00:00"},{"$f":"Dados!B63","v":"00:00:00"},{"$f":"Dados!C63","v":0},0,0,0]
[{"$f":"Dados!A64","v":"00:00:00"},{"$f":"Dados!B64","v":"00:00:00"},{"$f":"Dados!C64","v":0},0,0,0]
[{"$f":"Dados!A65","v":"00:00:00"},{"$f":"Dados!B65","v":"00:00:00"},{"$f":"Dados!C65","v":0},0,0,0]
[{"$f":"Dados!A66","v":"00:00:00"},{"$f":"Dados!B66","v":"00:00:00"},{"$f":"Dados!C66","v":0},0,0,0]
[{"$f":"Dados!A67","v":"00:00:00"},{"$f":"Dados!B67","v":"00:00:00"},{"$f":"Dados!C67","v":0},{"$f":"IF((0.0005*(C67^2)+0.0058*(C67)-0.055)<0,0,IF((0.0005*(C67^2)+0.0058*(C67)-0.055)>1,1,(0.0005*(C67^2)+0.0058*(C67)-0.055)))","v":0},0,0]
[{"$f":"Dados!A68","v":"00:00:00"},{"$f":"Dados!B68","v":"00:00:00"},{"$f":"Dados!C68","v":0},0,0,0]
[{"$f":"Dados!A69","v":"00:00:00"},{"$f":"Dados!B69","v":"00:00:00"},{"$f":"Dados!C69","v":0},0,0,0]
[{"$f":"Dados!A70","v":"00:00:00"},{"$f":"Dados!B70","v":"00:00:00"},{"$f":"Dados!C70","v":0},0,0,0]
[{"$f":"Dados!A71","v":"00:00:00"},{"$f":"Dados!B71","v":"00:00:00"},{"$f":"Dados!C71","v":0},0,0,0]
[{"$f":"Dados!A72","v":"00:00:00"},{"$f":"Dados!B72","v":"00:00:00"},{"$f":"Dados!C72","v":0},0,0,0]
[{"$f":"Dados!A73","v":"00:00:00"},{"$f":"Dados!B73","v":"00:00:00"},{"$f":"Dados!C73","v":0},0,0,0]
[{"$f":"Dados!A74","v":"00:00:00"},{"$f":"Dados!B74","v":"00:00:00"},{"$f":"Dados!C74","v":0},0,0,0]
[{"$f":"Dados!A75","v":"00:00:00"},{"$f":"Dados!B75","v":"00:00:00"},{"$f":"Dados!C75","v":0},0,0,0]
[{"$f":"Dados!A76","v":"00:00:00"},{"$f":"Dados!B76","v":"00:00:00"},{"$f":"Dados!C76","v":0},0,0,0]
[{"$f":"Dados!A77","v":"00:00:00"},{"$f":"Dados!B77","v":"00:00:00"},{"$f":"Dados!C77","v":0},0,0,0]
[{"$f":"Dados!A78","v":"00:00:00"},{"$f":"Dados!B78","v":"00:00:00"},{"$f":"Dados!C78","v":0},0,0,0]
[{"$f":"Dados!A79","v":"00:00:00"},{"$f":"Dados!B79","v":"00:00:00"},{"$f":"Dados!C79","v":0},0,0,0]
[{"$f":"Dados!A80","v":"00:00:00"},{"$f":"Dados!B80","v":"00:00:00"},{"$f":"Dados!C80","v":0},0,0,0]
[{"$f":"Dados!A81","v":"00:00:00"},{"$f":"Dados!B81","v":"00:00:00"},{"$f":"Dados!C81","v":0},0,0,0]
[{"$f":"Dados!A82","v":"00:00:00"},{"$f":"Dados!B82","v":"00:00:00"},{"$f":"Dados!C82","v":0},0,0,0]
[{"$f":"Dados!A83","v":"00:00:00"},{"$f":"Dados!B83","v":"00:00:00"},{"$f":"Dados!C83","v":0},0,0,0]
[{"$f":"Dados!A84","v":"00:00:00"},{"$f":"Dados!B84","v":"00:00:00"},{"$f":"Dados!C84","v":0},0,0,0]
[{"$f":"Dados!A85","v":"00:00:00"},{"$f":"Dados!B85","v":"00:00:00"},{"$f":"Dados!C85","v":0},0,0,0]
[{"$f":"Dados!A86","v":"00:00:00"},{"$f":"Dados!B86","v":"00:00:00"},{"$f":"Dados!C86","v":0},0,0,0]
[{"$f":"Dados!A87","v":"00:00:00"},{"$f":"Dados!B87","v":"00:00:00"},{"$f":"Dados!C87","v":0},0,0,0]
[{"$f":"Dados!A88","v":"00:00:00"},{"$f":"Dados!B88","v":"00:00:00"},{"$f":"Dados!C88","v":0},0,0,0]
[{"$f":"Dados!A89","v":"00:00:00"},{"$f":"Dados!B89","v":"00:00:00"},{"$f":"Dados!C89","v":0},0,0,0]
[{"$f":"Dados!A90","v":"00:00:00"},{"$f":"Dados!B90","v":"00:00:00"},{"$f":"Dados!C90","v":0},0,0,0]
[{"$f":"Dados!A91","v":"00:00:00"},{"$f":"Dados!B91","v":"00:00:00"},{"$f":"Dados!C91","v":0},0,0,0]
[{"$f":"Dados!A92","v":"00:00:00"},{"$f":"Dados!B92","v":"00:00:00"},{"$f":"Dados!C92","v":0},0,0,0]
[{"$f":"Dados!A93","v":"00:00:00"},{"$f":"Dados!B93","v":"00:00:00"},{"$f":"Dados!C93","v":0},0,0,0]
[{"$f":"Dados!A94","v":"00:00:00"},{"$f":"Dados!B94","v":"00:00:00"},{"$f":"Dados!C94","v":0},0,0,0]
[{"$f":"Dados!A95","v":"00:00:00"},{"$f":"Dados!B95","v":"00:00:00"},{"$f":"Dados!C95","v":0},0,0,0]
[{"$f":"Dados!A96","v":"00:00:00"},{"$f":"Dados!B96","v":"00:00:00"},{"$f":"Dados!C96","v":0},0,0,0]
[{"$f":"Dados!A97","v":"00:00:00"},{"$f":"Dados!B97","v":"00:00:00"},{"$f":"Dados!C97","v":0},0,0,0]
[{"$f":"Dados!A98","v":"00:00:00"},{"$f":"Dados!B98","v":"00:00:00"},{"$f":"Dados!C98","v":0},0,0,0]
[{"$f":"Dados!A99","v":"00:00:00"},{"$f":"Dados!B99","v":"00:00:00"},{"$f":"Dados!C99","v":0},0,0,0]
[{"$f":"Dados!A100","v":"00:00:00"},{"$f":"Dados!B100","v":"00:00:00"},{"$f":"Dados!C100","v":0},0,0,0]
[{"$f":"Dados!A101","v":"00:00:00"},{"$f":"Dados!B101","v":"00:00:00"},{"$f":"Dados!C101","v":0},0,0,0]
[{"$f":"Dados!A102","v":"00:00:00"},{"$f":"Dados!B102","v":"00:00:00"},{"$f":"Dados!C102","v":0},0,0,0]
[{"$f":"Dados!A103","v":"00:00:00"},{"$f":"Dados!B103","v":"00:00:00"},{"$f":"Dados!C103","v":0},0,0,0]
[{"$f":"Dados!A104","v":"00:00:00"},{"$f":"Dados!B104","v":"00:00:00"},{"$f":"Dados!C104","v":0},0,0,0]
[{"$f":"Dados!A105","v":"00:00:00"},{"$f":"Dados!B105","v":"00:00:00"},{"$f":"Dados!C105","v":0},0,0,0]
[{"$f":"Dados!A106","v":"00:00:00"},{"$f":"Dados!B106","v":"00:00:00"},{"$f":"Dados!C106","v":0},0,0,0]
[{"$f":"Dados!A107","v":"00:00:00"},{"$f":"Dados!B107","v":"00:00:00"},{"$f":"Dados!C107","v":0},0,0,0]
[{"$f":"Dados!A108","v":"00:00:00"},{"$f":"Dados!B108","v":"00:00:00"},{"$f":"Dados!C108","v":0},0,0,0]
[{"$f":"Dados!A109","v":"00:00:00"},{"$f":"Dados!B109","v":"00:00:00"},{"$f":"Dados!C109","v":0},0,0,0]
[{"$f":"Dados!A110","v":"00:00:00"},{"$f":"Dados!B110","v":"00:00:00"},{"$f":"Dados!C110","v":0},0,0,0]
[{"$f":"Dados!A111","v":"00:00:00"},{"$f":"Dados!B111","v":"00:00:00"},{"$f":"Dados!C111","v":0},0,0,0]
[{"$f":"Dados!A112","v":"00:00:00"},{"$f":"Dados!B112","v":"00:00:00"},{"$f":"Dados!C112","v":0},0,0,0]
[{"$f":"Dados!A113","v":"00:00:00"},{"$f":"Dados!B113","v":"00:00:00"},{"$f":"Dados!C113","v":0},0,0,0]
[{"$f":"Dados!A114","v":"00:00:00"},{"$f":"Dados!B114","v":"00:00:00"},{"$f":"Dados!C114","v":0},0,0,0]
[{"$f":"Dados!A115","v":"00:00:00"},{"$f":"Dados!B115","v":"00:00:00"},{"$f":"Dados!C115","v":0},0,0,0]
[{"$f":"Dados!A116","v":"00:00:00"},{"$f":"Dados!B116","v":"00:00:00"},{"$f":"Dados!C116","v":0},0,0,0]
[{"$f":"Dados!A117","v":"00:00:00"},{"$f":"Dados!B117","v":"00:00:00"},{"$f":"Dados!C117","v":0},0,{"$f":"HOUR(B117)","v":0},{"$f":"MINUTE(B117)","v":0}]
[{"$f":"Dados!A118","v":"00:00:00"},{"$f":"Dados!B118","v":"00:00:00"},{"$f":"Dados!C118","v":0},0,0,0]
[{"$f":"Dados!A119","v":"00:00:00"},{"$f":"Dados!B119","v":"00:00:00"},{"$f":"Dados!C119","v":0},0,0,0]
[{"$f":"Dados!A120","v":"00:00:00"},{"$f":"Dados!B120","v":"00:00:00"},{"$f":"Dados!C120","v":0},0,0,0]
[{"$f":"Dados!A121","v":"00:00:00"},{"$f":"Dados!B121","v":"00:00:00"},{"$f":"Dados!C121","v":0},0,0,0]
[{"$f":"Dados!A122","v":"00:00:00"},{"$f":"Dados!B122","v":"00:00:00"},{"$f":"Dados!C122","v":0},0,0,0]
[{"$f":"Dados!A123","v":"00:00:00"},{"$f":"Dados!B123","v":"00:00:00"},{"$f":"Dados!C123","v":0},0,0,0]
[{"$f":"Dados!A124","v":"00:00:00"},{"$f":"Dados!B124","v":"00:00:00"},{"$f":"Dados!C124","v":0},0,0,0]
[{"$f":"Dados!A125","v":"00:00:00"},{"$f":"Dados!B125","v":"00:00:00"},{"$f":"Dados!C125","v":0},0,0,0]
[{"$f":"Dados!A126","v":"00:00:00"},{"$f":"Dados!B126","v":"00:00:00"},{"$f":"Dados!C126","v":0},0,0,0]
[{"$f":"Dados!A127","v":"00:00:00"},{"$f":"Dados!B127","v":"00:00:00"},{"$f":"Dados!C127","v":0},0,0,0]
[{"$f":"Dados!A128","v":"00:00:00"},{"$f":"Dados!B128","v":"00:00:00"},{"$f":"Dados!C128","v":0},0,0,0]
[{"$f":"Dados!A129","v":"00:00:00"},{"$f":"Dados!B129","v":"00:00:00"},{"$f":"Dados!C129","v":0},0,0,0]
[{"$f":"Dados!A130","v":"00:00:00"},{"$f":"Dados!B130","v":"00:00:00"},{"$f":"Dados!C130","v":0},0,0,0]
[{"$f":"Dados!A131","v":"00:00:00"},{"$f":"Dados!B131","v":"00:00:00"},{"$f":"Dados!C131","v":0},{"$f":"IF((0.0005*(C131^2)+0.0058*(C131)-0.055)<0,0,IF((0.0005*(C131^2)+0.0058*(C131)-0.055)>1,1,(0.0005*(C131^2)+0.0058*(C131)-0.055)))","v":0},0,0]
[{"$f":"Dados!A132","v":"00:00:00"},{"$f":"Dados!B132","v":"00:00:00"},{"$f":"Dados!C132","v":0},0,0,0]
[{"$f":"Dados!A133","v":"00:00:00"},{"$f":"Dados!B133","v":"00:00:00"},{"$f":"Dados!C133","v":0},0,0,0]
[{"$f":"Dados!A134","v":"00:00:00"},{"$f":"Dados!B134","v":"00:00:00"},{"$f":"Dados!C134","v":0},0,0,0]
[{"$f":"Dados!A135","v":"00:00:00"},{"$f":"Dados!B135","v":"00:00:00"},{"$f":"Dados!C135","v":0},0,0,0]
[{"$f":"Dados!A136","v":"00:00:00"},{"$f":"Dados!B136","v":"00:00:00"},{"$f":"Dados!C136","v":0},0,0,0]
[{"$f":"Dados!A137","v":"00:00:00"},{"$f":"Dados!B137","v":"00:00:00"},{"$f":"Dados!C137","v":0},0,0,0]
[{"$f":"Dados!A138","v":"00:00:00"},{"$f":"Dados!B138","v":"00:00:00"},{"$f":"Dados!C138","v":0},0,0,0]
[{"$f":"Dados!A139","v":"00:00:00"},{"$f":"Dados!B139","v":"00:00:00"},{"$f":"Dados!C139","v":0},0,0,0]
[{"$f":"Dados!A140","v":"00:00:00"},{"$f":"Dados!B140","v":"00:00:00"},{"$f":"Dados!C140","v":0},0,0,0]
[{"$f":"Dados!A141","v":"00:00:00"},{"$f":"Dados!B141","v":"00:00:00"},{"$f":"Dados!C141","v":0},0,0,0]
[{"$f":"Dados!A142","v":"00:00:00"},{"$f":"Dados!B142","v":"00:00:00"},{"$f":"Dados!C142","v":0},0,0,0]
[{"$f":"Dados!A143","v":"00:00:00"},{"$f":"Dados!B143","v":"00:00:00"},{"$f":"Dados!C143","v":0},0,0,0]
[{"$f":"Dados!A144","v":"00:00:00"},{"$f":"Dados!B144","v":"00:00:00"},{"$f":"Dados!C144","v":0},0,0,0]
[{"$f":"Dados!A145","v":"00:00:00"},{"$f":"Dados!B145","v":"00:00:00"},{"$f":"Dados!C145","v":0},0,0,0]
[{"$f":"Dados!A146","v":"00:00:00"},{"$f":"Dados!B146","v":"00:00:00"},{"$f":"Dados!C146","v":0},0,0,0]
[{"$f":"Dados!A147","v":"00:00:00"},{"$f":"Dados!B147","v":"00:00:00"},{"$f":"Dados!C147","v":0},0,0,0]
[{"$f":"Dados!A148","v":"00:00:00"},{"$f":"Dados!B148","v":"00:00:00"},{"$f":"Dados!C148","v":0},0,0,0]
[{"$f":"Dados!A149","v":"00:00:00"},{"$f":"Dados!B149","v":"00:00:00"},{"$f":"Dados!C149","v":0},0,0,0]
[{"$f":"Dados!A150","v":"00:00:00"},{"$f":"Dados!B150","v":"00:00:00"},{"$f":"Dados!C150","v":0},0,0,0]
[{"$f":"Dados!A151","v":"00:00:00"},{"$f":"Dados!B151","v":"00:00:00"},{"$f":"Dados!C151","v":0},0,0,0]
[{"$f":"Dados!A152","v":"00:00:00"},{"$f":"Dados!B152","v":"00:00:00"},{"$f":"Dados!C152","v":0},0,0,0]
[{"$f":"Dados!A153","v":"00:00:00"},{"$f":"Dados!B153","v":"00:00:00"},{"$f":"Dados!C153","v":0},0,0,0]
[{"$f":"Dados!A154","v":"00:00:00"},{"$f":"Dados!B154","v":"00:00:00"},{"$f":"Dados!C154","v":0},0,0,0]
[{"$f":"Dados!A155","v":"00:00:00"},{"$f":"Dados!B155","v":"00:00:00"},{"$f":"Dados!C155","v":0},0,0,0]
[{"$f":"Dados!A156","v":"00:00:00"},{"$f":"Dados!B156","v":"00:00:00"},{"$f":"Dados!C156","v":0},0,0,0]
[{"$f":"Dados!A157","v":"00:00:00"},{"$f":"Dados!B157","v":"00:00:00"},{"$f":"Dados!C157","v":0},0,0,0]
[{"$f":"Dados!A158","v":"00:00:00"},{"$f":"Dados!B158","v":"00:00:00"},{"$f":"Dados!C158","v":0},0,0,0]
[{"$f":"Dados!A159","v":"00:00:00"},{"$f":"Dados!B159","v":"00:00:00"},{"$f":"Dados!C159","v":0},0,0,0]
[{"$f":"Dados!A160","v":"00:00:00"},{"$f":"Dados!B160","v":"00:00:00"},{"$f":"Dados!C160","v":0},0,0,0]
[{"$f":"Dados!A161","v":"00:00:00"},{"$f":"Dados!B161","v":"00:00:00"},{"$f":"Dados!C161","v":0},0,0,0]
[{"$f":"Dados!A162","v":"00:00:00"},{"$f":"Dados!B162","v":"00:00:00"},{"$f":"Dados!C162","v":0},0,0,0]
[{"$f":"Dados!A163","v":"00:00:00"},{"$f":"Dados!B163","v":"00:00:00"},{"$f":"Dados!C163","v":0},0,0,0]
[{"$f":"Dados!A164","v":"00:00:00"},{"$f":"Dados!B164","v":"00:00:00"},{"$f":"Dados!C164","v":0},0,0,0]
[{"$f":"Dados!A165","v":"00:00:00"},{"$f":"Dados!B165","v":"00:00:00"},{"$f":"Dados!C165","v":0},0,0,0]
[{"$f":"Dados!A166","v":"00:00:00"},{"$f":"Dados!B166","v":"00:00:00"},{"$f":"Dados!C166","v":0},0,0,0]
[{"$f":"Dados!A167","v":"00:00:00"},{"$f":"Dados!B167","v":"00:00:00"},{"$f":"Dados!C167","v":0},0,0,0]
[{"$f":"Dados!A168","v":"00:00:00"},{"$f":"Dados!B168","v":"00:00:00"},{"$f":"Dados!C168","v":0},0,0,0]
[{"$f":"Dados!A169","v":"00:00:00"},{"$f":"Dados!B169","v":"00:00:00"},{"$f":"Dados!C169","v":0},0,0,0]
[{"$f":"Dados!A170","v":"00:00:00"},{"$f":"Dados!B170","v":"00:00:00"},{"$f":"Dados!C170","v":0},0,0,0]
[{"$f":"Dados!A171","v":"00:00:00"},{"$f":"Dados!B171","v":"00:00:00"},{"$f":"Dados!C171","v":0},0,0,0]
[{"$f":"Dados!A172","v":"00:00:00"},{"$f":"Dados!B172","v":"00:00:00"},{"$f":"Dados!C172","v":0},0,0,0]
[{"$f":"Dados!A173","v":"00:00:00"},{"$f":"Dados!B173","v":"00:00:00"},{"$f":"Dados!C173","v":0},0,0,0]
[{"$f":"Dados!A174","v":"00:00:00"},{"$f":"Dados!B174","v":"00:00:00"},{"$f":"Dados!C174","v":0},0,0,0]
[{"$f":"Dados!A175","v":"00:00:00"},{"$f":"Dados!B175","v":"00:00:00"},{"$f":"Dados!C175","v":0},0,0,0]
[{"$f":"Dados!A176","v":"00:00:00"},{"$f":"Dados!B176","v":"00:00:00"},{"$f":"Dados!C176","v":0},0,0,0]
[{"$f":"Dados!A177","v":"00:00:00"},{"$f":"Dados!B177","v":"00:00:00"},{"$f":"Dados!C177","v":0},0,0,0]
[{"$f":"Dados!A178","v":"00:00:00"},{"$f":"Dados!B178","v":"00:00:00"},{"$f":"Dados!C178","v":0},0,0,0]
[{"$f":"Dados!A179","v":"00:00:00"},{"$f":"Dados!B179","v":"00:00:00"},{"$f":"Dados!C179","v":0},0,0,0]
[{"$f":"Dados!A180","v":"00:00:00"},{"$f":"Dados!B180","v":"00:00:00"},{"$f":"Dados!C180","v":0},0,0,0]
[{"$f":"Dados!A181","v":"00:00:00"},{"$f":"Dados!B181","v":"00:00:00"},{"$f":"Dados!C181","v":0},0,{"$f":"HOUR(B181)","v":0},{"$f":"MINUTE(B181)","v":0}]
[{"$f":"Dados!A182","v":"00:00:00"},{"$f":"Dados!B182","v":"00:00:00"},{"$f":"Dados!C182","v":0},0,0,0]
[{"$f":"Dados!A183","v":"00:00:00"},{"$f":"Dados!B183","v":"00:00:00"},{"$f":"Dados!C183","v":0},0,0,0]
[{"$f":"Dados!A184","v":"00:00:00"},{"$f":"Dados!B184","v":"00:00:00"},{"$f":"Dados!C184","v":0},0,0,0]
[{"$f":"Dados!A185","v":"00:00:00"},{"$f":"Dados!B185","v":"00:00:00"},{"$f":"Dados!C185","v":0},0,0,0]
[{"$f":"Dados!A186","v":"00:00:00"},{"$f":"Dados!B186","v":"00:00:00"},{"$f":"Dados!C186","v":0},0,0,0]
[{"$f":"Dados!A187","v":"00:00:00"},{"$f":"Dados!B187","v":"00:00:00"},{"$f":"Dados!C187","v":0},0,0,0]
[{"$f":"Dados!A188","v":"00:00:00"},{"$f":"Dados!B188","v":"00:00:00"},{"$f":"Dados!C188","v":0},0,0,0]
[{"$f":"Dados!A189","v":"00:00:00"},{"$f":"Dados!B189","v":"00:00:00"},{"$f":"Dados!C189","v":0},0,0,0]
[{"$f":"Dados!A190","v":"00:00:00"},{"$f":"Dados!B190","v":"00:00:00"},{"$f":"Dados!C190","v":0},0,0,0]
[{"$f":"Dados!A191","v":"00:00:00"},{"$f":"Dados!B191","v":"00:00:00"},{"$f":"Dados!C191","v":0},0,0,0]
[{"$f":"Dados!A192","v":"00:00:00"},{"$f":"Dados!B192","v":"00:00:00"},{"$f":"Dados!C192","v":0},0,0,0]
[{"$f":"Dados!A193","v":"00:00:00"},{"$f":"Dados!B193","v":"00:00:00"},{"$f":"Dados!C193","v":0},0,0,0]
[{"$f":"Dados!A194","v":"00:00:00"},{"$f":"Dados!B194","v":"00:00:00"},{"$f":"Dados!C194","v":0},0,0,0]
[{"$f":"Dados!A195","v":"00:00:00"},{"$f":"Dados!B195","v":"00:00:00"},{"$f":"Dados!C195","v":0},{"$f":"IF((0.0005*(C195^2)+0.0058*(C195)-0.055)<0,0,IF((0.0005*(C195^2)+0.0058*(C195)-0.055)>1,1,(0.0005*(C195^2)+0.0058*(C195)-0.055)))","v":0},0,0]
[{"$f":"Dados!A196","v":"00:00:00"},{"$f":"Dados!B196","v":"00:00:00"},{"$f":"Dados!C196","v":0},0,0,0]
[{"$f":"Dados!A197","v":"00:00:00"},{"$f":"Dados!B197","v":"00:00:00"},{"$f":"Dados!C197","v":0},0,0,0]
[{"$f":"Dados!A198","v":"00:00:00"},{"$f":"Dados!B198","v":"00:00:00"},{"$f":"Dados!C198","v":0},0,0,0]
[{"$f":"Dados!A199","v":"00:00:00"},{"$f":"Dados!B199","v":"00:00:00"},{"$f":"Dados!C199","v":0},0,0,0]
[{"$f":"Dados!A200","v":"00:00:00"},{"$f":"Dados!B200","v":"00:00:00"},{"$f":"Dados!C200","v":0},0,0,0]
[{"$f":"Dados!A201","v":"00:00:00"},{"$f":"Dados!B201","v":"00:00:00"},{"$f":"Dados!C201","v":0},0,0,0]
[{"$f":"Dados!A202","v":"00:00:00"},{"$f":"Dados!B202","v":"00:00:00"},{"$f":"Dados!C202","v":0},0,0,0]
[{"$f":"Dados!A203","v":"00:00:00"},{"$f":"Dados!B203","v":"00:00:00"},{"$f":"Dados!C203","v":0},0,0,0]
[{"$f":"Dados!A204","v":"00:00:00"},{"$f":"Dados!B204","v":"00:00:00"},{"$f":"Dados!C204","v":0},0,0,0]
[{"$f":"Dados!A205","v":"00:00:00"},{"$f":"Dados!B205","v":"00:00:00"},{"$f":"Dados!C205","v":0},0,0,0]
[{"$f":"Dados!A206","v":"00:00:00"},{"$f":"Dados!B206","v":"00:00:00"},{"$f":"Dados!C206","v":0},0,0,0]
[{"$f":"Dados!A207","v":"00:00:00"},{"$f":"Dados!B207","v":"00:00:00"},{"$f":"Dados!C207","v":0},0,0,0]
[{"$f":"Dados!A208","v":"00:00:00"},{"$f":"Dados!B208","v":"00:00:00"},{"$f":"Dados!C208","v":0},0,0,0]
[{"$f":"Dados!A209","v":"00:00:00"},{"$f":"Dados!B209","v":"00:00:00"},{"$f":"Dados!C209","v":0},0,0,0]
[{"$f":"Dados!A210","v":"00:00:00"},{"$f":"Dados!B210","v":"00:00:00"},{"$f":"Dados!C210","v":0},0,0,0]
[{"$f":"Dados!A211","v":"00:00:00"},{"$f":"Dados!B211","v":"00:00:00"},{"$f":"Dados!C211","v":0},0,0,0]
[{"$f":"Dados!A212","v":"00:00:00"},{"$f":"Dados!B212","v":"00:00:00"},{"$f":"Dados!C212","v":0},0,0,0]
[{"$f":"Dados!A213","v":"00:00:00"},{"$f":"Dados!B213","v":"00:00:00"},{"$f":"Dados!C213","v":0},0,0,0]
[{"$f":"Dados!A214","v":"00:00:00"},{"$f":"Dados!B214","v":"00:00:00"},{"$f":"Dados!C214","v":0},0,0,0]
[{"$f":"Dados!A215","v":"00:00:00"},{"$f":"Dados!B215","v":"00:00:00"},{"$f":"Dados!C215","v":0},0,0,0]
[{"$f":"Dados!A216","v":"00:00:00"},{"$f":"Dados!B216","v":"00:00:00"},{"$f":"Dados!C216","v":0},0,0,0]
[{"$f":"Dados!A217","v":"00:00:00"},{"$f":"Dados!B217","v":"00:00:00"},{"$f":"Dados!C217","v":0},0,0,0]
[{"$f":"Dados!A218","v":"00:00:00"},{"$f":"Dados!B218","v":"00:00:00"},{"$f":"Dados!C218","v":0},0,0,0]
[{"$f":"Dados!A219","v":"00:00:00"},{"$f":"Dados!B219","v":"00:00:00"},{"$f":"Dados!C219","v":0},0,0,0]
[{"$f":"Dados!A220","v":"00:00:00"},{"$f":"Dados!B220","v":"00:00:00"},{"$f":"Dados!C220","v":0},0,0,0]
[{"$f":"Dados!A221","v":"00:00:00"},{"$f":"Dados!B221","v":"00:00:00"},{"$f":"Dados!C221","v":0},0,0,0]
[{"$f":"Dados!A222","v":"00:00:00"},{"$f":"Dados!B222","v":"00:00:00"},{"$f":"Dados!C222","v":0},0,0,0]
[{"$f":"Dados!A223","v":"00:00:00"},{"$f":"Dados!B223","v":"00:00:00"},{"$f":"Dados!C223","v":0},0,0,0]
[{"$f":"Dados!A224","v":"00:00:00"},{"$f":"Dados!B224","v":"00:00:00"},{"$f":"Dados!C224","v":0},0,0,0]
[{"$f":"Dados!A225","v":"00:00:00"},{"$f":"Dados!B225","v":"00:00:00"},{"$f":"Dados!C225","v":0},0,0,0]
[{"$f":"Dados!A226","v":"00:00:00"},{"$f":"Dados!B226","v":"00:00:00"},{"$f":"Dados!C226","v":0},0,0,0]
[{"$f":"Dados!A227","v":"00:00:00"},{"$f":"Dados!B227","v":"00:00:00"},{"$f":"Dados!C227","v":0},0,0,0]
[{"$f":"Dados!A228","v":"00:00:00"},{"$f":"Dados!B228","v":"00:00:00"},{"$f":"Dados!C228","v":0},0,0,0]
[{"$f":"Dados!A229","v":"00:00:00"},{"$f":"Dados!B229","v":"00:00:00"},{"$f":"Dados!C229","v":0},0,0,0]
[{"$f":"Dados!A230","v":"00:00:00"},{"$f":"Dados!B230","v":"00:00:00"},{"$f":"Dados!C230","v":0},0,0,0]
[{"$f":"Dados!A231","v":"00:00:00"},{"$f":"Dados!B231","v":"00:00:00"},{"$f":"Dados!C231","v":0},0,0,0]
[{"$f":"Dados!A232","v":"00:00:00"},{"$f":"Dados!B232","v":"00:00:00"},{"$f":"Dados!C232","v":0},0,0,0]
[{"$f":"Dados!A233","v":"00:00:00"},{"$f":"Dados!B233","v":"00:00:00"},{"$f":"Dados!C233","v":0},0,0,0]
[{"$f":"Dados!A234","v":"00:00:00"},{"$f":"Dados!B234","v":"00:00:00"},{"$f":"Dados!C234","v":0},0,0,0]
[{"$f":"Dados!A235","v":"00:00:00"},{"$f":"Dados!B235","v":"00:00:00"},{"$f":"Dados!C235","v":0},0,0,0]
[{"$f":"Dados!A236","v":"00:00:00"},{"$f":"Dados!B236","v":"00:00:00"},{"$f":"Dados!C236","v":0},0,0,0]
[{"$f":"Dados!A237","v":"00:00:00"},{"$f":"Dados!B237","v":"00:00:00"},{"$f":"Dados!C237","v":0},0,0,0]
[{"$f":"Dados!A238","v":"00:00:00"},{"$f":"Dados!B238","v":"00:00:00"},{"$f":"Dados!C238","v":0},0,0,0]
[{"$f":"Dados!A239","v":"00:00:00"},{"$f":"Dados!B239","v":"00:00:00"},{"$f":"Dados!C239","v":0},0,0,0]
[{"$f":"Dados!A240","v":"00:00:00"},{"$f":"Dados!B240","v":"00:00:00"},{"$f":"Dados!C240","v":0},0,0,0]
[{"$f":"Dados!A241","v":"00:00:00"},{"$f":"Dados!B241","v":"00:00:00"},{"$f":"Dados!C241","v":0},0,0,0]
[{"$f":"Dados!A242","v":"00:00:00"},{"$f":"Dados!B242","v":"00:00:00"},{"$f":"Dados!C242","v":0},0,0,0]
[{"$f":"Dados!A243","v":"00:00:00"},{"$f":"Dados!B243","v":"00:00:00"},{"$f":"Dados!C243","v":0},0,0,0]
[{"$f":"Dados!A244","v":"00:00:00"},{"$f":"Dados!B244","v":"00:00:00"},{"$f":"Dados!C244","v":0},0,0,0]
[{"$f":"Dados!A245","v":"00:00:00"},{"$f":"Dados!B245","v":"00:00:00"},{"$f":"Dados!C245","v":0},0,{"$f":"HOUR(B245)","v":0},{"$f":"MINUTE(B245)","v":0}]
[{"$f":"Dados!A246","v":"00:00:00"},{"$f":"Dados!B246","v":"00:00:00"},{"$f":"Dados!C246","v":0},0,0,0]
[{"$f":"Dados!A247","v":"00:00:00"},{"$f":"Dados!B247","v":"00:00:00"},{"$f":"Dados!C247","v":0},0,0,0]
[{"$f":"Dados!A248","v":"00:00:00"},{"$f":"Dados!B248","v":"00:00:00"},{"$f":"Dados!C248","v":0},0,0,0]
[{"$f":"Dados!A249","v":"00:00:00"},{"$f":"Dados!B249","v":"00:00:00"},{"$f":"Dados!C249","v":0},0,0,0]
[{"$f":"Dados!A250","v":"00:00:00"},{"$f":"Dados!B250","v":"00:00:00"},{"$f":"Dados!C250","v":0},0,0,0]
[{"$f":"Dados!A251","v":"00:00:00"},{"$f":"Dados!B251","v":"00:00:00"},{"$f":"Dados!C251","v":0},0,0,0]
[{"$f":"Dados!A252","v":"00:00:00"},{"$f":"Dados!B252","v":"00:00:00"},{"$f":"Dados!C252","v":0},0,0,0]
[{"$f":"Dados!A253","v":"00:00:00"},{"$f":"Dados!B253","v":"00:00:00"},{"$f":"Dados!C253","v":0},0,0,0]
[{"$f":"Dados!A254","v":"00:00:00"},{"$f":"Dados!B254","v":"00:00:00"},{"$f":"Dados!C254","v":0},0,0,0]
[{"$f":"Dados!A255","v":"00:00:00"},{"$f":"Dados!B255","v":"00:00:00"},{"$f":"Dados!C255","v":0},0,0,0]
[{"$f":"Dados!A256","v":"00:00:00"},{"$f":"Dados!B256","v":"00:00:00"},{"$f":"Dados!C256","v":0},0,0,0]
[{"$f":"Dados!A257","v":"00:00:00"},{"$f":"Dados!B257","v":"00:00:00"},{"$f":"Dados!C257","v":0},0,0,0]
[{"$f":"Dados!A258","v":"00:00:00"},{"$f":"Dados!B258","v":"00:00:00"},{"$f":"Dados!C258","v":0},0,0,0]
[{"$f":"Dados!A259","v":"00:00:00"},{"$f":"Dados!B259","v":"00:00:00"},{"$f":"Dados!C259","v":0},{"$f":"IF((0.0005*(C259^2)+0.0058*(C259)-0.055)<0,0,IF((0.0005*(C259^2)+0.0058*(C259)-0.055)>1,1,(0.0005*(C259^2)+0.0058*(C259)-0.055)))","v":0},0,0]
[{"$f":"Dados!A260","v":"00:00:00"},{"$f":"Dados!B260","v":"00:00:00"},{"$f":"Dados!C260","v":0},0,0,0]
[{"$f":"Dados!A261","v":"00:00:00"},{"$f":"Dados!B261","v":"00:00:00"},{"$f":"Dados!C261","v":0},0,0,0]
[{"$f":"Dados!A262","v":"00:00:00"},{"$f":"Dados!B262","v":"00:00:00"},{"$f":"Dados!C262","v":0},0,0,0]
[{"$f":"Dados!A263","v":"00:00:00"},{"$f":"Dados!B263","v":"00:00:00"},{"$f":"Dados!C263","v":0},0,0,0]
[{"$f":"Dados!A264","v":"00:00:00"},{"$f":"Dados!B264","v":"00:00:00"},{"$f":"Dados!C264","v":0},0,0,0]
[{"$f":"Dados!A265","v":"00:00:00"},{"$f":"Dados!B265","v":"00:00:00"},{"$f":"Dados!C265","v":0},0,0,0]
[{"$f":"Dados!A266","v":"00:00:00"},{"$f":"Dados!B266","v":"00:00:00"},{"$f":"Dados!C266","v":0},0,0,0]
[{"$f":"Dados!A267","v":"00:00:00"},{"$f":"Dados!B267","v":"00:00:00"},{"$f":"Dados!C267","v":0},0,0,0]
[{"$f":"Dados!A268","v":"00:00:00"},{"$f":"Dados!B268","v":"00:00:00"},{"$f":"Dados!C268","v":0},0,0,0]
[{"$f":"Dados!A269","v":"00:00:00"},{"$f":"Dados!B269","v":"00:00:00"},{"$f":"Dados!C269","v":0},0,0,0]
[{"$f":"Dados!A270","v":"00:00:00"},{"$f":"Dados!B270","v":"00:00:00"},{"$f":"Dados!C270","v":0},0,0,0]
[{"$f":"Dados!A271","v":"00:00:00"},{"$f":"Dados!B271","v":"00:00:00"},{"$f":"Dados!C271","v":0},0,0,0]
[{"$f":"Dados!A272","v":"00:00:00"},{"$f":"Dados!B272","v":"00:00:00"},{"$f":"Dados!C272","v":0},0,0,0]
[{"$f":"Dados!A273","v":"00:00:00"},{"$f":"Dados!B273","v":"00:00:00"},{"$f":"Dados!C273","v":0},0,0,0]
[{"$f":"Dados!A274","v":"00:00:00"},{"$f":"Dados!B274","v":"00:00:00"},{"$f":"Dados!C274","v":0},0,0,0]
[{"$f":"Dados!A275","v":"00:00:00"},{"$f":"Dados!B275","v":"00:00:00"},{"$f":"Dados!C275","v":0},0,0,0]
[{"$f":"Dados!A276","v":"00:00:00"},{"$f":"Dados!B276","v":"00:00:00"},{"$f":"Dados!C276","v":0},0,0,0]
[{"$f":"Dados!A277","v":"00:00:00"},{"$f":"Dados!B277","v":"00:00:00"},{"$f":"Dados!C277","v":0},0,0,0]
[{"$f":"Dados!A278","v":"00:00:00"},{"$f":"Dados!B278","v":"00:00:00"},{"$f":"Dados!C278","v":0},0,0,0]
[{"$f":"Dados!A279","v":"00:00:00"},{"$f":"Dados!B279","v":"00:00:00"},{"$f":"Dados!C279","v":0},0,0,0]
[{"$f":"Dados!A280","v":"00:00:00"},{"$f":"Dados!B280","v":"00:00:00"},{"$f":"Dados!C280","v":0},0,0,0]
[{"$f":"Dados!A281","v":"00:00:00"},{"$f":"Dados!B281","v":"00:00:00"},{"$f":"Dados!C281","v":0},0,0,0]
[{"$f":"Dados!A282","v":"00:00:00"},{"$f":"Dados!B282","v":"00:00:00"},{"$f":"Dados!C282","v":0},0,0,0]
[{"$f":"Dados!A283","v":"00:00:00"},{"$f":"Dados!B283","v":"00:00:00"},{"$f":"Dados!C283","v":0},0,0,0]
[{"$f":"Dados!A284","v":"00:00:00"},{"$f":"Dados!B284","v":"00:00:00"},{"$f":"Dados!C284","v":0},0,0,0]
[{"$f":"Dados!A285","v":"00:00:00"},{"$f":"Dados!B285","v":"00:00:00"},{"$f":"Dados!C285","v":0},0,0,0]
[{"$f":"Dados!A286","v":"00:00:00"},{"$f":"Dados!B286","v":"00:00:00"},{"$f":"Dados!C286","v":0},0,0,0]
[{"$f":"Dados!A287","v":"00:00:00"},{"$f":"Dados!B287","v":"00:00:00"},{"$f":"Dados!C287","v":0},0,0,0]
[{"$f":"Dados!A288","v":"00:00:00"},{"$f":"Dados!B288","v":"00:00:00"},{"$f":"Dados!C288","v":0},0,0,0]
[{"$f":"Dados!A289","v":"00:00:00"},{"$f":"Dados!B289","v":"00:00:00"},{"$f":"Dados!C289","v":0},0,0,0]
[{"$f":"Dados!A290","v":"00:00:00"},{"$f":"Dados!B290","v":"00:00:00"},{"$f":"Dados!C290","v":0},0,0,0]
[{"$f":"Dados!A291","v":"00:00:00"},{"$f":"Dados!B291","v":"00:00:00"},{"$f":"Dados!C291","v":0},0,0,0]
[{"$f":"Dados!A292","v":"00:00:00"},{"$f":"Dados!B292","v":"00:00:00"},{"$f":"Dados!C292","v":0},0,0,0]
[{"$f":"Dados!A293","v":"00:00:00"},{"$f":"Dados!B293","v":"00:00:00"},{"$f":"Dados!C293","v":0},0,0,0]
[{"$f":"Dados!A294","v":"00:00:00"},{"$f":"Dados!B294","v":"00:00:00"},{"$f":"Dados!C294","v":0},0,0,0]
[{"$f":"Dados!A295","v":"00:00:00"},{"$f":"Dados!B295","v":"00:00:00"},{"$f":"Dados!C295","v":0},0,0,0]
[{"$f":"Dados!A296","v":"00:00:00"},{"$f":"Dados!B296","v":"00:00:00"},{"$f":"Dados!C296","v":0},0,0,0]
[{"$f":"Dados!A297","v":"00:00:00"},{"$f":"Dados!B297","v":"00:00:00"},{"$f":"Dados!C297","v":0},0,0,0]
[{"$f":"Dados!A298","v":"00:00:00"},{"$f":"Dados!B298","v":"00:00:00"},{"$f":"Dados!C298","v":0},0,0,0]
[{"$f":"Dados!A299","v":"00:00:00"},{"$f":"Dados!B299","v":"00:00:00"},{"$f":"Dados!C299","v":0},0,0,0]
[{"$f":"Dados!A300","v":"00:00:00"},{"$f":"Dados!B300","v":"00:00:00"},{"$f":"Dados!C300","v":0},0,0,0]
[{"$f":"Dados!A301","v":"00:00:00"},{"$f":"Dados!B301","v":"00:00:00"},{"$f":"Dados!C301","v":0},0,0,0]
[{"$f":"Dados!A302","v":"00:00:00"},{"$f":"Dados!B302","v":"00:00:00"},{"$f":"Dados!C302","v":0},0,0,0]
[{"$f":"Dados!A303","v":"00:00:00"},{"$f":"Dados!B303","v":"00:00:00"},{"$f":"Dados!C303","v":0},0,0,0]
[{"$f":"Dados!A304","v":"00:00:00"},{"$f":"Dados!B304","v":"00:00:00"},{"$f":"Dados!C304","v":0},0,0,0]
[{"$f":"Dados!A305","v":"00:00:00"},{"$f":"Dados!B305","v":"00:00:00"},{"$f":"Dados!C305","v":0},0,0,0]
[{"$f":"Dados!A306","v":"00:00:00"},{"$f":"Dados!B306","v":"00:00:00"},{"$f":"Dados!C306","v":0},0,0,0]
[{"$f":"Dados!A307","v":"00:00:00"},{"$f":"Dados!B307","v":"00:00:00"},{"$f":"Dados!C307","v":0},0,0,0]
[{"$f":"Dados!A308","v":"00:00:00"},{"$f":"Dados!B308","v":"00:00:00"},{"$f":"Dados!C308","v":0},0,0,0]
[{"$f":"Dados!A309","v":"00:00:00"},{"$f":"Dados!B309","v":"00:00:00"},{"$f":"Dados!C309","v":0},0,{"$f":"HOUR(B309)","v":0},{"$f":"MINUTE(B309)","v":0}]
[{"$f":"Dados!A310","v":"00:00:00"},{"$f":"Dados!B310","v":"00:00:00"},{"$f":"Dados!C310","v":0},0,0,0]
[{"$f":"Dados!A311","v":"00:00:00"},{"$f":"Dados!B311","v":"00:00:00"},{"$f":"Dados!C311","v":0},0,0,0]
[{"$f":"Dados!A312","v":"00:00:00"},{"$f":"Dados!B312","v":"00:00:00"},{"$f":"Dados!C312","v":0},0,0,0]
[{"$f":"Dados!A313","v":"00:00:00"},{"$f":"Dados!B313","v":"00:00:00"},{"$f":"Dados!C313","v":0},0,0,0]
[{"$f":"Dados!A314","v":"00:00:00"},{"$f":"Dados!B314","v":"00:00:00"},{"$f":"Dados!C314","v":0},0,0,0]
[{"$f":"Dados!A315","v":"00:00:00"},{"$f":"Dados!B315","v":"00:00:00"},{"$f":"Dados!C315","v":0},0,0,0]
[{"$f":"Dados!A316","v":"00:00:00"},{"$f":"Dados!B316","v":"00:00:00"},{"$f":"Dados!C316","v":0},0,0,0]
[{"$f":"Dados!A317","v":"00:00:00"},{"$f":"Dados!B317","v":"00:00:00"},{"$f":"Dados!C317","v":0},0,0,0]
[{"$f":"Dados!A318","v":"00:00:00"},{"$f":"Dados!B318","v":"00:00:00"},{"$f":"Dados!C318","v":0},0,0,0]
[{"$f":"Dados!A319","v":"00:00:00"},{"$f":"Dados!B319","v":"00:00:00"},{"$f":"Dados!C319","v":0},0,0,0]
[{"$f":"Dados!A320","v":"00:00:00"},{"$f":"Dados!B320","v":"00:00:00"},{"$f":"Dados!C320","v":0},0,0,0]
[{"$f":"Dados!A321","v":"00:00:00"},{"$f":"Dados!B321","v":"00:00:00"},{"$f":"Dados!C321","v":0},0,0,0]
[{"$f":"Dados!A322","v":"00:00:00"},{"$f":"Dados!B322","v":"00:00:00"},{"$f":"Dados!C322","v":0},0,0,0]
[{"$f":"Dados!A323","v":"00:00:00"},{"$f":"Dados!B323","v":"00:00:00"},{"$f":"Dados!C323","v":0},{"$f":"IF((0.0005*(C323^2)+0.0058*(C323)-0.055)<0,0,IF((0.0005*(C323^2)+0.0058*(C323)-0.055)>1,1,(0.0005*(C323^2)+0.0058*(C323)-0.055)))","v":0},0,0]
[{"$f":"Dados!A324","v":"00:00:00"},{"$f":"Dados!B324","v":"00:00:00"},{"$f":"Dados!C324","v":0},0,0,0]
[{"$f":"Dados!A325","v":"00:00:00"},{"$f":"Dados!B325","v":"00:00:00"},{"$f":"Dados!C325","v":0},0,0,0]
[{"$f":"Dados!A326","v":"00:00:00"},{"$f":"Dados!B326","v":"00:00:00"},{"$f":"Dados!C326","v":0},0,0,0]
[{"$f":"Dados!A327","v":"00:00:00"},{"$f":"Dados!B327","v":"00:00:00"},{"$f":"Dados!C327","v":0},0,0,0]
[{"$f":"Dados!A328","v":"00:00:00"},{"$f":"Dados!B328","v":"00:00:00"},{"$f":"Dados!C328","v":0},0,0,0]
[{"$f":"Dados!A329","v":"00:00:00"},{"$f":"Dados!B329","v":"00:00:00"},{"$f":"Dados!C329","v":0},0,0,0]
[{"$f":"Dados!A330","v":"00:00:00"},{"$f":"Dados!B330","v":"00:00:00"},{"$f":"Dados!C330","v":0},0,0,0]
[{"$f":"Dados!A331","v":"00:00:00"},{"$f":"Dados!B331","v":"00:00:00"},{"$f":"Dados!C331","v":0},0,0,0]
[{"$f":"Dados!A332","v":"00:00:00"},{"$f":"Dados!B332","v":"00:00:00"},{"$f":"Dados!C332","v":0},0,0,0]
[{"$f":"Dados!A333","v":"00:00:00"},{"$f":"Dados!B333","v":"00:00:00"},{"$f":"Dados!C333","v":0},0,0,0]
[{"$f":"Dados!A334","v":"00:00:00"},{"$f":"Dados!B334","v":"00:00:00"},{"$f":"Dados!C334","v":0},0,0,0]
[{"$f":"Dados!A335","v":"00:00:00"},{"$f":"Dados!B335","v":"00:00:00"},{"$f":"Dados!C335","v":0},0,0,0]
[{"$f":"Dados!A336","v":"00:00:00"},{"$f":"Dados!B336","v":"00:00:00"},{"$f":"Dados!C336","v":0},0,0,0]
[{"$f":"Dados!A337","v":"00:00:00"},{"$f":"Dados!B337","v":"00:00:00"},{"$f":"Dados!C337","v":0},0,0,0]
[{"$f":"Dados!A338","v":"00:00:00"},{"$f":"Dados!B338","v":"00:00:00"},{"$f":"Dados!C338","v":0},0,0,0]
[{"$f":"Dados!A339","v":"00:00:00"},{"$f":"Dados!B339","v":"00:00:00"},{"$f":"Dados!C339","v":0},0,0,0]
[{"$f":"Dados!A340","v":"00:00:00"},{"$f":"Dados!B340","v":"00:00:00"},{"$f":"Dados!C340","v":0},0,0,0]
[{"$f":"Dados!A341","v":"00:00:00"},{"$f":"Dados!B341","v":"00:00:00"},{"$f":"Dados!C341","v":0},0,0,0]
[{"$f":"Dados!A342","v":"00:00:00"},{"$f":"Dados!B342","v":"00:00:00"},{"$f":"Dados!C342","v":0},0,0,0]
[{"$f":"Dados!A343","v":"00:00:00"},{"$f":"Dados!B343","v":"00:00:00"},{"$f":"Dados!C343","v":0},0,0,0]
[{"$f":"Dados!A344","v":"00:00:00"},{"$f":"Dados!B344","v":"00:00:00"},{"$f":"Dados!C344","v":0},0,0,0]
[{"$f":"Dados!A345","v":"00:00:00"},{"$f":"Dados!B345","v":"00:00:00"},{"$f":"Dados!C345","v":0},0,0,0]
[{"$f":"Dados!A346","v":"00:00:00"},{"$f":"Dados!B346","v":"00:00:00"},{"$f":"Dados!C346","v":0},0,0,0]
[{"$f":"Dados!A347","v":"00:00:00"},{"$f":"Dados!B347","v":"00:00:00"},{"$f":"Dados!C347","v":0},0,0,0]
[{"$f":"Dados!A348","v":"00:00:00"},{"$f":"Dados!B348","v":"00:00:00"},{"$f":"Dados!C348","v":0},0,0,0]
[{"$f":"Dados!A349","v":"00:00:00"},{"$f":"Dados!B349","v":"00:00:00"},{"$f":"Dados!C349","v":0},0,0,0]
[{"$f":"Dados!A350","v":"00:00:00"},{"$f":"Dados!B350","v":"00:00:00"},{"$f":"Dados!C350","v":0},0,0,0]
[{"$f":"Dados!A351","v":"00:00:00"},{"$f":"Dados!B351","v":"00:00:00"},{"$f":"Dados!C351","v":0},0,0,0]
[{"$f":"Dados!A352","v":"00:00:00"},{"$f":"Dados!B352","v":"00:00:00"},{"$f":"Dados!C352","v":0},0,0,0]
[{"$f":"Dados!A353","v":"00:00:00"},{"$f":"Dados!B353","v":"00:00:00"},{"$f":"Dados!C353","v":0},0,0,0]
[{"$f":"Dados!A354","v":"00:00:00"},{"$f":"Dados!B354","v":"00:00:00"},{"$f":"Dados!C354","v":0},0,0,0]
[{"$f":"Dados!A355","v":"00:00:00"},{"$f":"Dados!B355","v":"00:00:00"},{"$f":"Dados!C355","v":0},0,0,0]
[{"$f":"Dados!A356","v":"00:00:00"},{"$f":"Dados!B356","v":"00:00:00"},{"$f":"Dados!C356","v":0},0,0,0]
[{"$f":"Dados!A357","v":"00:00:00"},{"$f":"Dados!B357","v":"00:00:00"},{"$f":"Dados!C357","v":0},0,0,0]
[{"$f":"Dados!A358","v":"00:00:00"},{"$f":"Dados!B358","v":"00:00:00"},{"$f":"Dados!C358","v":0},0,0,0]
[{"$f":"Dados!A359","v":"00:00:00"},{"$f":"Dados!B359","v":"00:00:00"},{"$f":"Dados!C359","v":0},0,0,0]
[{"$f":"Dados!A360","v":"00:00:00"},{"$f":"Dados!B360","v":"00:00:00"},{"$f":"Dados!C360","v":0},0,0,0]
[{"$f":"Dados!A361","v":"00:00:00"},{"$f":"Dados!B361","v":"00:00:00"},{"$f":"Dados!C361","v":0},0,0,0]
[{"$f":"Dados!A362","v":"00:00:00"},{"$f":"Dados!B362","v":"00:00:00"},{"$f":"Dados!C362","v":0},0,0,0]
[{"$f":"Dados!A363","v":"00:00:00"},{"$f":"Dados!B363","v":"00:00:00"},{"$f":"Dados!C363","v":0},0,0,0]
[{"$f":"Dados!A364","v":"00:00:00"},{"$f":"Dados!B364","v":"00:00:00"},{"$f":"Dados!C364","v":0},0,0,0]
[{"$f":"Dados!A365","v":"00:00:00"},{"$f":"Dados!B365","v":"00:00:00"},{"$f":"Dados!C365","v":0},0,0,0]
[{"$f":"Dados!A366","v":"00:00:00"},{"$f":"Dados!B366","v":"00:00:00"},{"$f":"Dados!C366","v":0},0,0,0]
[{"$f":"Dados!A367","v":"00:00:00"},{"$f":"Dados!B367","v":"00:00:00"},{"$f":"Dados!C367","v":0},0,0,0]
[{"$f":"Dados!A368","v":"00:00:00"},{"$f":"Dados!B368","v":"00:00:00"},{"$f":"Dados!C368","v":0},0,0,0]
[{"$f":"Dados!A369","v":"00:00:00"},{"$f":"Dados!B369","v":"00:00:00"},{"$f":"Dados!C369","v":0},0,0,0]
[{"$f":"Dados!A370","v":"00:00:00"},{"$f":"Dados!B370","v":"00:00:00"},{"$f":"Dados!C370","v":0},0,0,0]
[{"$f":"Dados!A371","v":"00:00:00"},{"$f":"Dados!B371","v":"00:00:00"},{"$f":"Dados!C371","v":0},0,0,0]
[{"$f":"Dados!A372","v":"00:00:00"},{"$f":"Dados!B372","v":"00:00:00"},{"$f":"Dados!C372","v":0},0,0,0]
[{"$f":"Dados!A373","v":"00:00:00"},{"$f":"Dados!B373","v":"00:00:00"},{"$f":"Dados!C373","v":0},0,{"$f":"HOUR(B373)","v":0},{"$f":"MINUTE(B373)","v":0}]
[{"$f":"Dados!A374","v":"00:00:00"},{"$f":"Dados!B374","v":"00:00:00"},{"$f":"Dados!C374","v":0},0,0,0]
[{"$f":"Dados!A375","v":"00:00:00"},{"$f":"Dados!B375","v":"00:00:00"},{"$f":"Dados!C375","v":0},0,0,0]
[{"$f":"Dados!A376","v":"00:00:00"},{"$f":"Dados!B376","v":"00:00:00"},{"$f":"Dados!C376","v":0},0,0,0]
[{"$f":"Dados!A377","v":"00:00:00"},{"$f":"Dados!B377","v":"00:00:00"},{"$f":"Dados!C377","v":0},0,0,0]
[{"$f":"Dados!A378","v":"00:00:00"},{"$f":"Dados!B378","v":"00:00:00"},{"$f":"Dados!C378","v":0},0,0,0]
[{"$f":"Dados!A379","v":"00:00:00"},{"$f":"Dados!B379","v":"00:00:00"},{"$f":"Dados!C379","v":0},0,0,0]
[{"$f":"Dados!A380","v":"00:00:00"},{"$f":"Dados!B380","v":"00:00:00"},{"$f":"Dados!C380","v":0},0,0,0]
[{"$f":"Dados!A381","v":"00:00:00"},{"$f":"Dados!B381","v":"00:00:00"},{"$f":"Dados!C381","v":0},0,0,0]
[{"$f":"Dados!A382","v":"00:00:00"},{"$f":"Dados!B382","v":"00:00:00"},{"$f":"Dados!C382","v":0},0,0,0]
[{"$f":"Dados!A383","v":"00:00:00"},{"$f":"Dados!B383","v":"00:00:00"},{"$f":"Dados!C383","v":0},0,0,0]
[{"$f":"Dados!A384","v":"00:00:00"},{"$f":"Dados!B384","v":"00:00:00"},{"$f":"Dados!C384","v":0},0,0,0]
[{"$f":"Dados!A385","v":"00:00:00"},{"$f":"Dados!B385","v":"00:00:00"},{"$f":"Dados!C385","v":0},0,0,0]
[{"$f":"Dados!A386","v":"00:00:00"},{"$f":"Dados!B386","v":"00:00:00"},{"$f":"Dados!C386","v":0},0,0,0]
[{"$f":"Dados!A387","v":"00:00:00"},{"$f":"Dados!B387","v":"00:00:00"},{"$f":"Dados!C387","v":0},{"$f":"IF((0.0005*(C387^2)+0.0058*(C387)-0.055)<0,0,IF((0.0005*(C387^2)+0.0058*(C387)-0.055)>1,1,(0.0005*(C387^2)+0.0058*(C387)-0.055)))","v":0},0,0]
[{"$f":"Dados!A388","v":"00:00:00"},{"$f":"Dados!B388","v":"00:00:00"},{"$f":"Dados!C388","v":0},0,0,0]
[{"$f":"Dados!A389","v":"00:00:00"},{"$f":"Dados!B389","v":"00:00:00"},{"$f":"Dados!C389","v":0},0,0,0]
[{"$f":"Dados!A390","v":"00:00:00"},{"$f":"Dados!B390","v":"00:00:00"},{"$f":"Dados!C390","v":0},0,0,0]
[{"$f":"Dados!A391","v":"00:00:00"},{"$f":"Dados!B391","v":"00:00:00"},{"$f":"Dados!C391","v":0},0,0,0]
[{"$f":"Dados!A392","v":"00:00:00"},{"$f":"Dados!B392","v":"00:00:00"},{"$f":"Dados!C392","v":0},0,0,0]
[{"$f":"Dados!A393","v":"00:00:00"},{"$f":"Dados!B393","v":"00:00:00"},{"$f":"Dados!C393","v":0},0,0,0]
[{"$f":"Dados!A394","v":"00:00:00"},{"$f":"Dados!B394","v":"00:00:00"},{"$f":"Dados!C394","v":0},0,0,0]
[{"$f":"Dados!A395","v":"00:00:00"},{"$f":"Dados!B395","v":"00:00:00"},{"$f":"Dados!C395","v":0},0,0,0]
[{"$f":"Dados!A396","v":"00:00:00"},{"$f":"Dados!B396","v":"00:00:00"},{"$f":"Dados!C396","v":0},0,0,0]
[{"$f":"Dados!A397","v":"00:00:00"},{"$f":"Dados!B397","v":"00:00:00"},{"$f":"Dados!C397","v":0},0,0,0]
[{"$f":"Dados!A398","v":"00:00:00"},{"$f":"Dados!B398","v":"00:00:00"},{"$f":"Dados!C398","v":0},0,0,0]
[{"$f":"Dados!A399","v":"00:00:00"},{"$f":"Dados!B399","v":"00:00:00"},{"$f":"Dados!C399","v":0},0,0,0]
[{"$f":"Dados!A400","v":"00:00:00"},{"$f":"Dados!B400","v":"00:00:00"},{"$f":"Dados!C400","v":0},0,0,0]
[{"$f":"Dados!A401","v":"00:00:00"},{"$f":"Dados!B401","v":"00:00:00"},{"$f":"Dados!C401","v":0},0,0,0]
[{"$f":"Dados!A402","v":"00:00:00"},{"$f":"Dados!B402","v":"00:00:00"},{"$f":"Dados!C402","v":0},0,0,0]
[{"$f":"Dados!A403","v":"00:00:00"},{"$f":"Dados!B403","v":"00:00:00"},{"$f":"Dados!C403","v":0},0,0,0]
[{"$f":"Dados!A404","v":"00:00:00"},{"$f":"Dados!B404","v":"00:00:00"},{"$f":"Dados!C404","v":0},0,0,0]
[{"$f":"Dados!A405","v":"00:00:00"},{"$f":"Dados!B405","v":"00:00:00"},{"$f":"Dados!C405","v":0},0,0,0]
[{"$f":"Dados!A406","v":"00:00:00"},{"$f":"Dados!B406","v":"00:00:00"},{"$f":"Dados!C406","v":0},0,0,0]
[{"$f":"Dados!A407","v":"00:00:00"},{"$f":"Dados!B407","v":"00:00:00"},{"$f":"Dados!C407","v":0},0,0,0]
[{"$f":"Dados!A408","v":"00:00:00"},{"$f":"Dados!B408","v":"00:00:00"},{"$f":"Dados!C408","v":0},0,0,0]
[{"$f":"Dados!A409","v":"00:00:00"},{"$f":"Dados!B409","v":"00:00:00"},{"$f":"Dados!C409","v":0},0,0,0]
[{"$f":"Dados!A410","v":"00:00:00"},{"$f":"Dados!B410","v":"00:00:00"},{"$f":"Dados!C410","v":0},0,0,0]
[{"$f":"Dados!A411","v":"00:00:00"},{"$f":"Dados!B411","v":"00:00:00"},{"$f":"Dados!C411","v":0},0,0,0]
[{"$f":"Dados!A412","v":"00:00:00"},{"$f":"Dados!B412","v":"00:00:00"},{"$f":"Dados!C412","v":0},0,0,0]
[{"$f":"Dados!A413","v":"00:00:00"},{"$f":"Dados!B413","v":"00:00:00"},{"$f":"Dados!C413","v":0},0,0,0]
[{"$f":"Dados!A414","v":"00:00:00"},{"$f":"Dados!B414","v":"00:00:00"},{"$f":"Dados!C414","v":0},0,0,0]
[{"$f":"Dados!A415","v":"00:00:00"},{"$f":"Dados!B415","v":"00:00:00"},{"$f":"Dados!C415","v":0},0,0,0]
[{"$f":"Dados!A416","v":"00:00:00"},{"$f":"Dados!B416","v":"00:00:00"},{"$f":"Dados!C416","v":0},0,0,0]
[{"$f":"Dados!A417","v":"00:00:00"},{"$f":"Dados!B417","v":"00:00:00"},{"$f":"Dados!C417","v":0},0,0,0]
[{"$f":"Dados!A418","v":"00:00:00"},{"$f":"Dados!B418","v":"00:00:00"},{"$f":"Dados!C418","v":0},0,0,0]
[{"$f":"Dados!A419","v":"00:00:00"},{"$f":"Dados!B419","v":"00:00:00"},{"$f":"Dados!C419","v":0},0,0,0]
[{"$f":"Dados!A420","v":"00:00:00"},{"$f":"Dados!B420","v":"00:00:00"},{"$f":"Dados!C420","v":0},0,0,0]
[{"$f":"Dados!A421","v":"00:00:00"},{"$f":"Dados!B421","v":"00:00:00"},{"$f":"Dados!C421","v":0},0,0,0]
[{"$f":"Dados!A422","v":"00:00:00"},{"$f":"Dados!B422","v":"00:00:00"},{"$f":"Dados!C422","v":0},0,0,0]
[{"$f":"Dados!A423","v":"00:00:00"},{"$f":"Dados!B423","v":"00:00:00"},{"$f":"Dados!C423","v":0},0,0,0]
[{"$f":"Dados!A424","v":"00:00:00"},{"$f":"Dados!B424","v":"00:00:00"},{"$f":"Dados!C424","v":0},0,0,0]
[{"$f":"Dados!A425","v":"00:00:00"},{"$f":"Dados!B425","v":"00:00:00"},{"$f":"Dados!C425","v":0},0,0,0]
[{"$f":"Dados!A426","v":"00:00:00"},{"$f":"Dados!B426","v":"00:00:00"},{"$f":"Dados!C426","v":0},0,0,0]
[{"$f":"Dados!A427","v":"00:00:00"},{"$f":"Dados!B427","v":"00:00:00"},{"$f":"Dados!C427","v":0},0,0,0]
[{"$f":"Dados!A428","v":"00:00:00"},{"$f":"Dados!B428","v":"00:00:00"},{"$f":"Dados!C428","v":0},0,0,0]
[{"$f":"Dados!A429","v":"00:00:00"},{"$f":"Dados!B429","v":"00:00:00"},{"$f":"Dados!C429","v":0},0,0,0]
[{"$f":"Dados!A430","v":"00:00:00"},{"$f":"Dados!B430","v":"00:00:00"},{"$f":"Dados!C430","v":0},0,0,0]
[{"$f":"Dados!A431","v":"00:00:00"},{"$f":"Dados!B431","v":"00:00:00"},{"$f":"Dados!C431","v":0},0,0,0]
[{"$f":"Dados!A432","v":"00:00:00"},{"$f":"Dados!B432","v":"00:00:00"},{"$f":"Dados!C432","v":0},0,0,0]
[{"$f":"Dados!A433","v":"00:00:00"},{"$f":"Dados!B433","v":"00:00:00"},{"$f":"Dados!C433","v":0},0,0,0]
[{"$f":"Dados!A434","v":"00:00:00"},{"$f":"Dados!B434","v":"00:00:00"},{"$f":"Dados!C434","v":0},0,0,0]
[{"$f":"Dados!A435","v":"00:00:00"},{"$f":"Dados!B435","v":"00:00:00"},{"$f":"Dados!C435","v":0},0,0,0]
[{"$f":"Dados!A436","v":"00:00:00"},{"$f":"Dados!B436","v":"00:00:00"},{"$f":"Dados!C436","v":0},0,0,0]
[{"$f":"Dados!A437","v":"00:00:00"},{"$f":"Dados!B437","v":"00:00:00"},{"$f":"Dados!C437","v":0},0,{"$f":"HOUR(B437)","v":0},{"$f":"MINUTE(B437)","v":0}]
[{"$f":"Dados!A438","v":"00:00:00"},{"$f":"Dados!B438","v":"00:00:00"},{"$f":"Dados!C438","v":0},0,0,0]
[{"$f":"Dados!A439","v":"00:00:00"},{"$f":"Dados!B439","v":"00:00:00"},{"$f":"Dados!C439","v":0},0,0,0]
[{"$f":"Dados!A440","v":"00:00:00"},{"$f":"Dados!B440","v":"00:00:00"},{"$f":"Dados!C440","v":0},0,0,0]
[{"$f":"Dados!A441","v":"00:00:00"},{"$f":"Dados!B441","v":"00:00:00"},{"$f":"Dados!C441","v":0},0,0,0]
[{"$f":"Dados!A442","v":"00:00:00"},{"$f":"Dados!B442","v":"00:00:00"},{"$f":"Dados!C442","v":0},0,0,0]
[{"$f":"Dados!A443","v":"00:00:00"},{"$f":"Dados!B443","v":"00:00:00"},{"$f":"Dados!C443","v":0},0,0,0]
[{"$f":"Dados!A444","v":"00:00:00"},{"$f":"Dados!B444","v":"00:00:00"},{"$f":"Dados!C444","v":0},0,0,0]
[{"$f":"Dados!A445","v":"00:00:00"},{"$f":"Dados!B445","v":"00:00:00"},{"$f":"Dados!C445","v":0},0,0,0]
[{"$f":"Dados!A446","v":"00:00:00"},{"$f":"Dados!B446","v":"00:00:00"},{"$f":"Dados!C446","v":0},0,0,0]
[{"$f":"Dados!A447","v":"00:00:00"},{"$f":"Dados!B447","v":"00:00:00"},{"$f":"Dados!C447","v":0},0,0,0]
[{"$f":"Dados!A448","v":"00:00:00"},{"$f":"Dados!B448","v":"00:00:00"},{"$f":"Dados!C448","v":0},0,0,0]
[{"$f":"Dados!A449","v":"00:00:00"},{"$f":"Dados!B449","v":"00:00:00"},{"$f":"Dados!C449","v":0},0,0,0]
[{"$f":"Dados!A450","v":"00:00:00"},{"$f":"Dados!B450","v":"00:00:00"},{"$f":"Dados!C450","v":0},0,0,0]
[{"$f":"Dados!A451","v":"00:00:00"},{"$f":"Dados!B451","v":"00:00:00"},{"$f":"Dados!C451","v":0},{"$f":"IF((0.0005*(C451^2)+0.0058*(C451)-0.055)<0,0,IF((0.0005*(C451^2)+0.0058*(C451)-0.055)>1,1,(0.0005*(C451^2)+0.0058*(C451)-0.055)))","v":0},0,0]
[{"$f":"Dados!A452","v":"00:00:00"},{"$f":"Dados!B452","v":"00:00:00"},{"$f":"Dados!C452","v":0},0,0,0]
[{"$f":"Dados!A453","v":"00:00:00"},{"$f":"Dados!B453","v":"00:00:00"},{"$f":"Dados!C453","v":0},0,0,0]
[{"$f":"Dados!A454","v":"00:00:00"},{"$f":"Dados!B454","v":"00:00:00"},{"$f":"Dados!C454","v":0},0,0,0]
[{"$f":"Dados!A455","v":"00:00:00"},{"$f":"Dados!B455","v":"00:00:00"},{"$f":"Dados!C455","v":0},0,0,0]
[{"$f":"Dados!A456","v":"00:00:00"},{"$f":"Dados!B456","v":"00:00:00"},{"$f":"Dados!C456","v":0},0,0,0]
[{"$f":"Dados!A457","v":"00:00:00"},{"$f":"Dados!B457","v":"00:00:00"},{"$f":"Dados!C457","v":0},0,0,0]
[{"$f":"Dados!A458","v":"00:00:00"},{"$f":"Dados!B458","v":"00:00:00"},{"$f":"Dados!C458","v":0},0,0,0]
[{"$f":"Dados!A459","v":"00:00:00"},{"$f":"Dados!B459","v":"00:00:00"},{"$f":"Dados!C459","v":0},0,0,0]
[{"$f":"Dados!A460","v":"00:00:00"},{"$f":"Dados!B460","v":"00:00:00"},{"$f":"Dados!C460","v":0},0,0,0]
[{"$f":"Dados!A461","v":"00:00:00"},{"$f":"Dados!B461","v":"00:00:00"},{"$f":"Dados!C461","v":0},0,0,0]
[{"$f":"Dados!A462","v":"00:00:00"},{"$f":"Dados!B462","v":"00:00:00"},{"$f":"Dados!C462","v":0},0,0,0]
[{"$f":"Dados!A463","v":"00:00:00"},{"$f":"Dados!B463","v":"00:00:00"},{"$f":"Dados!C463","v":0},0,0,0]
[{"$f":"Dados!A464","v":"00:00:00"},{"$f":"Dados!B464","v":"00:00:00"},{"$f":"Dados!C464","v":0},0,0,0]
[{"$f":"Dados!A465","v":"00:00:00"},{"$f":"Dados!B465","v":"00:00:00"},{"$f":"Dados!C465","v":0},0,0,0]
[{"$f":"Dados!A466","v":"00:00:00"},{"$f":"Dados!B466","v":"00:00:00"},{"$f":"Dados!C466","v":0},0,0,0]
[{"$f":"Dados!A467","v":"00:00:00"},{"$f":"Dados!B467","v":"00:00:00"},{"$f":"Dados!C467","v":0},0,0,0]
[{"$f":"Dados!A468","v":"00:00:00"},{"$f":"Dados!B468","v":"00:00:00"},{"$f":"Dados!C468","v":0},0,0,0]
[{"$f":"Dados!A469","v":"00:00:00"},{"$f":"Dados!B469","v":"00:00:00"},{"$f":"Dados!C469","v":0},0,0,0]
[{"$f":"Dados!A470","v":"00:00:00"},{"$f":"Dados!B470","v":"00:00:00"},{"$f":"Dados!C470","v":0},0,0,0]
[{"$f":"Dados!A471","v":"00:00:00"},{"$f":"Dados!B471","v":"00:00:00"},{"$f":"Dados!C471","v":0},0,0,0]
[{"$f":"Dados!A472","v":"00:00:00"},{"$f":"Dados!B472","v":"00:00:00"},{"$f":"Dados!C472","v":0},0,0,0]
[{"$f":"Dados!A473","v":"00:00:00"},{"$f":"Dados!B473","v":"00:00:00"},{"$f":"Dados!C473","v":0},0,0,0]
[{"$f":"Dados!A474","v":"00:00:00"},{"$f":"Dados!B474","v":"00:00:00"},{"$f":"Dados!C474","v":0},0,0,0]
[{"$f":"Dados!A475","v":"00:00:00"},{"$f":"Dados!B475","v":"00:00:00"},{"$f":"Dados!C475","v":0},0,0,0]
[{"$f":"Dados!A476","v":"00:00:00"},{"$f":"Dados!B476","v":"00:00:00"},{"$f":"Dados!C476","v":0},0,0,0]
[{"$f":"Dados!A477","v":"00:00:00"},{"$f":"Dados!B477","v":"00:00:00"},{"$f":"Dados!C477","v":0},0,0,0]
[{"$f":"Dados!A478","v":"00:00:00"},{"$f":"Dados!B478","v":"00:00:00"},{"$f":"Dados!C478","v":0},0,0,0]
[{"$f":"Dados!A479","v":"00:00:00"},{"$f":"Dados!B479","v":"00:00:00"},{"$f":"Dados!C479","v":0},0,0,0]
[{"$f":"Dados!A480","v":"00:00:00"},{"$f":"Dados!B480","v":"00:00:00"},{"$f":"Dados!C480","v":0},0,0,0]
[{"$f":"Dados!A481","v":"00:00:00"},{"$f":"Dados!B481","v":"00:00:00"},{"$f":"Dados!C481","v":0},0,0,0]
[{"$f":"Dados!A482","v":"00:00:00"},{"$f":"Dados!B482","v":"00:00:00"},{"$f":"Dados!C482","v":0},0,0,0]
[{"$f":"Dados!A483","v":"00:00:00"},{"$f":"Dados!B483","v":"00:00:00"},{"$f":"Dados!C483","v":0},0,0,0]
[{"$f":"Dados!A484","v":"00:00:00"},{"$f":"Dados!B484","v":"00:00:00"},{"$f":"Dados!C484","v":0},0,0,0]
[{"$f":"Dados!A485","v":"00:00:00"},{"$f":"Dados!B485","v":"00:00:00"},{"$f":"Dados!C485","v":0},0,0,0]
[{"$f":"Dados!A486","v":"00:00:00"},{"$f":"Dados!B486","v":"00:00:00"},{"$f":"Dados!C486","v":0},0,0,0]
[{"$f":"Dados!A487","v":"00:00:00"},{"$f":"Dados!B487","v":"00:00:00"},{"$f":"Dados!C487","v":0},0,0,0]
[{"$f":"Dados!A488","v":"00:00:00"},{"$f":"Dados!B488","v":"00:00:00"},{"$f":"Dados!C488","v":0},0,0,0]
[{"$f":"Dados!A489","v":"00:00:00"},{"$f":"Dados!B489","v":"00:00:00"},{"$f":"Dados!C489","v":0},0,0,0]
[{"$f":"Dados!A490","v":"00:00:00"},{"$f":"Dados!B490","v":"00:00:00"},{"$f":"Dados!C490","v":0},0,0,0]
[{"$f":"Dados!A491","v":"00:00:00"},{"$f":"Dados!B491","v":"00:00:00"},{"$f":"Dados!C491","v":0},0,0,0]
[{"$f":"Dados!A492","v":"00:00:00"},{"$f":"Dados!B492","v":"00:00:00"},{"$f":"Dados!C492","v":0},0,0,0]
[{"$f":"Dados!A493","v":"00:00:00"},{"$f":"Dados!B493","v":"00:00:00"},{"$f":"Dados!C493","v":0},0,0,0]
[{"$f":"Dados!A494","v":"00:00:00"},{"$f":"Dados!B494","v":"00:00:00"},{"$f":"Dados!C494","v":0},0,0,0]
[{"$f":"Dados!A495","v":"00:00:00"},{"$f":"Dados!B495","v":"00:00:00"},{"$f":"Dados!C495","v":0},0,0,0]
[{"$f":"Dados!A496","v":"00:00:00"},{"$f":"Dados!B496","v":"00:00:00"},{"$f":"Dados!C496","v":0},0,0,0]
[{"$f":"Dados!A497","v":"00:00:00"},{"$f":"Dados!B497","v":"00:00:00"},{"$f":"Dados!C497","v":0},0,0,0]
[{"$f":"Dados!A498","v":"00:00:00"},{"$f":"Dados!B498","v":"00:00:00"},{"$f":"Dados!C498","v":0},0,0,0]
[{"$f":"Dados!A499","v":"00:00:00"},{"$f":"Dados!B499","v":"00:00:00"},{"$f":"Dados!C499","v":0},0,0,0]
[{"$f":"Dados!A500","v":"00:00:00"},{"$f":"Dados!B500","v":"00:00:00"},{"$f":"Dados!C500","v":0},0,0,0]
[{"$f":"Dados!A501","v":"00:00:00"},{"$f":"Dados!B501","v":"00:00:00"},{"$f":"Dados!C501","v":0},0,{"$f":"HOUR(B501)","v":0},{"$f":"MINUTE(B501)","v":0}]
[{"$f":"Dados!A502","v":"00:00:00"},{"$f":"Dados!B502","v":"00:00:00"},{"$f":"Dados!C502","v":0},0,0,0]
[{"$f":"Dados!A503","v":"00:00:00"},{"$f":"Dados!B503","v":"00:00:00"},{"$f":"Dados!C503","v":0},0,0,0]
[{"$f":"Dados!A504","v":"00:00:00"},{"$f":"Dados!B504","v":"00:00:00"},{"$f":"Dados!C504","v":0},0,0,0]
[{"$f":"Dados!A505","v":"00:00:00"},{"$f":"Dados!B505","v":"00:00:00"},{"$f":"Dados!C505","v":0},0,0,0]
[{"$f":"Dados!A506","v":"00:00:00"},{"$f":"Dados!B506","v":"00:00:00"},{"$f":"Dados!C506","v":0},0,0,0]
[{"$f":"Dados!A507","v":"00:00:00"},{"$f":"Dados!B507","v":"00:00:00"},{"$f":"Dados!C507","v":0},0,0,0]
[{"$f":"Dados!A508","v":"00:00:00"},{"$f":"Dados!B508","v":"00:00:00"},{"$f":"Dados!C508","v":0},0,0,0]
[{"$f":"Dados!A509","v":"00:00:00"},{"$f":"Dados!B509","v":"00:00:00"},{"$f":"Dados!C509","v":0},0,0,0]
[{"$f":"Dados!A510","v":"00:00:00"},{"$f":"Dados!B510","v":"00:00:00"},{"$f":"Dados!C510","v":0},0,0,0]
[{"$f":"Dados!A511","v":"00:00:00"},{"$f":"Dados!B511","v":"00:00:00"},{"$f":"Dados!C511","v":0},0,0,0]
[{"$f":"Dados!A512","v":"00:00:00"},{"$f":"Dados!B512","v":"00:00:00"},{"$f":"Dados!C512","v":0},0,0,0]
[{"$f":"Dados!A513","v":"00:00:00"},{"$f":"Dados!B513","v":"00:00:00"},{"$f":"Dados!C513","v":0},0,0,0]
[{"$f":"Dados!A514","v":"00:00:00"},{"$f":"Dados!B514","v":"00:00:00"},{"$f":"Dados!C514","v":0},0,0,0]
[{"$f":"Dados!A515","v":"00:00:00"},{"$f":"Dados!B515","v":"00:00:00"},{"$f":"Dados!C515","v":0},{"$f":"IF((0.0005*(C515^2)+0.0058*(C515)-0.055)<0,0,IF((0.0005*(C515^2)+0.0058*(C515)-0.055)>1,1,(0.0005*(C515^2)+0.0058*(C515)-0.055)))","v":0},0,0]
[{"$f":"Dados!A516","v":"00:00:00"},{"$f":"Dados!B516","v":"00:00:00"},{"$f":"Dados!C516","v":0},0,0,0]
[{"$f":"Dados!A517","v":"00:00:00"},{"$f":"Dados!B517","v":"00:00:00"},{"$f":"Dados!C517","v":0},0,0,0]
[{"$f":"Dados!A518","v":"00:00:00"},{"$f":"Dados!B518","v":"00:00:00"},{"$f":"Dados!C518","v":0},0,0,0]
[{"$f":"Dados!A519","v":"00:00:00"},{"$f":"Dados!B519","v":"00:00:00"},{"$f":"Dados!C519","v":0},0,0,0]
[{"$f":"Dados!A520","v":"00:00:00"},{"$f":"Dados!B520","v":"00:00:00"},{"$f":"Dados!C520","v":0},0,0,0]
[{"$f":"Dados!A521","v":"00:00:00"},{"$f":"Dados!B521","v":"00:00:00"},{"$f":"Dados!C521","v":0},0,0,0]
[{"$f":"Dados!A522","v":"00:00:00"},{"$f":"Dados!B522","v":"00:00:00"},{"$f":"Dados!C522","v":0},0,0,0]
[{"$f":"Dados!A523","v":"00:00:00"},{"$f":"Dados!B523","v":"00:00:00"},{"$f":"Dados!C523","v":0},0,0,0]
[{"$f":"Dados!A524","v":"00:00:00"},{"$f":"Dados!B524","v":"00:00:00"},{"$f":"Dados!C524","v":0},0,0,0]
[{"$f":"Dados!A525","v":"00:00:00"},{"$f":"Dados!B525","v":"00:00:00"},{"$f":"Dados!C525","v":0},0,0,0]
[{"$f":"Dados!A526","v":"00:00:00"},{"$f":"Dados!B526","v":"00:00:00"},{"$f":"Dados!C526","v":0},0,0,0]
[{"$f":"Dados!A527","v":"00:00:00"},{"$f":"Dados!B527","v":"00:00:00"},{"$f":"Dados!C527","v":0},0,0,0]
[{"$f":"Dados!A528","v":"00:00:00"},{"$f":"Dados!B528","v":"00:00:00"},{"$f":"Dados!C528","v":0},0,0,0]
[{"$f":"Dados!A529","v":"00:00:00"},{"$f":"Dados!B529","v":"00:00:00"},{"$f":"Dados!C529","v":0},0,0,0]
[{"$f":"Dados!A530","v":"00:00:00"},{"$f":"Dados!B530","v":"00:00:00"},{"$f":"Dados!C530","v":0},0,0,0]
[{"$f":"Dados!A531","v":"00:00:00"},{"$f":"Dados!B531","v":"00:00:00"},{"$f":"Dados!C531","v":0},0,0,0]
[{"$f":"Dados!A532","v":"00:00:00"},{"$f":"Dados!B532","v":"00:00:00"},{"$f":"Dados!C532","v":0},0,0,0]
[{"$f":"Dados!A533","v":"00:00:00"},{"$f":"Dados!B533","v":"00:00:00"},{"$f":"Dados!C533","v":0},0,0,0]
[{"$f":"Dados!A534","v":"00:00:00"},{"$f":"Dados!B534","v":"00:00:00"},{"$f":"Dados!C534","v":0},0,0,0]
[{"$f":"Dados!A535","v":"00:00:00"},{"$f":"Dados!B535","v":"00:00:00"},{"$f":"Dados!C535","v":0},0,0,0]
[{"$f":"Dados!A536","v":"00:00:00"},{"$f":"Dados!B536","v":"00:00:00"},{"$f":"Dados!C536","v":0},0,0,0]
[{"$f":"Dados!A537","v":"00:00:00"},{"$f":"Dados!B537","v":"00:00:00"},{"$f":"Dados!C537","v":0},0,0,0]
[{"$f":"Dados!A538","v":"00:00:00"},{"$f":"Dados!B538","v":"00:00:00"},{"$f":"Dados!C538","v":0},0,0,0]
[{"$f":"Dados!A539","v":"00:00:00"},{"$f":"Dados!B539","v":"00:00:00"},{"$f":"Dados!C539","v":0},0,0,0]
[{"$f":"Dados!A540","v":"00:00:00"},{"$f":"Dados!B540","v":"00:00:00"},{"$f":"Dados!C540","v":0},0,0,0]
[{"$f":"Dados!A541","v":"00:00:00"},{"$f":"Dados!B541","v":"00:00:00"},{"$f":"Dados!C541","v":0},0,0,0]
[{"$f":"Dados!A542","v":"00:00:00"},{"$f":"Dados!B542","v":"00:00:00"},{"$f":"Dados!C542","v":0},0,0,0]
[{"$f":"Dados!A543","v":"00:00:00"},{"$f":"Dados!B543","v":"00:00:00"},{"$f":"Dados!C543","v":0},0,0,0]
[{"$f":"Dados!A544","v":"00:00:00"},{"$f":"Dados!B544","v":"00:00:00"},{"$f":"Dados!C544","v":0},0,0,0]
[{"$f":"Dados!A545","v":"00:00:00"},{"$f":"Dados!B545","v":"00:00:00"},{"$f":"Dados!C545","v":0},0,0,0]
[{"$f":"Dados!A546","v":"00:00:00"},{"$f":"Dados!B546","v":"00:00:00"},{"$f":"Dados!C546","v":0},0,0,0]
[{"$f":"Dados!A547","v":"00:00:00"},{"$f":"Dados!B547","v":"00:00:00"},{"$f":"Dados!C547","v":0},0,0,0]
[{"$f":"Dados!A548","v":"00:00:00"},{"$f":"Dados!B548","v":"00:00:00"},{"$f":"Dados!C548","v":0},0,0,0]
[{"$f":"Dados!A549","v":"00:00:00"},{"$f":"Dados!B549","v":"00:00:00"},{"$f":"Dados!C549","v":0},0,0,0]
[{"$f":"Dados!A550","v":"00:00:00"},{"$f":"Dados!B550","v":"00:00:00"},{"$f":"Dados!C550","v":0},0,0,0]
[{"$f":"Dados!A551","v":"00:00:00"},{"$f":"Dados!B551","v":"00:00:00"},{"$f":"Dados!C551","v":0},0,0,0]
[{"$f":"Dados!A552","v":"00:00:00"},{"$f":"Dados!B552","v":"00:00:00"},{"$f":"Dados!C552","v":0},0,0,0]
[{"$f":"Dados!A553","v":"00:00:00"},{"$f":"Dados!B553","v":"00:00:00"},{"$f":"Dados!C553","v":0},0,0,0]
[{"$f":"Dados!A554","v":"00:00:00"},{"$f":"Dados!B554","v":"00:00:00"},{"$f":"Dados!C554","v":0},0,0,0]
[{"$f":"Dados!A555","v":"00:00:00"},{"$f":"Dados!B555","v":"00:00:00"},{"$f":"Dados!C555","v":0},0,0,0]
[{"$f":"Dados!A556","v":"00:00:00"},{"$f":"Dados!B556","v":"00:00:00"},{"$f":"Dados!C556","v":0},0,0,0]
[{"$f":"Dados!A557","v":"00:00:00"},{"$f":"Dados!B557","v":"00:00:00"},{"$f":"Dados!C557","v":0},0,0,0]
[{"$f":"Dados!A558","v":"00:00:00"},{"$f":"Dados!B558","v":"00:00:00"},{"$f":"Dados!C558","v":0},0,0,0]
[{"$f":"Dados!A559","v":"00:00:00"},{"$f":"Dados!B559","v":"00:00:00"},{"$f":"Dados!C559","v":0},0,0,0]
[{"$f":"Dados!A560","v":"00:00:00"},{"$f":"Dados!B560","v":"00:00:00"},{"$f":"Dados!C560","v":0},0,0,0]
[{"$f":"Dados!A561","v":"00:00:00"},{"$f":"Dados!B561","v":"00:00:00"},{"$f":"Dados!C561","v":0},0,0,0]
[{"$f":"Dados!A562","v":"00:00:00"},{"$f":"Dados!B562","v":"00:00:00"},{"$f":"Dados!C562","v":0},0,0,0]
[{"$f":"Dados!A563","v":"00:00:00"},{"$f":"Dados!B563","v":"00:00:00"},{"$f":"Dados!C563","v":0},0,0,0]
[{"$f":"Dados!A564","v":"00:00:00"},{"$f":"Dados!B564","v":"00:00:00"},{"$f":"Dados!C564","v":0},0,0,0]
[{"$f":"Dados!A565","v":"00:00:00"},{"$f":"Dados!B565","v":"00:00:00"},{"$f":"Dados!C565","v":0},0,{"$f":"HOUR(B565)","v":0},{"$f":"MINUTE(B565)","v":0}]
[{"$f":"Dados!A566","v":"00:00:00"},{"$f":"Dados!B566","v":"00:00:00"},{"$f":"Dados!C566","v":0},0,0,0]
[{"$f":"Dados!A567","v":"00:00:00"},{"$f":"Dados!B567","v":"00:00:00"},{"$f":"Dados!C567","v":0},0,0,0]
[{"$f":"Dados!A568","v":"00:00:00"},{"$f":"Dados!B568","v":"00:00:00"},{"$f":"Dados!C568","v":0},0,0,0]
[{"$f":"Dados!A569","v":"00:00:00"},{"$f":"Dados!B569","v":"00:00:00"},{"$f":"Dados!C569","v":0},0,0,0]
[{"$f":"Dados!A570","v":"00:00:00"},{"$f":"Dados!B570","v":"00:00:00"},{"$f":"Dados!C570","v":0},0,0,0]
[{"$f":"Dados!A571","v":"00:00:00"},{"$f":"Dados!B571","v":"00:00:00"},{"$f":"Dados!C571","v":0},0,0,0]
[{"$f":"Dados!A572","v":"00:00:00"},{"$f":"Dados!B572","v":"00:00:00"},{"$f":"Dados!C572","v":0},0,0,0]
[{"$f":"Dados!A573","v":"00:00:00"},{"$f":"Dados!B573","v":"00:00:00"},{"$f":"Dados!C573","v":0},0,0,0]
[{"$f":"Dados!A574","v":"00:00:00"},{"$f":"Dados!B574","v":"00:00:00"},{"$f":"Dados!C574","v":0},0,0,0]
[{"$f":"Dados!A575","v":"00:00:00"},{"$f":"Dados!B575","v":"00:00:00"},{"$f":"Dados!C575","v":0},0,0,0]
[{"$f":"Dados!A576","v":"00:00:00"},{"$f":"Dados!B576","v":"00:00:00"},{"$f":"Dados!C576","v":0},0,0,0]
[{"$f":"Dados!A577","v":"00:00:00"},{"$f":"Dados!B577","v":"00:00:00"},{"$f":"Dados!C577","v":0},0,0,0]
[{"$f":"Dados!A578","v":"00:00:00"},{"$f":"Dados!B578","v":"00:00:00"},{"$f":"Dados!C578","v":0},0,0,0]
[{"$f":"Dados!A579","v":"00:00:00"},{"$f":"Dados!B579","v":"00:00:00"},{"$f":"Dados!C579","v":0},{"$f":"IF((0.0005*(C579^2)+0.0058*(C579)-0.055)<0,0,IF((0.0005*(C579^2)+0.0058*(C579)-0.055)>1,1,(0.0005*(C579^2)+0.0058*(C579)-0.055)))","v":0},0,0]
[{"$f":"Dados!A580","v":"00:00:00"},{"$f":"Dados!B580","v":"00:00:00"},{"$f":"Dados!C580","v":0},0,0,0]
[{"$f":"Dados!A581","v":"00:00:00"},{"$f":"Dados!B581","v":"00:00:00"},{"$f":"Dados!C581","v":0},0,0,0]
[{"$f":"Dados!A582","v":"00:00:00"},{"$f":"Dados!B582","v":"00:00:00"},{"$f":"Dados!C582","v":0},0,0,0]
[{"$f":"Dados!A583","v":"00:00:00"},{"$f":"Dados!B583","v":"00:00:00"},{"$f":"Dados!C583","v":0},0,0,0]
[{"$f":"Dados!A584","v":"00:00:00"},{"$f":"Dados!B584","v":"00:00:00"},{"$f":"Dados!C584","v":0},0,0,0]
[{"$f":"Dados!A585","v":"00:00:00"},{"$f":"Dados!B585","v":"00:00:00"},{"$f":"Dados!C585","v":0},0,0,0]
[{"$f":"Dados!A586","v":"00:00:00"},{"$f":"Dados!B586","v":"00:00:00"},{"$f":"Dados!C586","v":0},0,0,0]
[{"$f":"Dados!A587","v":"00:00:00"},{"$f":"Dados!B587","v":"00:00:00"},{"$f":"Dados!C587","v":0},0,0,0]
[{"$f":"Dados!A588","v":"00:00:00"},{"$f":"Dados!B588","v":"00:00:00"},{"$f":"Dados!C588","v":0},0,0,0]
[{"$f":"Dados!A589","v":"00:00:00"},{"$f":"Dados!B589","v":"00:00:00"},{"$f":"Dados!C589","v":0},0,0,0]
[{"$f":"Dados!A590","v":"00:00:00"},{"$f":"Dados!B590","v":"00:00:00"},{"$f":"Dados!C590","v":0},0,0,0]
[{"$f":"Dados!A591","v":"00:00:00"},{"$f":"Dados!B591","v":"00:00:00"},{"$f":"Dados!C591","v":0},0,0,0]
[{"$f":"Dados!A592","v":"00:00:00"},{"$f":"Dados!B592","v":"00:00:00"},{"$f":"Dados!C592","v":0},0,0,0]
[{"$f":"Dados!A593","v":"00:00:00"},{"$f":"Dados!B593","v":"00:00:00"},{"$f":"Dados!C593","v":0},0,0,0]
[{"$f":"Dados!A594","v":"00:00:00"},{"$f":"Dados!B594","v":"00:00:00"},{"$f":"Dados!C594","v":0},0,0,0]
[{"$f":"Dados!A595","v":"00:00:00"},{"$f":"Dados!B595","v":"00:00:00"},{"$f":"Dados!C595","v":0},0,0,0]
[{"$f":"Dados!A596","v":"00:00:00"},{"$f":"Dados!B596","v":"00:00:00"},{"$f":"Dados!C596","v":0},0,0,0]
[{"$f":"Dados!A597","v":"00:00:00"},{"$f":"Dados!B597","v":"00:00:00"},{"$f":"Dados!C597","v":0},0,0,0]
[{"$f":"Dados!A598","v":"00:00:00"},{"$f":"Dados!B598","v":"00:00:00"},{"$f":"Dados!C598","v":0},0,0,0]
[{"$f":"Dados!A599","v":"00:00:00"},{"$f":"Dados!B599","v":"00:00:00"},{"$f":"Dados!C599","v":0},0,0,0]
[{"$f":"Dados!A600","v":"00:00:00"},{"$f":"Dados!B600","v":"00:00:00"},{"$f":"Dados!C600","v":0},0,0,0]
[{"$f":"Dados!A601","v":"00:00:00"},{"$f":"Dados!B601","v":"00:00:00"},{"$f":"Dados!C601","v":0},0,0,0]
[{"$f":"Dados!A602","v":"00:00:00"},{"$f":"Dados!B602","v":"00:00:00"},{"$f":"Dados!C602","v":0},0,0,0]
[{"$f":"Dados!A603","v":"00:00:00"},{"$f":"Dados!B603","v":"00:00:00"},{"$f":"Dados!C603","v":0},0,0,0]
[{"$f":"Dados!A604","v":"00:00:00"},{"$f":"Dados!B604","v":"00:00:00"},{"$f":"Dados!C604","v":0},0,0,0]
[{"$f":"Dados!A605","v":"00:00:00"},{"$f":"Dados!B605","v":"00:00:00"},{"$f":"Dados!C605","v":0},0,0,0]
[{"$f":"Dados!A606","v":"00:00:00"},{"$f":"Dados!B606","v":"00:00:00"},{"$f":"Dados!C606","v":0},0,0,0]
[{"$f":"Dados!A607","v":"00:00:00"},{"$f":"Dados!B607","v":"00:00:00"},{"$f":"Dados!C607","v":0},0,0,0]
[{"$f":"Dados!A608","v":"00:00:00"},{"$f":"Dados!B608","v":"00:00:00"},{"$f":"Dados!C608","v":0},0,0,0]
[{"$f":"Dados!A609","v":"00:00:00"},{"$f":"Dados!B609","v":"00:00:00"},{"$f":"Dados!C609","v":0},0,0,0]
[{"$f":"Dados!A610","v":"00:00:00"},{"$f":"Dados!B610","v":"00:00:00"},{"$f":"Dados!C610","v":0},0,0,0]
[{"$f":"Dados!A611","v":"00:00:00"},{"$f":"Dados!B611","v":"00:00:00"},{"$f":"Dados!C611","v":0},0,0,0]
[{"$f":"Dados!A612","v":"00:00:00"},{"$f":"Dados!B612","v":"00:00:00"},{"$f":"Dados!C612","v":0},0,0,0]
[{"$f":"Dados!A613","v":"00:00:00"},{"$f":"Dados!B613","v":"00:00:00"},{"$f":"Dados!C613","v":0},0,0,0]
[{"$f":"Dados!A614","v":"00:00:00"},{"$f":"Dados!B614","v":"00:00:00"},{"$f":"Dados!C614","v":0},0,0,0]
[{"$f":"Dados!A615","v":"00:00:00"},{"$f":"Dados!B615","v":"00:00:00"},{"$f":"Dados!C615","v":0},0,0,0]
[{"$f":"Dados!A616","v":"00:00:00"},{"$f":"Dados!B616","v":"00:00:00"},{"$f":"Dados!C616","v":0},0,0,0]
[{"$f":"Dados!A617","v":"00:00:00"},{"$f":"Dados!B617","v":"00:00:00"},{"$f":"Dados!C617","v":0},0,0,0]
[{"$f":"Dados!A618","v":"00:00:00"},{"$f":"Dados!B618","v":"00:00:00"},{"$f":"Dados!C618","v":0},0,0,0]
[{"$f":"Dados!A619","v":"00:00:00"},{"$f":"Dados!B619","v":"00:00:00"},{"$f":"Dados!C619","v":0},0,0,0]
[{"$f":"Dados!A620","v":"00:00:00"},{"$f":"Dados!B620","v":"00:00:00"},{"$f":"Dados!C620","v":0},0,0,0]
[{"$f":"Dados!A621","v":"00:00:00"},{"$f":"Dados!B621","v":"00:00:00"},{"$f":"Dados!C621","v":0},0,0,0]
[{"$f":"Dados!A622","v":"00:00:00"},{"$f":"Dados!B622","v":"00:00:00"},{"$f":"Dados!C622","v":0},0,0,0]
[{"$f":"Dados!A623","v":"00:00:00"},{"$f":"Dados!B623","v":"00:00:00"},{"$f":"Dados!C623","v":0},0,0,0]
[{"$f":"Dados!A624","v":"00:00:00"},{"$f":"Dados!B624","v":"00:00:00"},{"$f":"Dados!C624","v":0},0,0,0]
[{"$f":"Dados!A625","v":"00:00:00"},{"$f":"Dados!B625","v":"00:00:00"},{"$f":"Dados!C625","v":0},0,0,0]
[{"$f":"Dados!A626","v":"00:00:00"},{"$f":"Dados!B626","v":"00:00:00"},{"$f":"Dados!C626","v":0},0,0,0]
[{"$f":"Dados!A627","v":"00:00:00"},{"$f":"Dados!B627","v":"00:00:00"},{"$f":"Dados!C627","v":0},0,0,0]
[{"$f":"Dados!A628","v":"00:00:00"},{"$f":"Dados!B628","v":"00:00:00"},{"$f":"Dados!C628","v":0},0,0,0]
[{"$f":"Dados!A629","v":"00:00:00"},{"$f":"Dados!B629","v":"00:00:00"},{"$f":"Dados!C629","v":0},0,{"$f":"HOUR(B629)","v":0},{"$f":"MINUTE(B629)","v":0}]
[{"$f":"Dados!A630","v":"00:00:00"},{"$f":"Dados!B630","v":"00:00:00"},{"$f":"Dados!C630","v":0},0,0,0]
[{"$f":"Dados!A631","v":"00:00:00"},{"$f":"Dados!B631","v":"00:00:00"},{"$f":"Dados!C631","v":0},0,0,0]
[{"$f":"Dados!A632","v":"00:00:00"},{"$f":"Dados!B632","v":"00:00:00"},{"$f":"Dados!C632","v":0},0,0,0]
[{"$f":"Dados!A633","v":"00:00:00"},{"$f":"Dados!B633","v":"00:00:00"},{"$f":"Dados!C633","v":0},0,0,0]
[{"$f":"Dados!A634","v":"00:00:00"},{"$f":"Dados!B634","v":"00:00:00"},{"$f":"Dados!C634","v":0},0,0,0]
[{"$f":"Dados!A635","v":"00:00:00"},{"$f":"Dados!B635","v":"00:00:00"},{"$f":"Dados!C635","v":0},0,0,0]
[{"$f":"Dados!A636","v":"00:00:00"},{"$f":"Dados!B636","v":"00:00:00"},{"$f":"Dados!C636","v":0},0,0,0]
[{"$f":"Dados!A637","v":"00:00:00"},{"$f":"Dados!B637","v":"00:00:00"},{"$f":"Dados!C637","v":0},0,0,0]
[{"$f":"Dados!A638","v":"00:00:00"},{"$f":"Dados!B638","v":"00:00:00"},{"$f":"Dados!C638","v":0},0,0,0]
[{"$f":"Dados!A639","v":"00:00:00"},{"$f":"Dados!B639","v":"00:00:00"},{"$f":"Dados!C639","v":0},0,0,0]
[{"$f":"Dados!A640","v":"00:00:00"},{"$f":"Dados!B640","v":"00:00:00"},{"$f":"Dados!C640","v":0},0,0,0]
[{"$f":"Dados!A641","v":"00:00:00"},{"$f":"Dados!B641","v":"00:00:00"},{"$f":"Dados!C641","v":0},0,0,0]
[{"$f":"Dados!A642","v":"00:00:00"},{"$f":"Dados!B642","v":"00:00:00"},{"$f":"Dados!C642","v":0},0,0,0]
[{"$f":"Dados!A643","v":"00:00:00"},{"$f":"Dados!B643","v":"00:00:00"},{"$f":"Dados!C643","v":0},{"$f":"IF((0.0005*(C643^2)+0.0058*(C643)-0.055)<0,0,IF((0.0005*(C643^2)+0.0058*(C643)-0.055)>1,1,(0.0005*(C643^2)+0.0058*(C643)-0.055)))","v":0},0,0]
[{"$f":"Dados!A644","v":"00:00:00"},{"$f":"Dados!B644","v":"00:00:00"},{"$f":"Dados!C644","v":0},0,0,0]
[{"$f":"Dados!A645","v":"00:00:00"},{"$f":"Dados!B645","v":"00:00:00"},{"$f":"Dados!C645","v":0},0,0,0]
[{"$f":"Dados!A646","v":"00:00:00"},{"$f":"Dados!B646","v":"00:00:00"},{"$f":"Dados!C646","v":0},0,0,0]
[{"$f":"Dados!A647","v":"00:00:00"},{"$f":"Dados!B647","v":"00:00:00"},{"$f":"Dados!C647","v":0},0,0,0]
[{"$f":"Dados!A648","v":"00:00:00"},{"$f":"Dados!B648","v":"00:00:00"},{"$f":"Dados!C648","v":0},0,0,0]
[{"$f":"Dados!A649","v":"00:00:00"},{"$f":"Dados!B649","v":"00:00:00"},{"$f":"Dados!C649","v":0},0,0,0]
[{"$f":"Dados!A650","v":"00:00:00"},{"$f":"Dados!B650","v":"00:00:00"},{"$f":"Dados!C650","v":0},0,0,0]
[{"$f":"Dados!A651","v":"00:00:00"},{"$f":"Dados!B651","v":"00:00:00"},{"$f":"Dados!C651","v":0},0,0,0]
[{"$f":"Dados!A652","v":"00:00:00"},{"$f":"Dados!B652","v":"00:00:00"},{"$f":"Dados!C652","v":0},0,0,0]
[{"$f":"Dados!A653","v":"00:00:00"},{"$f":"Dados!B653","v":"00:00:00"},{"$f":"Dados!C653","v":0},0,0,0]
[{"$f":"Dados!A654","v":"00:00:00"},{"$f":"Dados!B654","v":"00:00:00"},{"$f":"Dados!C654","v":0},0,0,0]
[{"$f":"Dados!A655","v":"00:00:00"},{"$f":"Dados!B655","v":"00:00:00"},{"$f":"Dados!C655","v":0},0,0,0]
[{"$f":"Dados!A656","v":"00:00:00"},{"$f":"Dados!B656","v":"00:00:00"},{"$f":"Dados!C656","v":0},0,0,0]
[{"$f":"Dados!A657","v":"00:00:00"},{"$f":"Dados!B657","v":"00:00:00"},{"$f":"Dados!C657","v":0},0,0,0]
[{"$f":"Dados!A658","v":"00:00:00"},{"$f":"Dados!B658","v":"00:00:00"},{"$f":"Dados!C658","v":0},0,0,0]
[{"$f":"Dados!A659","v":"00:00:00"},{"$f":"Dados!B659","v":"00:00:00"},{"$f":"Dados!C659","v":0},0,0,0]
[{"$f":"Dados!A660","v":"00:00:00"},{"$f":"Dados!B660","v":"00:00:00"},{"$f":"Dados!C660","v":0},0,0,0]
[{"$f":"Dados!A661","v":"00:00:00"},{"$f":"Dados!B661","v":"00:00:00"},{"$f":"Dados!C661","v":0},0,0,0]
[{"$f":"Dados!A662","v":"00:00:00"},{"$f":"Dados!B662","v":"00:00:00"},{"$f":"Dados!C662","v":0},0,0,0]
[{"$f":"Dados!A663","v":"00:00:00"},{"$f":"Dados!B663","v":"00:00:00"},{"$f":"Dados!C663","v":0},0,0,0]
[{"$f":"Dados!A664","v":"00:00:00"},{"$f":"Dados!B664","v":"00:00:00"},{"$f":"Dados!C664","v":0},0,0,0]
[{"$f":"Dados!A665","v":"00:00:00"},{"$f":"Dados!B665","v":"00:00:00"},{"$f":"Dados!C665","v":0},0,0,0]
[{"$f":"Dados!A666","v":"00:00:00"},{"$f":"Dados!B666","v":"00:00:00"},{"$f":"Dados!C666","v":0},0,0,0]
[{"$f":"Dados!A667","v":"00:00:00"},{"$f":"Dados!B667","v":"00:00:00"},{"$f":"Dados!C667","v":0},0,0,0]
[{"$f":"Dados!A668","v":"00:00:00"},{"$f":"Dados!B668","v":"00:00:00"},{"$f":"Dados!C668","v":0},0,0,0]
[{"$f":"Dados!A669","v":"00:00:00"},{"$f":"Dados!B669","v":"00:00:00"},{"$f":"Dados!C669","v":0},0,0,0]
[{"$f":"Dados!A670","v":"00:00:00"},{"$f":"Dados!B670","v":"00:00:00"},{"$f":"Dados!C670","v":0},0,0,0]
[{"$f":"Dados!A671","v":"00:00:00"},{"$f":"Dados!B671","v":"00:00:00"},{"$f":"Dados!C671","v":0},0,0,0]
[{"$f":"Dados!A672","v":"00:00:00"},{"$f":"Dados!B672","v":"00:00:00"},{"$f":"Dados!C672","v":0},0,0,0]
[{"$f":"Dados!A673","v":"00:00:00"},{"$f":"Dados!B673","v":"00:00:00"},{"$f":"Dados!C673","v":0},0,0,0]
[{"$f":"Dados!A674","v":"00:00:00"},{"$f":"Dados!B674","v":"00:00:00"},{"$f":"Dados!C674","v":0},0,0,0]
[{"$f":"Dados!A675","v":"00:00:00"},{"$f":"Dados!B675","v":"00:00:00"},{"$f":"Dados!C675","v":0},0,0,0]
[{"$f":"Dados!A676","v":"00:00:00"},{"$f":"Dados!B676","v":"00:00:00"},{"$f":"Dados!C676","v":0},0,0,0]
[{"$f":"Dados!A677","v":"00:00:00"},{"$f":"Dados!B677","v":"00:00:00"},{"$f":"Dados!C677","v":0},0,0,0]
[{"$f":"Dados!A678","v":"00:00:00"},{"$f":"Dados!B678","v":"00:00:00"},{"$f":"Dados!C678","v":0},0,0,0]
[{"$f":"Dados!A679","v":"00:00:00"},{"$f":"Dados!B679","v":"00:00:00"},{"$f":"Dados!C679","v":0},0,0,0]
[{"$f":"Dados!A680","v":"00:00:00"},{"$f":"Dados!B680","v":"00:00:00"},{"$f":"Dados!C680","v":0},0,0,0]
[{"$f":"Dados!A681","v":"00:00:00"},{"$f":"Dados!B681","v":"00:00:00"},{"$f":"Dados!C681","v":0},0,0,0]
[{"$f":"Dados!A682","v":"00:00:00"},{"$f":"Dados!B682","v":"00:00:00"},{"$f":"Dados!C682","v":0},0,0,0]
[{"$f":"Dados!A683","v":"00:00:00"},{"$f":"Dados!B683","v":"00:00:00"},{"$f":"Dados!C683","v":0},0,0,0]
[{"$f":"Dados!A684","v":"00:00:00"},{"$f":"Dados!B684","v":"00:00:00"},{"$f":"Dados!C684","v":0},0,0,0]
[{"$f":"Dados!A685","v":"00:00:00"},{"$f":"Dados!B685","v":"00:00:00"},{"$f":"Dados!C685","v":0},0,0,0]
[{"$f":"Dados!A686","v":"00:00:00"},{"$f":"Dados!B686","v":"00:00:00"},{"$f":"Dados!C686","v":0},0,0,0]
[{"$f":"Dados!A687","v":"00:00:00"},{"$f":"Dados!B687","v":"00:00:00"},{"$f":"Dados!C687","v":0},0,0,0]
[{"$f":"Dados!A688","v":"00:00:00"},{"$f":"Dados!B688","v":"00:00:00"},{"$f":"Dados!C688","v":0},0,0,0]
[{"$f":"Dados!A689","v":"00:00:00"},{"$f":"Dados!B689","v":"00:00:00"},{"$f":"Dados!C689","v":0},0,0,0]
[{"$f":"Dados!A690","v":"00:00:00"},{"$f":"Dados!B690","v":"00:00:00"},{"$f":"Dados!C690","v":0},0,0,0]
[{"$f":"Dados!A691","v":"00:00:00"},{"$f":"Dados!B691","v":"00:00:00"},{"$f":"Dados!C691","v":0},0,0,0]
[{"$f":"Dados!A692","v":"00:00:00"},{"$f":"Dados!B692","v":"00:00:00"},{"$f":"Dados!C692","v":0},0,0,0]
[{"$f":"Dados!A693","v":"00:00:00"},{"$f":"Dados!B693","v":"00:00:00"},{"$f":"Dados!C693","v":0},0,{"$f":"HOUR(B693)","v":0},{"$f":"MINUTE(B693)","v":0}]
[{"$f":"Dados!A694","v":"00:00:00"},{"$f":"Dados!B694","v":"00:00:00"},{"$f":"Dados!C694","v":0},0,0,0]
[{"$f":"Dados!A695","v":"00:00:00"},{"$f":"Dados!B695","v":"00:00:00"},{"$f":"Dados!C695","v":0},0,0,0]
[{"$f":"Dados!A696","v":"00:00:00"},{"$f":"Dados!B696","v":"00:00:00"},{"$f":"Dados!C696","v":0},0,0,0]
[{"$f":"Dados!A697","v":"00:00:00"},{"$f":"Dados!B697","v":"00:00:00"},{"$f":"Dados!C697","v":0},0,0,0]
[{"$f":"Dados!A698","v":"00:00:00"},{"$f":"Dados!B698","v":"00:00:00"},{"$f":"Dados!C698","v":0},0,0,0]
[{"$f":"Dados!A699","v":"00:00:00"},{"$f":"Dados!B699","v":"00:00:00"},{"$f":"Dados!C699","v":0},0,0,0]
[{"$f":"Dados!A700","v":"00:00:00"},{"$f":"Dados!B700","v":"00:00:00"},{"$f":"Dados!C700","v":0},0,0,0]
[{"$f":"Dados!A701","v":"00:00:00"},{"$f":"Dados!B701","v":"00:00:00"},{"$f":"Dados!C701","v":0},0,0,0]
[{"$f":"Dados!A702","v":"00:00:00"},{"$f":"Dados!B702","v":"00:00:00"},{"$f":"Dados!C702","v":0},0,0,0]
[{"$f":"Dados!A703","v":"00:00:00"},{"$f":"Dados!B703","v":"00:00:00"},{"$f":"Dados!C703","v":0},0,0,0]
[{"$f":"Dados!A704","v":"00:00:00"},{"$f":"Dados!B704","v":"00:00:00"},{"$f":"Dados!C704","v":0},0,0,0]
[{"$f":"Dados!A705","v":"00:00:00"},{"$f":"Dados!B705","v":"00:00:00"},{"$f":"Dados!C705","v":0},0,0,0]
[{"$f":"Dados!A706","v":"00:00:00"},{"$f":"Dados!B706","v":"00:00:00"},{"$f":"Dados!C706","v":0},0,0,0]
[{"$f":"Dados!A707","v":"00:00:00"},{"$f":"Dados!B707","v":"00:00:00"},{"$f":"Dados!C707","v":0},{"$f":"IF((0.0005*(C707^2)+0.0058*(C707)-0.055)<0,0,IF((0.0005*(C707^2)+0.0058*(C707)-0.055)>1,1,(0.0005*(C707^2)+0.0058*(C707)-0.055)))","v":0},0,0]
[{"$f":"Dados!A708","v":"00:00:00"},{"$f":"Dados!B708","v":"00:00:00"},{"$f":"Dados!C708","v":0},0,0,0]
[{"$f":"Dados!A709","v":"00:00:00"},{"$f":"Dados!B709","v":"00:00:00"},{"$f":"Dados!C709","v":0},0,0,0]
[{"$f":"Dados!A710","v":"00:00:00"},{"$f":"Dados!B710","v":"00:00:00"},{"$f":"Dados!C710","v":0},0,0,0]
[{"$f":"Dados!A711","v":"00:00:00"},{"$f":"Dados!B711","v":"00:00:00"},{"$f":"Dados!C711","v":0},0,0,0]
[{"$f":"Dados!A712","v":"00:00:00"},{"$f":"Dados!B712","v":"00:00:00"},{"$f":"Dados!C712","v":0},0,0,0]
[{"$f":"Dados!A713","v":"00:00:00"},{"$f":"Dados!B713","v":"00:00:00"},{"$f":"Dados!C713","v":0},0,0,0]
[{"$f":"Dados!A714","v":"00:00:00"},{"$f":"Dados!B714","v":"00:00:00"},{"$f":"Dados!C714","v":0},0,0,0]
[{"$f":"Dados!A715","v":"00:00:00"},{"$f":"Dados!B715","v":"00:00:00"},{"$f":"Dados!C715","v":0},0,0,0]
[{"$f":"Dados!A716","v":"00:00:00"},{"$f":"Dados!B716","v":"00:00:00"},{"$f":"Dados!C716","v":0},0,0,0]
[{"$f":"Dados!A717","v":"00:00:00"},{"$f":"Dados!B717","v":"00:00:00"},{"$f":"Dados!C717","v":0},0,0,0]
[{"$f":"Dados!A718","v":"00:00:00"},{"$f":"Dados!B718","v":"00:00:00"},{"$f":"Dados!C718","v":0},0,0,0]
[{"$f":"Dados!A719","v":"00:00:00"},{"$f":"Dados!B719","v":"00:00:00"},{"$f":"Dados!C719","v":0},0,0,0]
[{"$f":"Dados!A720","v":"00:00:00"},{"$f":"Dados!B720","v":"00:00:00"},{"$f":"Dados!C720","v":0},0,0,0]
[{"$f":"Dados!A721","v":"00:00:00"},{"$f":"Dados!B721","v":"00:00:00"},{"$f":"Dados!C721","v":0},0,0,0]
[{"$f":"Dados!A722","v":"00:00:00"},{"$f":"Dados!B722","v":"00:00:00"},{"$f":"Dados!C722","v":0},0,0,0]
[{"$f":"Dados!A723","v":"00:00:00"},{"$f":"Dados!B723","v":"00:00:00"},{"$f":"Dados!C723","v":0},0,0,0]
[{"$f":"Dados!A724","v":"00:00:00"},{"$f":"Dados!B724","v":"00:00:00"},{"$f":"Dados!C724","v":0},0,0,0]
[{"$f":"Dados!A725","v":"00:00:00"},{"$f":"Dados!B725","v":"00:00:00"},{"$f":"Dados!C725","v":0},0,0,0]
[{"$f":"Dados!A726","v":"00:00:00"},{"$f":"Dados!B726","v":"00:00:00"},{"$f":"Dados!C726","v":0},0,0,0]
[{"$f":"Dados!A727","v":"00:00:00"},{"$f":"Dados!B727","v":"00:00:00"},{"$f":"Dados!C727","v":0},0,0,0]
[{"$f":"Dados!A728","v":"00:00:00"},{"$f":"Dados!B728","v":"00:00:00"},{"$f":"Dados!C728","v":0},0,0,0]
[{"$f":"Dados!A729","v":"00:00:00"},{"$f":"Dados!B729","v":"00:00:00"},{"$f":"Dados!C729","v":0},0,0,0]
[{"$f":"Dados!A730","v":"00:00:00"},{"$f":"Dados!B730","v":"00:00:00"},{"$f":"Dados!C730","v":0},0,0,0]
[{"$f":"Dados!A731","v":"00:00:00"},{"$f":"Dados!B731","v":"00:00:00"},{"$f":"Dados!C731","v":0},0,0,0]
[{"$f":"Dados!A732","v":"00:00:00"},{"$f":"Dados!B732","v":"00:00:00"},{"$f":"Dados!C732","v":0},0,0,0]
[{"$f":"Dados!A733","v":"00:00:00"},{"$f":"Dados!B733","v":"00:00:00"},{"$f":"Dados!C733","v":0},0,0,0]
[{"$f":"Dados!A734","v":"00:00:00"},{"$f":"Dados!B734","v":"00:00:00"},{"$f":"Dados!C734","v":0},0,0,0]
[{"$f":"Dados!A735","v":"00:00:00"},{"$f":"Dados!B735","v":"00:00:00"},{"$f":"Dados!C735","v":0},0,0,0]
[{"$f":"Dados!A736","v":"00:00:00"},{"$f":"Dados!B736","v":"00:00:00"},{"$f":"Dados!C736","v":0},0,0,0]
[{"$f":"Dados!A737","v":"00:00:00"},{"$f":"Dados!B737","v":"00:00:00"},{"$f":"Dados!C737","v":0},0,0,0]
[{"$f":"Dados!A738","v":"00:00:00"},{"$f":"Dados!B738","v":"00:00:00"},{"$f":"Dados!C738","v":0},0,0,0]
[{"$f":"Dados!A739","v":"00:00:00"},{"$f":"Dados!B739","v":"00:00:00"},{"$f":"Dados!C739","v":0},0,0,0]
[{"$f":"Dados!A740","v":"00:00:00"},{"$f":"Dados!B740","v":"00:00:00"},{"$f":"Dados!C740","v":0},0,0,0]
[{"$f":"Dados!A741","v":"00:00:00"},{"$f":"Dados!B741","v":"00:00:00"},{"$f":"Dados!C741","v":0},0,0,0]
[{"$f":"Dados!A742","v":"00:00:00"},{"$f":"Dados!B742","v":"00:00:00"},{"$f":"Dados!C742","v":0},0,0,0]
[{"$f":"Dados!A743","v":"00:00:00"},{"$f":"Dados!B743","v":"00:00:00"},{"$f":"Dados!C743","v":0},0,0,0]
[{"$f":"Dados!A744","v":"00:00:00"},{"$f":"Dados!B744","v":"00:00:00"},{"$f":"Dados!C744","v":0},0,0,0]
[{"$f":"Dados!A745","v":"00:00:00"},{"$f":"Dados!B745","v":"00:00:00"},{"$f":"Dados!C745","v":0},0,0,0]
[{"$f":"Dados!A746","v":"00:00:00"},{"$f":"Dados!B746","v":"00:00:00"},{"$f":"Dados!C746","v":0},0,0,0]
[{"$f":"Dados!A747","v":"00:00:00"},{"$f":"Dados!B747","v":"00:00:00"},{"$f":"Dados!C747","v":0},0,0,0]
[{"$f":"Dados!A748","v":"00:00:00"},{"$f":"Dados!B748","v":"00:00:00"},{"$f":"Dados!C748","v":0},0,0,0]
[{"$f":"Dados!A749","v":"00:00:00"},{"$f":"Dados!B749","v":"00:00:00"},{"$f":"Dados!C749","v":0},0,0,0]
[{"$f":"Dados!A750","v":"00:00:00"},{"$f":"Dados!B750","v":"00:00:00"},{"$f":"Dados!C750","v":0},0,0,0]
[{"$f":"Dados!A751","v":"00:00:00"},{"$f":"Dados!B751","v":"00:00:00"},{"$f":"Dados!C751","v":0},0,0,0]
[{"$f":"Dados!A752","v":"00:00:00"},{"$f":"Dados!B752","v":"00:00:00"},{"$f":"Dados!C752","v":0},0,0,0]
[{"$f":"Dados!A753","v":"00:00:00"},{"$f":"Dados!B753","v":"00:00:00"},{"$f":"Dados!C753","v":0},0,0,0]
[{"$f":"Dados!A754","v":"00:00:00"},{"$f":"Dados!B754","v":"00:00:00"},{"$f":"Dados!C754","v":0},0,0,0]
[{"$f":"Dados!A755","v":"00:00:00"},{"$f":"Dados!B755","v":"00:00:00"},{"$f":"Dados!C755","v":0},0,0,0]
[{"$f":"Dados!A756","v":"00:00:00"},{"$f":"Dados!B756","v":"00:00:00"},{"$f":"Dados!C756","v":0},0,0,0]

{"sheet":"PLXDAQ_new_Settings","index":5,"n_rows":18,"n_cols":5,"rows_kept":18,"cut":false,"hidden":true,"merged":[[2,4,17,5]]}
[]
[]
[null,"Previous Port:",7,null,"DO NOT CHANGE THIS LAYOUT OR THE MACRO WONT WORK ANYMORE !!!!"]
[null,"Previous Baud:",9600]
[null,"Rst on Connect?:",true]
[null,"Custom Checkbox 1",true]
[null,"Custom Checkbox 2",false]
[null,"Custom Checkbox 3",false]
[null,"Sheet name to use:","Dados_2.11.2019"]
[null,"Log Incoming to DDW:",true]
[null,"Log Outgoing to DDW:",true]
[null,"Log System to DDW:",true]
[null,"Add Timestamp to DDW:",true]
[null,"Custom Form Width:",535.20001220703125]
[null,"#EXPERT-CONFIG# Serial Device Read buffer:",1024]
[null,"#EXPERT-CONFIG# Serial Device Write buffer:",1024]
[null,"#EXPERT-CONFIG# Excel Read buffer size:",1024]
[null,"#EXPERT-CONFIG# Excel interim buffer size:",64]